BEGIN:VCALENDAR
VERSION:2.0
PRODID:-//SPE-Amsterdam - ECPv6.1.3//NONSGML v1.0//EN
CALSCALE:GREGORIAN
METHOD:PUBLISH
X-ORIGINAL-URL:https://www.spe-amsterdam.nl
X-WR-CALDESC:Evenementen voor SPE-Amsterdam
REFRESH-INTERVAL;VALUE=DURATION:PT1H
X-Robots-Tag:noindex
X-PUBLISHED-TTL:PT1H
BEGIN:VTIMEZONE
TZID:Europe/Amsterdam
BEGIN:DAYLIGHT
TZOFFSETFROM:+0100
TZOFFSETTO:+0200
TZNAME:CEST
DTSTART:20240331T010000
END:DAYLIGHT
BEGIN:STANDARD
TZOFFSETFROM:+0200
TZOFFSETTO:+0100
TZNAME:CET
DTSTART:20241027T010000
END:STANDARD
END:VTIMEZONE
BEGIN:VEVENT
DTSTART;TZID=Europe/Amsterdam:20240405T090000
DTEND;TZID=Europe/Amsterdam:20240405T130000
DTSTAMP:20260424T131219
CREATED:20231206T151347Z
LAST-MODIFIED:20231206T151347Z
UID:19966-1712307600-1712322000@www.spe-amsterdam.nl
SUMMARY:Beslisbijeenkomst Speerpunt Tegengaan en Voorkomen van Seksuele Intimidatie en Seksueel Geweld
DESCRIPTION:Meer informatie komt later!
URL:https://www.spe-amsterdam.nl/event/beslisbijeenkomst-speerpunt-tegengaan-en-voorkomen-van-seksuele-intimidatie-en-seksueel-geweld/
END:VEVENT
BEGIN:VEVENT
DTSTART;TZID=Europe/Amsterdam:20240408T163000
DTEND;TZID=Europe/Amsterdam:20240408T170000
DTSTAMP:20260424T131219
CREATED:20240326T144742Z
LAST-MODIFIED:20240326T144742Z
UID:20208-1712593800-1712595600@www.spe-amsterdam.nl
SUMMARY:Chaandraat + Iftar
DESCRIPTION:Henna | Kleding | Sieraden | en meer \nStichting Shafia’s Creativiteit presenteert:\nChaandraat + Iftar.  \nOp 8 April zal vanaf 16:30 in Stadsdeel Oost op de Oranje-Vrijestraat 2 het evenement van Stichting Shafia Creativiteit plaatsvinden. \n 
URL:https://www.spe-amsterdam.nl/event/chaandraat-iftar/
END:VEVENT
BEGIN:VEVENT
DTSTART;TZID=Europe/Amsterdam:20240418T160000
DTEND;TZID=Europe/Amsterdam:20240418T173000
DTSTAMP:20260424T131219
CREATED:20240325T083653Z
LAST-MODIFIED:20240325T083653Z
UID:20194-1713456000-1713461400@www.spe-amsterdam.nl
SUMMARY:Fondsenwervingsborrel Tawa Tawa
DESCRIPTION:Past crowdfunding bij jouw organisatie? Wie heeft ervaring met sponsoring via bedrijven? Welke fondsen hebben passende programma’s voor jou? En wie gebruikt een betaalde database en waarom? Genoeg stof om over door te praten. \nTawa Tawa organiseert een Fondsenwervingsborrel op 18 april van 16:00 tot 17:30 uur. Voor iedereen die te maken heeft met fondsenwerving en die graag\, onder het genot van een hapje en een drankje\, informatie\, tips en nieuwtjes uitwisselt \nMeld je aan en stuur een email naar: marionetman@tawatawa.nl
URL:https://www.spe-amsterdam.nl/event/fondsenwervingsborrel-tawa-tawa/
LOCATION:Lauwerecht 55\, Lauwerecht 55\, Utrecht\, Nederland
END:VEVENT
BEGIN:VEVENT
DTSTART;TZID=Europe/Amsterdam:20240419T130000
DTEND;TZID=Europe/Amsterdam:20240419T130000
DTSTAMP:20260424T131219
CREATED:20231206T144650Z
LAST-MODIFIED:20231206T145234Z
UID:19953-1713531600-1713531600@www.spe-amsterdam.nl
SUMMARY:Deadline Projectaanvraag Zelfbewust Opgroeien
DESCRIPTION:DEADLINE: vrijdag 19 April om 13:00 \nHet doel van dit speerpunt is het bevorderen van zelfbeschikking. Zelfbeschikking betekent dat meisjes en vrouwen hun eigen keuzes kunnen maken en zichzelf kunnen zijn. \nHet speerpunt zelfbewust opgroeien gaat over meisjes en jonge vrouwen. Meisjes kunnen erg kwetsbaar zijn en kunnen hulp nodig hebben om weerbaarder te worden. Dit betekent dat zij beter voor zichzelf op durven te komen en niet over hun eigen grenzen gaan. \nProblemen thuis of op school kunnen leiden tot grote zorgen bij de meisjes die niet altijd zichtbaar zijn. In Amsterdam zien we meisjes die niet de keuze mogen maken die ze zouden willen maken. Bijvoorbeeld omdat hun familie dit niet wil of omdat meisjes bang zijn dat anderen in hun omgeving het een slechte keuze vinden. Ook kunnen zij (seksueel) grensoverschrijdend gedrag tegenkomen en weten ze niet goed hoe ze hier mee om moeten gaan. \nOm te zorgen dat deze meisjes vrouwen worden die weerbaar zijn\, financiert de gemeente Amsterdam via het SPE projecten die gaan over dit thema. De afgelopen jaren zijn er door het SPE al veel verschillende projecten gefinancierd. Zo zijn er projecten opgezet die gaan over het stimuleren van het zelfbeeld\, het bewust maken van de eigen grenzen\, voorlichting geven over seksuele/liefdes relaties en grensoverschrijdend gedrag. Ook het bespreekbaar maken van taboeonderwerpen is een thema dat goed past bij dit speerpunt. Meisjes opvoeden en op laten groeien tot weerbare meiden is\, kortom\, een behoorlijke uitdaging. \nAanvragen moeten voldoen aan onze criteria\, lees deze goed door voor je aan de slag gaat. Voldoet het plan aan de criteria? Volg dan het stappenplan en dien een aanvraag in door een ingevuld aanvraagformulier te mailen naar info@spe-amsterdam.nl. Gebruik de basishandleiding budget uit het speerpuntbudget aanvragen ter ondersteuning.
URL:https://www.spe-amsterdam.nl/event/deadline-projectaanvraag-zelfbewust-opgroeien/
END:VEVENT
BEGIN:VEVENT
DTSTART;TZID=Europe/Amsterdam:20240420T080000
DTEND;TZID=Europe/Amsterdam:20240420T170000
DTSTAMP:20260424T131219
CREATED:20240326T131349Z
LAST-MODIFIED:20240326T131349Z
UID:20206-1713600000-1713632400@www.spe-amsterdam.nl
SUMMARY:NACHT TEGEN SEKSUEEL GEWELD
DESCRIPTION:NACHT TEGEN SEKSUEEL GEWELD\n\n\n\n\nWereldwijd heeft 1 op de 3 vrouwen te maken gehad met seksueel en/of fysiek geweld. Dit is niet normaal en onacceptabel. In de nacht van 20 op 21 april 2024 maken we samen opnieuw een vuist tegen seksueel geweld. Claim daarom samen met Plan International de nacht terug en loop met ons 20 kilometer door Amsterdam. \nGa jij samen met Plan Internationaal en de organisatie nacht tegen seksueel geweld de uitdaging aan om seksueel geweld te stoppen? Loop mee\, laat je sponsoren en haal zoveel mogelijk geld op. \n\nKijk voor meer informatie op: Nacht Tegen Seksueel Geweld
URL:https://www.spe-amsterdam.nl/event/nacht-tegen-seksueel-geweld/
END:VEVENT
BEGIN:VEVENT
DTSTART;TZID=Europe/Amsterdam:20240429T180000
DTEND;TZID=Europe/Amsterdam:20240429T210000
DTSTAMP:20260424T131219
CREATED:20240115T155623Z
LAST-MODIFIED:20240115T155623Z
UID:20037-1714413600-1714424400@www.spe-amsterdam.nl
SUMMARY:Moeder Dochter Events: My Identity
DESCRIPTION:Ontdek het nieuwe programma van Prachtvrouw x Girls Forward\, speciaal ontworpen voor moeders en dochters! Maandelijks organiseren ze\, een uniek Moeder-Dochter evenement met wisselende thema’s. Deze events staan volledig in het teken van het versterken van de band tussen moeder en dochter. Deze maand is het evenement ‘My Identity’. \nMeld je aan door contact op te nemen met Zaitoon (zaitoon@girlsforward.com) of Habiba (stichtingprachtvrouw@gmail.com).
URL:https://www.spe-amsterdam.nl/event/moeder-dochter-events-my-identity/
LOCATION:Dapperhart\, Dapperplein 45\, Amsterdam
END:VEVENT
END:VCALENDAR