BEGIN:VCALENDAR
VERSION:2.0
PRODID:-//SPE-Amsterdam - ECPv6.1.3//NONSGML v1.0//EN
CALSCALE:GREGORIAN
METHOD:PUBLISH
X-WR-CALNAME:SPE-Amsterdam
X-ORIGINAL-URL:https://www.spe-amsterdam.nl
X-WR-CALDESC:Evenementen voor SPE-Amsterdam
REFRESH-INTERVAL;VALUE=DURATION:PT1H
X-Robots-Tag:noindex
X-PUBLISHED-TTL:PT1H
BEGIN:VTIMEZONE
TZID:Europe/Amsterdam
BEGIN:DAYLIGHT
TZOFFSETFROM:+0100
TZOFFSETTO:+0200
TZNAME:CEST
DTSTART:20230326T010000
END:DAYLIGHT
BEGIN:STANDARD
TZOFFSETFROM:+0200
TZOFFSETTO:+0100
TZNAME:CET
DTSTART:20231029T010000
END:STANDARD
BEGIN:DAYLIGHT
TZOFFSETFROM:+0100
TZOFFSETTO:+0200
TZNAME:CEST
DTSTART:20240331T010000
END:DAYLIGHT
BEGIN:STANDARD
TZOFFSETFROM:+0200
TZOFFSETTO:+0100
TZNAME:CET
DTSTART:20241027T010000
END:STANDARD
END:VTIMEZONE
BEGIN:VEVENT
DTSTART;TZID=Europe/Amsterdam:20231122T080000
DTEND;TZID=Europe/Amsterdam:20240222T170000
DTSTAMP:20260424T102955
CREATED:20231127T152419Z
LAST-MODIFIED:20231127T152419Z
UID:19897-1700640000-1708621200@www.spe-amsterdam.nl
SUMMARY:Tentoonstelling 'Wij... doorbreken de cirkel van geweld'
DESCRIPTION:Van woensdag 22 november 2023 tot en met donderdag 22 februari 2024 is in de OBA Waterlandplein de tentoonstelling ‘Wij… doorbreken de cirkel van geweld’ te zien.\nDeze reizende tentoonstelling bestaat uit portretten en verhalen van slachtoffers van huiselijk geweld of kindermishandeling. Maar vooral: over hoe en met hulp van wie ze de cirkel van geweld hebben doorbroken.\nDe portretten zijn gemaakt door Mounir Raji. \nIeder jaar zijn in Nederland 200.000 volwassenen en 119.000 kinderen slachtoffer van huiselijk geweld of kindermishandeling. Van de verhalen in de fototentoonstelling heeft elk verhaal zijn eigen wending. Een ding is zeker: niets doen is geen optie. \nOpeningstijden van OBA Waterlandplein:\n– maandag: 14.00-17.30 uur\n– dinsdag\, woensdag en vrijdag: 9.30-17.30 uur\n– donderdag: 9.30-20.00 uur \n 
URL:https://www.spe-amsterdam.nl/event/tentoonstelling-wij-doorbreken-de-cirkel-van-geweld/
LOCATION:OBA waterlandplein\, waterlandplein 302\, Amsterdam\, Nederland
END:VEVENT
BEGIN:VEVENT
DTSTART;TZID=Europe/Amsterdam:20240201T093000
DTEND;TZID=Europe/Amsterdam:20240201T113000
DTSTAMP:20260424T102955
CREATED:20240123T130048Z
LAST-MODIFIED:20240123T130048Z
UID:20050-1706779800-1706787000@www.spe-amsterdam.nl
SUMMARY:Voorlichting: 'Uw Kind Veilig op Straat'
DESCRIPTION:Op 1 februari organiseren Prachtvrouw en de Gemeente Amsterdam een bijeenkomst waar ze de gemeente\, politie\, jongerenwerkers en andere professionals hebben uitgenodigd om te vertellen wat ze doen om jeugdoverlast te beperken en hoe zij zich inzetten om jongeren een toekomst perspectief te bieden. \nDe bijeenkomst ‘Uw Kind Veilig op Straat’ is georganiseerd om ouders te informeren over wat jeugdoverlast is en wat de risico’s voor de jongeren zijn. \nEntree: Gratis
URL:https://www.spe-amsterdam.nl/event/voorlichting-uw-kind-veilig-op-straat/
LOCATION:Dapperhart\, Dapperplein 45\, Amsterdam
END:VEVENT
BEGIN:VEVENT
DTSTART;TZID=Europe/Amsterdam:20240202T130000
DTEND;TZID=Europe/Amsterdam:20240202T130000
DTSTAMP:20260424T102955
CREATED:20231206T143118Z
LAST-MODIFIED:20231206T143118Z
UID:19937-1706878800-1706878800@www.spe-amsterdam.nl
SUMMARY:Deadline Projectaanvraag Zelfbeschikking
DESCRIPTION:DEADLINE: vrijdag 2 februari om 13:00 \nHet doel van dit speerpunt is het bevorderen van zelfbeschikking. Zelfbeschikking betekent dat meisjes en vrouwen hun eigen keuzes kunnen maken en zichzelf kunnen zijn. \nHet is soms moeilijk om je eigen keuzes te maken. Dit kan bijvoorbeeld te maken hebben met je culturele achtergrond of de mening van je familie of omgeving. Zo kan het zijn dat je een opleiding wil volgen waar je ouders het niet mee eens zijn of dat zij willen kiezen met wie je trouwt. \nAls je onder druk wordt gezet om ja te zeggen tegen de keuzes van je omgeving\, kan dit voor grote problemen zorgen. Zo verkeren mensen in een isolement\, kunnen slachtoffer zijn van huiselijk geweld of krijgen geen hulp omdat ze niemand kennen en geen sociaal vangnet hebben. \nProjecten die zich inzetten op het vergroten van het zelfvertrouwen en zelfbeschikking van vrouwen\, komen in aanmerking om via het SPE gefinancierd te worden. \nAanvragen moeten voldoen aan onze criteria\, \, lees deze goed door voor je aan de slag gaat. Voldoet het plan aan de criteria? Volg dan het stappenplan en dien een aanvraag in door een ingevuld aanvraagformulier te mailen naar info@spe-amsterdam.nl. Gebruik de basishandleiding budget uit het speerpuntbudget aanvragen ter ondersteuning.
URL:https://www.spe-amsterdam.nl/event/deadline-projectaanvraag-zelfbeschikking-2/
END:VEVENT
BEGIN:VEVENT
DTSTART;TZID=Europe/Amsterdam:20240207T100000
DTEND;TZID=Europe/Amsterdam:20240207T120000
DTSTAMP:20260424T102955
CREATED:20240129T095237Z
LAST-MODIFIED:20240129T104740Z
UID:20052-1707300000-1707307200@www.spe-amsterdam.nl
SUMMARY:Themabijeenkomst over arbeidsrechten tijdens ziekte
DESCRIPTION:Op woensdag 7 februari organiseren de Vrouwenrechtswinkel samen met Huis van de Wijk de Banne een themabijeenkomst waar ze vrouwen uitnodigen om meer te leren over hun arbeidsrechten. Want wat betekent het voor uw rechten als u ziek bent of een burn-out hebt? Hoe ziet een re-integratietraject eruit en wat is de rol van de bedrijfsarts? Én wat nou als er op de werkvloer sprake is van pesten\, intimidatie of discriminatie? Tijdens deze bijeenkomst wordt hierover voorlichting geven\, er worden casussen besproken en er is ruimte om vragen te stellen. \nLees hier meer en meld je aan!
URL:https://www.spe-amsterdam.nl/event/themabijeenkomst-over-arbeidsrechten-tijdens-ziekte/
LOCATION:OBA de Banne\, Bezaanjachtplein 249\, Amsterdam\, 1034 CR
END:VEVENT
BEGIN:VEVENT
DTSTART;TZID=Europe/Amsterdam:20240208T130000
DTEND;TZID=Europe/Amsterdam:20240208T173000
DTSTAMP:20260424T102955
CREATED:20231221T145341Z
LAST-MODIFIED:20231221T145341Z
UID:20017-1707397200-1707413400@www.spe-amsterdam.nl
SUMMARY:Heel Amsterdam werkt samen voor veiligheid in huis
DESCRIPTION:In Amsterdam zetten formele hulpverleners\, informele ondersteuners\, vrijwilligers en inwoners zich in voor de preventie en bestrijding van huiselijk geweld en kindermishandeling (HGKM). Na de lancering van het Handboek Samen Sterker tegen Huiselijk Geweld en Kindermishandeling in maart 2021\, is deze onlangs herzien. Netwerken en samenwerkingsverbanden breiden nog altijd verder uit. \nOp 8 februari komen we graag weer samen om het te hebben over het handboek\, het netwerk en de samenwerking voor de Amsterdammer die te maken krijgt met HGKM. \nVoor wie?\nDeze bijeenkomst is voor iedereen die in contact komt met inwoners van Amsterdam en een bijdrage levert – van preventie tot nazorg – in de aanpak tegen huiselijk geweld en kindermishandeling. \nWat?\nOp deze middag staat het behouden\, bevorderen en/of vergroten van uw netwerk centraal. Er is ruimte voor uitwisseling van ervaringen\, kennis en best practices. Nadien weten alle partijen\, formeel en informeel\, elkaar nóg beter te vinden. Daarnaast bespreken we belangrijke thema’s en vormen van geweld zoals seksueel geweld\, digitaal geweld\, intieme terreur & femicide en gender-gerelateerd geweld in een plenair programma en diverse workshops. \nAanmelden?\nMeld je alvast vrijblijvend aan via dit formulier.
URL:https://www.spe-amsterdam.nl/event/heel-amsterdam-werkt-samen-voor-veiligheid-in-huis/
LOCATION:Pakhuis de Zwijger\, Piet Heinkade 179\, Amsterdam\, Noord Holland\, 1019 HC \, Nederland
ORGANIZER;CN="Gemeente%20Amsterdam":MAILTO:Floortje.lauriks@amsterdam.nl
END:VEVENT
BEGIN:VEVENT
DTSTART;TZID=Europe/Amsterdam:20240209T100000
DTEND;TZID=Europe/Amsterdam:20240209T140000
DTSTAMP:20260424T102955
CREATED:20231206T143221Z
LAST-MODIFIED:20231206T143237Z
UID:19939-1707472800-1707487200@www.spe-amsterdam.nl
SUMMARY:Ontwikkelsessie 1
DESCRIPTION:Meer informatie komt later!
URL:https://www.spe-amsterdam.nl/event/ontwikkelsessie-1-2/
END:VEVENT
BEGIN:VEVENT
DTSTART;TZID=Europe/Amsterdam:20240223T090000
DTEND;TZID=Europe/Amsterdam:20240223T130000
DTSTAMP:20260424T102955
CREATED:20231206T150923Z
LAST-MODIFIED:20231206T150936Z
UID:19962-1708678800-1708693200@www.spe-amsterdam.nl
SUMMARY:Beslisbijeenkomst Speerpunt 1
DESCRIPTION:Meer informatie komt later!
URL:https://www.spe-amsterdam.nl/event/beslisbijeenkomst-1/
END:VEVENT
BEGIN:VEVENT
DTSTART;TZID=Europe/Amsterdam:20240226T180000
DTEND;TZID=Europe/Amsterdam:20240226T210000
DTSTAMP:20260424T102955
CREATED:20240115T155319Z
LAST-MODIFIED:20240115T160031Z
UID:20032-1708970400-1708981200@www.spe-amsterdam.nl
SUMMARY:Moeder Dochter Events: Love & More
DESCRIPTION:Ontdek het nieuwe programma van Prachtvrouw x Girls Forward\, speciaal ontworpen voor moeders en dochters! Maandelijks organiseren ze\, een uniek Moeder-Dochter evenement met wisselende thema’s. Deze events staan volledig in het teken van het versterken van de band tussen moeder en dochter. Deze maand is het evenement ‘Love & More’. \nMeld je aan door contact op te nemen met Zaitoon (zaitoon@girlsforward.com) of Habiba (stichtingprachtvrouw@gmail.com).
URL:https://www.spe-amsterdam.nl/event/love-more/
LOCATION:Dapperhart\, Dapperplein 45\, Amsterdam
END:VEVENT
BEGIN:VEVENT
DTSTART;TZID=Europe/Amsterdam:20240226T200000
DTEND;TZID=Europe/Amsterdam:20240226T220000
DTSTAMP:20260424T102955
CREATED:20240226T120946Z
LAST-MODIFIED:20240226T120946Z
UID:20097-1708977600-1708984800@www.spe-amsterdam.nl
SUMMARY:Paint & Sip
DESCRIPTION:ZO=Zuidoost viert de vrouwen van Zuidoost met een Paint & Sip avond op donderdag 9 maart in de Amsterdamse Poort. Sta in verbinding met andere vrouwen terwijl de glazen klinken\, de ontspannende achtergrondmuziek en jij jouw ‘artist for a day’ ervaring opdoet. \nPaint & Sip NL schept een wereld waar creativiteit en gezelligheid samenkomen. Tijdens het schilderen word je begeleid met handige tips om het werk nog mooier uit de verf te laten komen. Schilder en of teken ervaring is niet nodig. Kunstenaar Merete Rigters heeft de schets al voor jou klaar staan. \nInteresse? Lees hier meer!
URL:https://www.spe-amsterdam.nl/event/paint-sip/
END:VEVENT
END:VCALENDAR