BEGIN:VCALENDAR
VERSION:2.0
PRODID:-//SPE-Amsterdam - ECPv6.1.3//NONSGML v1.0//EN
CALSCALE:GREGORIAN
METHOD:PUBLISH
X-WR-CALNAME:SPE-Amsterdam
X-ORIGINAL-URL:https://www.spe-amsterdam.nl
X-WR-CALDESC:Evenementen voor SPE-Amsterdam
REFRESH-INTERVAL;VALUE=DURATION:PT1H
X-Robots-Tag:noindex
X-PUBLISHED-TTL:PT1H
BEGIN:VTIMEZONE
TZID:Europe/Amsterdam
BEGIN:DAYLIGHT
TZOFFSETFROM:+0100
TZOFFSETTO:+0200
TZNAME:CEST
DTSTART:20230326T010000
END:DAYLIGHT
BEGIN:STANDARD
TZOFFSETFROM:+0200
TZOFFSETTO:+0100
TZNAME:CET
DTSTART:20231029T010000
END:STANDARD
BEGIN:DAYLIGHT
TZOFFSETFROM:+0100
TZOFFSETTO:+0200
TZNAME:CEST
DTSTART:20240331T010000
END:DAYLIGHT
BEGIN:STANDARD
TZOFFSETFROM:+0200
TZOFFSETTO:+0100
TZNAME:CET
DTSTART:20241027T010000
END:STANDARD
END:VTIMEZONE
BEGIN:VEVENT
DTSTART;TZID=Europe/Amsterdam:20231122T080000
DTEND;TZID=Europe/Amsterdam:20240222T170000
DTSTAMP:20260424T082020
CREATED:20231127T152419Z
LAST-MODIFIED:20231127T152419Z
UID:19897-1700640000-1708621200@www.spe-amsterdam.nl
SUMMARY:Tentoonstelling 'Wij... doorbreken de cirkel van geweld'
DESCRIPTION:Van woensdag 22 november 2023 tot en met donderdag 22 februari 2024 is in de OBA Waterlandplein de tentoonstelling ‘Wij… doorbreken de cirkel van geweld’ te zien.\nDeze reizende tentoonstelling bestaat uit portretten en verhalen van slachtoffers van huiselijk geweld of kindermishandeling. Maar vooral: over hoe en met hulp van wie ze de cirkel van geweld hebben doorbroken.\nDe portretten zijn gemaakt door Mounir Raji. \nIeder jaar zijn in Nederland 200.000 volwassenen en 119.000 kinderen slachtoffer van huiselijk geweld of kindermishandeling. Van de verhalen in de fototentoonstelling heeft elk verhaal zijn eigen wending. Een ding is zeker: niets doen is geen optie. \nOpeningstijden van OBA Waterlandplein:\n– maandag: 14.00-17.30 uur\n– dinsdag\, woensdag en vrijdag: 9.30-17.30 uur\n– donderdag: 9.30-20.00 uur \n 
URL:https://www.spe-amsterdam.nl/event/tentoonstelling-wij-doorbreken-de-cirkel-van-geweld/
LOCATION:OBA waterlandplein\, waterlandplein 302\, Amsterdam\, Nederland
END:VEVENT
BEGIN:VEVENT
DTSTART;VALUE=DATE:20231125
DTEND;VALUE=DATE:20231211
DTSTAMP:20260424T082020
CREATED:20230203T183840Z
LAST-MODIFIED:20230203T183840Z
UID:19072-1700870400-1702252799@www.spe-amsterdam.nl
SUMMARY:16 Days of Activism
DESCRIPTION:Orange the World
URL:https://www.spe-amsterdam.nl/event/16-days-of-activism/
END:VEVENT
BEGIN:VEVENT
DTSTART;TZID=Europe/Amsterdam:20231203T123000
DTEND;TZID=Europe/Amsterdam:20231203T150000
DTSTAMP:20260424T082020
CREATED:20231027T091458Z
LAST-MODIFIED:20231027T091458Z
UID:19844-1701606600-1701615600@www.spe-amsterdam.nl
SUMMARY:Workshop Afstand en Nabijheid (de 5 V’s)
DESCRIPTION:Stedelijke\, open workshop. Gericht op vrijwilligers en sleutelfiguren die met het thema Huiselijk geweld en kindermishandeling werken. Deze workshop geeft handvatten hoe om te gaan met afstand en nabijheid. Dit is belangrijk voor vrijwilligers en sleutelfiguren die met de thematiek huiselijk geweld en kindermishandeling te maken krijgen. Hoe kun je je eigen grenzen stellen? Hoe kun je huiselijk geweld en/of kindermishandeling signaleren? Hoe verwijs je door? Deze workshop is gebaseerd op de 5 V’s\, ontwikkeld door Stichting Kezban\, en gaat in de kern om veiligheid voor hulpverlener/hulpontvanger. \nInteresse? Meld je aan via info@stichting-kezban.nl
URL:https://www.spe-amsterdam.nl/event/workshop-afstand-en-nabijheid-de-5-vs/
LOCATION:Vrouwecentrum\, Columbusplein 1\, Amsterdam\, Noord-Holland
ORGANIZER;CN="Stichting%20Kezban":MAILTO:info@stichtingkezban.nl
END:VEVENT
BEGIN:VEVENT
DTSTART;TZID=Europe/Amsterdam:20231204T111500
DTEND;TZID=Europe/Amsterdam:20231204T124500
DTSTAMP:20260424T082020
CREATED:20231127T151829Z
LAST-MODIFIED:20231127T151829Z
UID:19894-1701688500-1701693900@www.spe-amsterdam.nl
SUMMARY:Dialoog over eer
DESCRIPTION:Het is een besloten bijeenkomst. Hier zal een gesprek gevoerd worden over eer en eventueel eergerelateerd geweld. Het is open om bij aan te schuiven. Er mogen persoonlijke verhalen gedeeld worden maar ook over wat je in jouw omgeving hebt gezien. In het gesprek gaat het om naar elkaar luisteren en vragen aan elkaar stellen. Er is een gespreksleider\, getraind door Stichting Kezban. \nWe noemen deze manier een socratische gesprekswijze. \nInteresse? Stuur een email naar info@stichting-kezban.nl
URL:https://www.spe-amsterdam.nl/event/dialoog-over-eer/
LOCATION:Huis van de Wijk de Meeuw\, Motorwal 300\, Amsterdam
ORGANIZER;CN="Stichting%20Kezban":MAILTO:info@stichtingkezban.nl
END:VEVENT
BEGIN:VEVENT
DTSTART;TZID=Europe/Amsterdam:20231205T100000
DTEND;TZID=Europe/Amsterdam:20231205T120000
DTSTAMP:20260424T082020
CREATED:20231027T091914Z
LAST-MODIFIED:20231027T091914Z
UID:19846-1701770400-1701777600@www.spe-amsterdam.nl
SUMMARY:Dialoogbijeenkomst gendergerelateerd geweld
DESCRIPTION:Dit is een bijeenkomst voor mensen verbonden aan Nisa voor Nisa. In deze dialoogbijeenkomst maken we gender gerelateerd geweld bespreekbaar. Er wordt ingegaan op; wat is gender gerelateerd geweld? Heb je dit in je omgeving gezien? Het doel is om hier met elkaar over te spreken\, van elkaar te leren en vragen aan elkaar te durven stellen. \nInteresse? Meld je aan via info@stichting-kezban.nl
URL:https://www.spe-amsterdam.nl/event/dialoogbijeenkomst-gendergerelateerd-geweld/
LOCATION:Chris Lebaustraat 4\, Chris Lebaustraat 4\, Amsterdam
ORGANIZER;CN="Stichting%20Kezban":MAILTO:info@stichtingkezban.nl
END:VEVENT
BEGIN:VEVENT
DTSTART;TZID=Europe/Amsterdam:20231206T140000
DTEND;TZID=Europe/Amsterdam:20231206T170000
DTSTAMP:20260424T082020
CREATED:20231017T113052Z
LAST-MODIFIED:20231017T113052Z
UID:19765-1701871200-1701882000@www.spe-amsterdam.nl
SUMMARY:Workshop: Mannenemancipatie voor een veiliger Amsterdam
DESCRIPTION:In deze workshop Geleid door Emancipator word er in  gesprek gegaan met elkaar\, over waarom we juist ook jongens en mannen willen betrekken bij het veiliger maken van onze stad en onze buurten. Jongens en mannen kunnen zo’n belangrijk onderdeel van de oplossing zijn. Hoe\, dat gaan we samen bespreken en onderzoeken. Wat kan jij meteen doen na deze workshop\, zelf als man\, of in jouw contact met jongens en mannen? \nInteresse? Meld je aan via de website!
URL:https://www.spe-amsterdam.nl/event/workshop-mannenemancipatie-voor-een-veiliger-amsterdam/
LOCATION:De Meervaart\, Amsterdam
END:VEVENT
BEGIN:VEVENT
DTSTART;TZID=Europe/Amsterdam:20231206T170000
DTEND;TZID=Europe/Amsterdam:20231206T190000
DTSTAMP:20260424T082020
CREATED:20231027T092738Z
LAST-MODIFIED:20231027T092738Z
UID:19848-1701882000-1701889200@www.spe-amsterdam.nl
SUMMARY:Filmvertoning: Femicide
DESCRIPTION:Een aangrijpende documentaire over vrouwenmoord\, waarin nabestaanden hun verhaal vertellen en het taboe rondom femicide wordt doorbroken. \nInteresse? Meld je aan via whatsapp: 06 – 84 81 53 67.
URL:https://www.spe-amsterdam.nl/event/filmvertoning-femicide/
LOCATION:Jan de Louterstraat 15\, Amsterdam\, Jan de Louterstraat 15\, Amsterdam\, Noord-Holland\, 1063XX\, Nederland
END:VEVENT
BEGIN:VEVENT
DTSTART;TZID=Europe/Amsterdam:20231208T093000
DTEND;TZID=Europe/Amsterdam:20231208T130000
DTSTAMP:20260424T082020
CREATED:20231127T154654Z
LAST-MODIFIED:20231127T154654Z
UID:19912-1702027800-1702040400@www.spe-amsterdam.nl
SUMMARY:Inspiratiebijeenkomst
DESCRIPTION:Op 8 december organiseert Buurvrouwennetwerk Gaasperdam en partners van alliantie Samen Sterk met Werk een inspiratiebijeenkomst. Ze vieren en delen de opbrengsten van ruim twee jaar intensief samenwerken aan empowerment van Amsterdamse vrouwen richting de arbeidsmarkt. \nHoor meer over de successen en uitdagingen van ons stedelijke samenwerking. Doe kennis op over de resultaten en impact\, laat je inspireren door de verhalen van ambassadeurs en deelnemers. Tijdens de workshops maak je kennis met een aantal methodes. \nInteresse?  Schrijf je hier in voor de bijeenkomst op 8/12/2023 (google.com)
URL:https://www.spe-amsterdam.nl/event/inspiratiebijeenkomst/
LOCATION:Vrouw en Vaart\, President Allendelaan 733\, Amsterdam
END:VEVENT
BEGIN:VEVENT
DTSTART;VALUE=DATE:20231210
DTEND;VALUE=DATE:20231211
DTSTAMP:20260424T082020
CREATED:20230203T184001Z
LAST-MODIFIED:20230203T184001Z
UID:19074-1702166400-1702252799@www.spe-amsterdam.nl
SUMMARY:Mensenrechtendag
DESCRIPTION:
URL:https://www.spe-amsterdam.nl/event/mensenrechtendag-2/
END:VEVENT
BEGIN:VEVENT
DTSTART;TZID=Europe/Amsterdam:20231211T200000
DTEND;TZID=Europe/Amsterdam:20231211T220000
DTSTAMP:20260424T082020
CREATED:20231027T090404Z
LAST-MODIFIED:20231027T090404Z
UID:19841-1702324800-1702332000@www.spe-amsterdam.nl
SUMMARY:Buiten beeld: 66 jaar onafhankelijkheid Afrika
DESCRIPTION:Op 6 maart 1957 won Goudkust de vrijheidsstrijd tegen zijn laatste kolonisator Groot-Brittannië – en zo werd het huidige Ghana het eerste onafhankelijke land van Sub-Sahara-Afrika. Daarna volgde de rest van het continent in rap tempo. Nu\, 66 jaar later\, lopen deze landen in veel opzichten nog altijd achter\, of lopen ze aan de leiband van de oude kolonisator. \nJuist in deze tijd van nepnieuws en desinformatie presenteert de Rode Hoed met trots Buiten Beeld: 66 jaar onafhankelijk Afrika? Experts en correspondenten discussiëren over de voornaamste kwesties die het nieuws uit het continent domineren. We zullen onze blik laten vormen en luisteren naar wat de uitdagingen in het veld zijn. De presentatie is in handen van Alberta Opoku. \nInteresse? Meld haal je tickets via de website!
URL:https://www.spe-amsterdam.nl/event/buiten-beeld-66-jaar-onafhankelijkheid-afrika/
LOCATION:Rode Hoed\, Keizersgracht 102\, Amsterdam\, Noord-Holland\, 1015CV\, Nederland
ORGANIZER;CN="rode%20hoed":MAILTO:info@rodehoed.nl
END:VEVENT
BEGIN:VEVENT
DTSTART;TZID=Europe/Amsterdam:20231213T101500
DTEND;TZID=Europe/Amsterdam:20231213T114500
DTSTAMP:20260424T082020
CREATED:20231017T120058Z
LAST-MODIFIED:20231017T120058Z
UID:19775-1702462500-1702467900@www.spe-amsterdam.nl
SUMMARY:Rondleiding Vrouwelijke blik in het Stedelijk Museum
DESCRIPTION:Interactieve rondleiding door de vaste collectie\nIn deze interactieve rondleiding in het Stedelijk Museum georganiseerd door de VrijeAcademie gaan we op zoek gaan naar ‘the female gaze’. Dit is een concept dat wordt gebruikt als tegenhanger van ‘the male gaze’. Het werk van vrouwelijke kunstenaars is onderbelicht in de kunstgeschiedenis. Het Stedelijk heeft daar de laatste jaren verandering in gebracht. Wat houdt the female gaze in en wat is de male gaze? Wat is de visie van de vrouwelijke kunstenaars in de moderne en hedendaagse kunst\, zoals bijvoorbeeld Zanele Muholi en Yayoi Kusama*? \nInteresse? Meld je aan via de website!
URL:https://www.spe-amsterdam.nl/event/rondleiding-vrouwelijke-blik-in-het-stedelijk-museum/
LOCATION:Stedelijk Museum\, Museumplein 10\, Amsterdam\, Noord-Holland\, 1071DJ\, Nederland
ORGANIZER;CN="VrijeAcademie":MAILTO:info@vrijeacademie
END:VEVENT
BEGIN:VEVENT
DTSTART;TZID=Europe/Amsterdam:20231213T133000
DTEND;TZID=Europe/Amsterdam:20231213T153000
DTSTAMP:20260424T082020
CREATED:20231127T153353Z
LAST-MODIFIED:20231127T153353Z
UID:19907-1702474200-1702481400@www.spe-amsterdam.nl
SUMMARY:Kintsugi Workshop
DESCRIPTION:Tijdens deze workshop naar aanleiding van het project ‘Voltooid Herstelde Tijd’ repareer je samen met kunstenaar Lara van Gaalen een gebroken tegeltje. We lijmen de scherven aan elkaar en herstellen de barsten met goud. Terwijl we dit doen praten we\, in het kader van de weken zonder geweld\, over trauma\, veerkracht\, herstel en eigenwaarde. \nDe Japanse kunstvorm Kintsukuroi gaat er van uit dat er schoonheid zit in dat wat simpel\, onpretentieus en gerijpt is. Beschadigde goederen zouden niet moeten worden weggegooid\, ze hebben recht op aandacht en respect en kunnen met zorg en liefde worden gerepareerd. Dat wat geldt voor objecten\, geldt ook voor mensen. \n  \nInteresse? Meld je aan via l.schimmel@soozamsterdam.nl
URL:https://www.spe-amsterdam.nl/event/kintsugi-workshop/
LOCATION:Huis van de Wijk Olympus\, Olympiaweg 29\, Amsterdam\, Nederland
END:VEVENT
BEGIN:VEVENT
DTSTART;TZID=Europe/Amsterdam:20231213T200000
DTEND;TZID=Europe/Amsterdam:20231213T220000
DTSTAMP:20260424T082020
CREATED:20231017T112144Z
LAST-MODIFIED:20231017T112144Z
UID:19761-1702497600-1702504800@www.spe-amsterdam.nl
SUMMARY:Marion Bloem: Op zoek naar de meisjes
DESCRIPTION:De viering van 50 jaar schrijverschap.\nIn 1983 gaf ze met haar internationale succesdebuut Geen gewoon Indisch meisje de tweede generatie Indische Nederlands een stem. Vorig jaar sloot ze haar drieluik af met de roman Meisjes uit het dorp (2022). Marion Bloem is al 50 jaar een van de meest toonaangevende schrijvers van Nederland. Deze avond vieren ze bij de Balie haar oeuvre met muziek\, voordracht en literaire gesprekken. \nInteresse? Meld je aan via de website!
URL:https://www.spe-amsterdam.nl/event/marion-bloem-op-zoek-naar-de-meisjes/
LOCATION:De Balie\, Kleine-Gartmanplantsoen 10\, Amsterdam\, Noord Holland\, 1017 RR\, Nederland
END:VEVENT
BEGIN:VEVENT
DTSTART;TZID=Europe/Amsterdam:20231218T173000
DTEND;TZID=Europe/Amsterdam:20231218T210000
DTSTAMP:20260424T082020
CREATED:20231211T082120Z
LAST-MODIFIED:20231211T082120Z
UID:19976-1702920600-1702933200@www.spe-amsterdam.nl
SUMMARY:Moeder-Dochter Bingo-evenement
DESCRIPTION:Dit jaar organiseert Girls Forward in samenwerking met Prachtvrouw het moeder-dochter bingo-evenement. De avond vindt plaats op 18 december in het gezellige Dapperhuis\, gelegen aan de Eerste Van Swindenstraat 511. Tijdens deze speciale dag staat de band tussen moeder en dochter centraal\, en het programma is met boeiende workshops en creatieve activiteiten samengesteld. Het belooft een avond vol plezier\, lachen en het versterken van jullie unieke band te worden. \nLeeftijd: 15 + \nInteresse? Lees hier meer!
URL:https://www.spe-amsterdam.nl/event/moeder-dochter-bingo-evenement/
LOCATION:dapperhuis\, Eerste van Swindestraat 511\, Amsterdam
ORGANIZER;CN="Girls%20Forward":MAILTO:info@girlsforward.com
END:VEVENT
BEGIN:VEVENT
DTSTART;TZID=Europe/Amsterdam:20231219T200000
DTEND;TZID=Europe/Amsterdam:20231219T200000
DTSTAMP:20260424T082020
CREATED:20231027T085647Z
LAST-MODIFIED:20231027T085647Z
UID:19837-1703016000-1703016000@www.spe-amsterdam.nl
SUMMARY:Na de komma: 1 jaar na de excuses
DESCRIPTION:Op 19 december 2022 bood minister-president Mark Rutte vrij plotseling officiële excuses aan voor het Nederlands slavernijverleden. Een historisch moment waar veel activisten en grassroots organisaties decennialang voor hebben gestreden. Met de woorden geen punt\, maar een komma benadrukte Rutte dat met verontschuldigingen het verleden niet wordt afgesloten\, maar juist een doorlopend verhaal blijft. \nPrecies één jaar later nodigt de Balie je uit om samen terug te blikken op wat er na de excuses is gebeurd. Hoe zorgen we dat de excuses meer zijn dan een betuiging van schuld? Worden de excuses verbonden aan concrete maatregelen en herstelbetalingen? Wat komt er na de komma? \nInteresse? Haal je tickets via de website!
URL:https://www.spe-amsterdam.nl/event/na-de-komma-1-jaar-na-de-excuses/
LOCATION:De Balie\, Kleine-Gartmanplantsoen 10\, Amsterdam\, Noord Holland\, 1017 RR\, Nederland
END:VEVENT
END:VCALENDAR