BEGIN:VCALENDAR
VERSION:2.0
PRODID:-//SPE-Amsterdam - ECPv6.1.3//NONSGML v1.0//EN
CALSCALE:GREGORIAN
METHOD:PUBLISH
X-WR-CALNAME:SPE-Amsterdam
X-ORIGINAL-URL:https://www.spe-amsterdam.nl
X-WR-CALDESC:Evenementen voor SPE-Amsterdam
REFRESH-INTERVAL;VALUE=DURATION:PT1H
X-Robots-Tag:noindex
X-PUBLISHED-TTL:PT1H
BEGIN:VTIMEZONE
TZID:Europe/Amsterdam
BEGIN:DAYLIGHT
TZOFFSETFROM:+0100
TZOFFSETTO:+0200
TZNAME:CEST
DTSTART:20230326T010000
END:DAYLIGHT
BEGIN:STANDARD
TZOFFSETFROM:+0200
TZOFFSETTO:+0100
TZNAME:CET
DTSTART:20231029T010000
END:STANDARD
END:VTIMEZONE
BEGIN:VEVENT
DTSTART;TZID=Europe/Amsterdam:20230902T120000
DTEND;TZID=Europe/Amsterdam:20230902T190000
DTSTAMP:20260424T050535
CREATED:20230717T083718Z
LAST-MODIFIED:20230717T083718Z
UID:19566-1693656000-1693681200@www.spe-amsterdam.nl
SUMMARY:Indische Buurtfestival
DESCRIPTION:Ook dit jaar is het er weer: het Indische Buurt Festival! Een dag vol informatie\, cultuur en eten & drinken uit jouw eigen wijk op zaterdag 2 september van 12.00 – 19.00 in de Javastraat in Amsterdam Oost. Live bands\, bewonersinitiatieven\, beeldende kunst\, sport en spel en theater. Het thema is dit jaar: De Buurt Laat Je Niet Los! \nTijdens dit festival staan de lokale bewonersinitiatieven weer centraal. De Indische Buurt is trots op deze bewonersinitiatieven. Zij zorgen voor het extra vangnet voor hen die het moeilijk hebben. Want solidariteit\, daar draait het meer dan ooit om in 2023. Meedoen moet voor iedereen mogelijk zijn. In crisistijden komt deze sociale waarde het eerst onder druk te staan. Bewonersinitiatieven bewaken deze waarde. Dat vieren wij elk jaar met een bruisend cultureel festival! \nWat is er te doen op het festival? \nDe initiatievenmarkt in de Javastraat trekt altijd veel bezoekers. Naast dat je je daar kunt laten vertellen wat de wijk allemaal aan moois te bieden heeft in het seizoen 2023-2024 kan je onder andere genieten van geweldige muziekacts als Imagine\, Cut2TheBone en DJ Gatinha (JavaPodium\, kruising Javastraat – Sumatrastraat) en een drankje doen bij de IJ-bar. \nOf ga je voor The Human Jukebox van Bob Color\, een salsademonstratie\, theater of een sambaband? Ga dan naar het Cultopiapodium (t.h.v. Javastraat 110)! \nBeeldende kunst bekijken? Dat kan in de KunstStraat (Sumatrastraat). \nDe ondernemers van de Javastraat zorgen voor heerlijk eten en drinken voor hun deur. \nEn het Kidsplein biedt de kleinsten het huttendorp van Jeugdland\, sport & spel met Stichting BIGS en theater met Meneer Boom. Voor elk wat wils dus! \nKijk voor meer informatie op Home – Indische Buurt Festival \n 
URL:https://www.spe-amsterdam.nl/event/indische-buurtfestival/
END:VEVENT
BEGIN:VEVENT
DTSTART;TZID=Europe/Amsterdam:20230905T120000
DTEND;TZID=Europe/Amsterdam:20230905T130000
DTSTAMP:20260424T050535
CREATED:20230703T152816Z
LAST-MODIFIED:20230703T152842Z
UID:19559-1693915200-1693918800@www.spe-amsterdam.nl
SUMMARY:Intergenerationele overdracht webinar
DESCRIPTION:Multiproblematiek wordt regelmatig overgedragen van generatie op generatie\, de zogenoemde intergenerationele overdracht. Denk aan de rol van intergenerationele overdracht van psychische en verslavingsproblematiek\, criminaliteit\, maar bijvoorbeeld ook de sociaal economische positie en armoede. Het gezamenlijk aanpakken van multiproblematiek is niet alleen helpend voor het gezin en de omgeving\, maar helpt ook de vicieuze cirkel te doorbreken en problemen écht te stoppen. Maar hoe doe je dat dan? Hoe kan je in de praktijk preventief ondersteuning bieden? In de webinar sta je daar samen met specialisten bij stil. \n\nAanmelden\nTwee weken na de webinar\, op donderdag 21 september van 12 tot 13 uur\, vindt er een online vragenuurtje plaats. Je moet je voor de webinar en het vragenuurtje apart aanmelden. \nJe kan meer informatie vinden en je aanmelden via Intergenerationele overdracht: Platform Multiproblematiek
URL:https://www.spe-amsterdam.nl/event/19559/
END:VEVENT
BEGIN:VEVENT
DTSTART;TZID=Europe/Amsterdam:20230913T190000
DTEND;TZID=Europe/Amsterdam:20230913T210000
DTSTAMP:20260424T050535
CREATED:20230717T123549Z
LAST-MODIFIED:20230717T123556Z
UID:19570-1694631600-1694638800@www.spe-amsterdam.nl
SUMMARY:gratis budgetcursus In.Kas
DESCRIPTION:Doe je ook mee met de gratis budgetcursus In.Kas in Amsterdam? \nIn 10 lessen ga je aan de slag met: \n\nfinanciële doelen stellen\nInzicht in inkomsten en uitgaven\nkasboek bijhouden\nbespaartips\nvoorzieningen in Amsterdam\nenergielasten\nonverwachte uitgaven\nverkooptactiek\n\nDe 10 lessen zijn elke woensdag van 19.00-21.00 en starten 13 september. \nHeb je interesse kijk op Home | Inkas \nMeld je aan via Gianni: 0616251995 of via Margriet: 0617412820 of m.valkman@diaconie.org
URL:https://www.spe-amsterdam.nl/event/gratis-budgetcursus-in-kas/
LOCATION:eltheto\, javastraat 118\, amsterdam
ATTACH;FMTTYPE=image/jpeg:https://www.spe-amsterdam.nl/wp-content/uploads/2023/07/Afbeelding-van-WhatsApp-op-2023-07-17-om-09.55.33.jpg
END:VEVENT
BEGIN:VEVENT
DTSTART;VALUE=DATE:20230921
DTEND;VALUE=DATE:20230922
DTSTAMP:20260424T050535
CREATED:20230915T081759Z
LAST-MODIFIED:20230915T081759Z
UID:19627-1695254400-1695340799@www.spe-amsterdam.nl
SUMMARY:Internationale dag van de vrede
DESCRIPTION:De ‘Internationale Dag van de Vrede’ (International Day of Peace) is een door de Verenigde Naties uitgeroepen jaarlijkse dag op 21 september voor aandacht voor de vrede. Het doel is een wereldwijde dag van wapenstilstand en geweldloosheid.
URL:https://www.spe-amsterdam.nl/event/internationale-dag-van-de-vrede/
END:VEVENT
BEGIN:VEVENT
DTSTART;TZID=Europe/Amsterdam:20230922T130000
DTEND;TZID=Europe/Amsterdam:20230922T130000
DTSTAMP:20260424T050535
CREATED:20230203T181930Z
LAST-MODIFIED:20230830T144012Z
UID:19056-1695387600-1695387600@www.spe-amsterdam.nl
SUMMARY:Deadline Projectaanvraag Jongens en mannenemancipatie
DESCRIPTION:DEADLINE: vrijdag 22 september om 13:00 \nDe emancipatie van vrouwen is niet enkel een vrouwenzaak\, mannen en jongens hebben hier een belangrijke rol in. Dit kan door zelf een andere positie in te (durven) nemen in het gezin\, op de werkvloer\, op straat of in de klas. \nTradities\, stereotype ideeën over man-vrouw rollen en sociale druk kunnen ervoor zorgen dat meisjes en vrouwen niet de keuzes kunnen maken die ze zouden willen maken.\nDaarom steunt het SPE ook initiatieven voor en door mannen die bijdragen aan de emancipatie van meisjes en vrouwen in Amsterdam. Dit kan gaan om projecten waarbij (door mannelijke rolmodellen) gesprekken met vaders\, jongens en/of mannen worden aangegaan. Mogelijke thema’s zijn de taakverdeling in het gezin\, grensoverschrijdend (seksueel) gedrag en taboes die de emancipatie van meisjes en vrouwen in de weg zitten. \nOrganisaties die zich richten op de emancipatie van jongens & mannen kunnen via het SPE worden gefinancierd. Projecten kunnen zich onder andere richten op mannen\, jongens en vaders. Het SPE stimuleert het betrekken van vrouwen bij deze projecten! \nAanvragen moeten voldoen aan onze criteria\, lees deze goed door voor je aan de slag gaat. Voldoet het plan aan de criteria? Volg dan het stappenplan en dien een aanvraag in door een ingevuld aanvraagformulier te mailen naarinfo@spe-amsterdam.nl. Gebruik de basishandleiding budget uit het speerpuntbudget aanvragen ter ondersteuning.
URL:https://www.spe-amsterdam.nl/event/deadline-projectaanvraag-jongens-en-mannenemancipatie/
END:VEVENT
BEGIN:VEVENT
DTSTART;TZID=Europe/Amsterdam:20230926T174500
DTEND;TZID=Europe/Amsterdam:20230926T174500
DTSTAMP:20260424T050535
CREATED:20230915T080300Z
LAST-MODIFIED:20230915T080300Z
UID:19623-1695750300-1695750300@www.spe-amsterdam.nl
SUMMARY:Week Tegen Racisme: Meetup & Brainstorm
DESCRIPTION:Pakhuis de Zwijger organiseert een informatiebijeenkomst en meet-up waarin ze iedereen de gelegenheid geven om mee te denken en/of feedback te geven op de programmering van de Week Tegen Racisme in 2024. Het programma zal worden samengesteld op basis van de Open Call die is uitgezet en loopt t/m 31 oktober 2023. Daarna zal er gelegenheid zijn om te reageren\, vragen te stellen en zelf een programmavoorstel aan te dragen. Ook ontmoet je andere betrokken Amsterdammers en grassroots organisaties tijdens de bijeenkomst.
URL:https://www.spe-amsterdam.nl/event/week-tegen-racisme-meetup-brainstorm/
LOCATION:Pakhuis de Zwijger\, Piet Heinkade 179\, Amsterdam\, Noord Holland\, 1019 HC \, Nederland
END:VEVENT
BEGIN:VEVENT
DTSTART;TZID=Europe/Amsterdam:20230929T100000
DTEND;TZID=Europe/Amsterdam:20230929T140000
DTSTAMP:20260424T050535
CREATED:20230203T183525Z
LAST-MODIFIED:20230203T183525Z
UID:19065-1695981600-1695996000@www.spe-amsterdam.nl
SUMMARY:Kennissessie 2
DESCRIPTION:
URL:https://www.spe-amsterdam.nl/event/kennissessie-2/
END:VEVENT
END:VCALENDAR