BEGIN:VCALENDAR
VERSION:2.0
PRODID:-//SPE-Amsterdam - ECPv6.1.3//NONSGML v1.0//EN
CALSCALE:GREGORIAN
METHOD:PUBLISH
X-WR-CALNAME:SPE-Amsterdam
X-ORIGINAL-URL:https://www.spe-amsterdam.nl
X-WR-CALDESC:Evenementen voor SPE-Amsterdam
REFRESH-INTERVAL;VALUE=DURATION:PT1H
X-Robots-Tag:noindex
X-PUBLISHED-TTL:PT1H
BEGIN:VTIMEZONE
TZID:Europe/Amsterdam
BEGIN:DAYLIGHT
TZOFFSETFROM:+0100
TZOFFSETTO:+0200
TZNAME:CEST
DTSTART:20230326T010000
END:DAYLIGHT
BEGIN:STANDARD
TZOFFSETFROM:+0200
TZOFFSETTO:+0100
TZNAME:CET
DTSTART:20231029T010000
END:STANDARD
END:VTIMEZONE
BEGIN:VEVENT
DTSTART;TZID=Europe/Amsterdam:20230408T190000
DTEND;TZID=Europe/Amsterdam:20230408T213000
DTSTAMP:20260423T231849
CREATED:20230331T095326Z
LAST-MODIFIED:20230331T095326Z
UID:19278-1680980400-1680989400@www.spe-amsterdam.nl
SUMMARY:Voorstelling: Rebel op Verhalen Plaza Festival
DESCRIPTION:Naïma Baraka speelt haar solovoorstelling Rebel op het Verhalen Plaza Festival op Podium NOORD in Den Haag. In de voorstelling neemt Naïma Baraka ons mee door haar wereld waarin ze wordt geconfronteerd met de beperkingen van de omgeving\, cultuur en verwachtingen. Hoe je het kunt overwinnen\, je eigen weg kunt gaan en je verlangens en dromen kunt volgen. Rebel is een inspiratie voor iedereen\, en vooral voor jongere vrouwen die hun authentieke pad willen volgen. \nMaar dat is niet alles! In samenwerking met ZID theater heeft Podium NOORD een jaar lang Verhalen Plaza workshops georganiseerd in de wijken van Haagse Hout\, waarbij bewoners leerden verhalen vertellen en uitbeelden. Het Verhalen Plaza Festival is de afsluiting waarin alles samenkomt: een expositie van de kunstenaars die tijdens de workshops geschilderd hebben\, 2 prachtige voorstellingen en de verhalen van de wijkbewoners
URL:https://www.spe-amsterdam.nl/event/voorstelling-rebel-op-verhalen-plaza-festival/
LOCATION:Podium NOORD\, Diamanthorst 183\, Den Haag
ORGANIZER;CN="ZID%20Theater":MAILTO:info@zidtheater.nl
END:VEVENT
BEGIN:VEVENT
DTSTART;TZID=Europe/Amsterdam:20230408T193000
DTEND;TZID=Europe/Amsterdam:20230408T213000
DTSTAMP:20260423T231849
CREATED:20230329T091929Z
LAST-MODIFIED:20230329T091929Z
UID:19272-1680982200-1680989400@www.spe-amsterdam.nl
SUMMARY:𝐈𝐟𝐭𝐚𝐫 𝐛𝐢𝐣 𝐀𝐬𝐬𝐚𝐝𝐚𝐚𝐤𝐚 𝐂𝐨𝐦𝐦𝐮𝐧𝐢𝐭𝐲
DESCRIPTION:De Ramadan is een tijd van bezinning\, saamhorigheid en verbondenheid met elkaar. Het is een bijzondere tijd\, maar voor sommige buurtbewoners ook juist een moeilijke tijd.\n\n\nEenzaamheid niet makkelijk om te doorbreken. Evenals de schaamte over die eenzaamheid of over armoede. Het is juist nu tijdens de vastenperiode extra belangrijk om er als buurtbewoners voor elkaar te zijn en om voor elkaar te zorgen.\n\n\nAssadaaka Community organiseert een Buurt Iftar op zaterdag 8 april waar zij graag iedereen van harte welkom heten. Er is muziek\, een heerlijke en gezonde maaltijd en veel gezelligheid!\n\n\n\n\n\nWil je komen\, meld je dan aan via: assadaaka@gmail.com of bel naar 06-47440672
URL:https://www.spe-amsterdam.nl/event/%f0%9d%90%88%f0%9d%90%9f%f0%9d%90%ad%f0%9d%90%9a%f0%9d%90%ab-%f0%9d%90%9b%f0%9d%90%a2%f0%9d%90%a3-%f0%9d%90%80%f0%9d%90%ac%f0%9d%90%ac%f0%9d%90%9a%f0%9d%90%9d%f0%9d%90%9a%f0%9d%90%9a%f0%9d%90%a4/
LOCATION:Assadaaka Community\, Polderweg 300\, Wethouder Verheijhal\, 1e etage\, Amsterdam\, Noord-Holland\, 1093 KP\, Nederland
ORGANIZER;CN="Vriendschap%20Community%20Assadaaka":MAILTO:www.assadaaka.nl
END:VEVENT
BEGIN:VEVENT
DTSTART;TZID=Europe/Amsterdam:20230411T173000
DTEND;TZID=Europe/Amsterdam:20230411T203000
DTSTAMP:20260423T231849
CREATED:20230407T123059Z
LAST-MODIFIED:20230407T123059Z
UID:19308-1681234200-1681245000@www.spe-amsterdam.nl
SUMMARY:Iftar Girls Forward
DESCRIPTION:Girls Forward host op 11 april een Iftar voor 12+ meiden.
URL:https://www.spe-amsterdam.nl/event/iftar-girls-forward/
LOCATION:Tweede Oosterparkstraat 33\, Tweede Oosterparkstraat 33\, Amsterdam
ATTACH;FMTTYPE=image/png:https://www.spe-amsterdam.nl/wp-content/uploads/2023/04/GirlsForward.png
ORGANIZER;CN="Girls%20Forward":MAILTO:info@girlsforward.com
END:VEVENT
BEGIN:VEVENT
DTSTART;TZID=Europe/Amsterdam:20230416T153000
DTEND;TZID=Europe/Amsterdam:20230416T161000
DTSTAMP:20260423T231849
CREATED:20230320T141308Z
LAST-MODIFIED:20230323T090752Z
UID:19243-1681659000-1681661400@www.spe-amsterdam.nl
SUMMARY:Evenement tip: theatervoorstelling ‘Bedankt voor het luisteren!’ 
DESCRIPTION:Op 16 april zal de solovoorstelling ‘Bedankt voor het luisteren!’ plaatsvinden. Het is een voorstelling die je mee neemt in het zoeken naar een verbinding tussen geaardheid en religie. De schrijver en acteur is Wouter Haaksema\, een student aan het PACT+ Theater in Amsterdam. Als schoolopdracht heeft hij besloten om zijn eigen ervaring rondom identiteit en de worsteling hiermee uit te schrijven tot een voorstelling.  \nBen je benieuwd naar het verhaal van Wouter? Koop dan snel een kaartje via de link hieronder! \n 
URL:https://www.spe-amsterdam.nl/event/evenement-tip-theatervoorstelling-bedankt-voor-het-luisteren/
LOCATION:Nieuwe Achtergracht 170\, 1018 WV Amsterdam\, Nieuwe Achtergracht 170\, Amsterdam\, WV\, 1018 WV
END:VEVENT
BEGIN:VEVENT
DTSTART;TZID=Europe/Amsterdam:20230429T160000
DTEND;TZID=Europe/Amsterdam:20230429T180000
DTSTAMP:20260423T231849
CREATED:20230407T113256Z
LAST-MODIFIED:20230407T113256Z
UID:19303-1682784000-1682791200@www.spe-amsterdam.nl
SUMMARY:Film: Fatema\, La Sultane Inoubliable
DESCRIPTION:In samenwerking met St. Emcemo laat Stichting Aknarij een prachtige biopic over Fatima Mernissi in Rialto draaien. \nDe invloed die de Marokkaanse sociologe Fatima Mernissi (1940-2015) gehad heeft\nop het denken over vrouwen in de islamitische wereld is groot. Dat vrouwen een\nondergeschikte positie in de Marokkaanse samenleving toebedeeld hadden gekregen\,\nwas haar een doorn in het oog\, zeker omdat zij in de Koran geen enkele reden kon\nvinden die deze positie zou rechtvaardigen – vrouwen zijn immers even vindingrijk\nen creatief als mannen\, zo had ze in haar vele onderzoeken vastgesteld. Deze opstelling\nleverde haar veel kritiek op vanuit conservatief-islamitische hoek\, maar ook veel\ninternationale waardering; zo werd haar werk in 2004 onderscheiden met de\nErasmusprijs.\nFatima Mernissi was een vrouw die tussen haar boeken en vrienden leefde\, zo zegt\nregisseur Mohamed Abderrahman Tazi. Met deze liefdevolle biopic wilde hij haar\,\nhaar werk en haar vrienden weer terug tot leven brengen. De regisseur is deze middag aanwezig voor vragen uit het publiek.
URL:https://www.spe-amsterdam.nl/event/film-fatema-la-sultane-inoubliable/
LOCATION:rialto de pijp\, Ceintuurbaan 338\, Amsterdam\, 1072 GN
ATTACH;FMTTYPE=application/pdf:https://www.spe-amsterdam.nl/wp-content/uploads/2023/04/Flyer-Film-Fatema.pdf
END:VEVENT
END:VCALENDAR