BEGIN:VCALENDAR
VERSION:2.0
PRODID:-//SPE-Amsterdam - ECPv6.1.3//NONSGML v1.0//EN
CALSCALE:GREGORIAN
METHOD:PUBLISH
X-WR-CALNAME:SPE-Amsterdam
X-ORIGINAL-URL:https://www.spe-amsterdam.nl
X-WR-CALDESC:Evenementen voor SPE-Amsterdam
REFRESH-INTERVAL;VALUE=DURATION:PT1H
X-Robots-Tag:noindex
X-PUBLISHED-TTL:PT1H
BEGIN:VTIMEZONE
TZID:Europe/Amsterdam
BEGIN:DAYLIGHT
TZOFFSETFROM:+0100
TZOFFSETTO:+0200
TZNAME:CEST
DTSTART:20220327T010000
END:DAYLIGHT
BEGIN:STANDARD
TZOFFSETFROM:+0200
TZOFFSETTO:+0100
TZNAME:CET
DTSTART:20221030T010000
END:STANDARD
END:VTIMEZONE
BEGIN:VEVENT
DTSTART;TZID=Europe/Amsterdam:20221202T100000
DTEND;TZID=Europe/Amsterdam:20221202T123000
DTSTAMP:20260423T180651
CREATED:20221116T145339Z
LAST-MODIFIED:20221116T145339Z
UID:18938-1669975200-1669984200@www.spe-amsterdam.nl
SUMMARY:Thema-ochtend: Seksueel Geweld
DESCRIPTION:De Vrouwenrechtswinkel organiseert op vrijdag 2 december 2022 van 10.00 uur tot 12.00 uur een thema-ochtend over Seksueel Geweld\, bij Vrouw en Vaart in Amsterdam. Meer info volgt nog.
URL:https://www.spe-amsterdam.nl/event/thema-ochtend-seksueel-geweld/
LOCATION:Vrouw en Vaart\, President Allendelaan 733\, Amsterdam
END:VEVENT
BEGIN:VEVENT
DTSTART;TZID=Europe/Amsterdam:20221208T130000
DTEND;TZID=Europe/Amsterdam:20221208T170000
DTSTAMP:20260423T180651
CREATED:20221121T142501Z
LAST-MODIFIED:20221121T142524Z
UID:18948-1670504400-1670518800@www.spe-amsterdam.nl
SUMMARY:Heel Amsterdam Samen Sterker tegen Huiselijk Geweld en Kindermishandeling
DESCRIPTION:
URL:https://www.spe-amsterdam.nl/event/heel-amsterdam-samen-sterker-tegen-huiselijk-geweld-en-kindermishandeling/
ORGANIZER;CN="Gemeente%20Amsterdam":MAILTO:m.van.der.palen@amsterdam.nl
END:VEVENT
BEGIN:VEVENT
DTSTART;TZID=Europe/Amsterdam:20221208T170000
DTEND;TZID=Europe/Amsterdam:20221208T180000
DTSTAMP:20260423T180651
CREATED:20221116T150801Z
LAST-MODIFIED:20221116T150801Z
UID:18941-1670518800-1670522400@www.spe-amsterdam.nl
SUMMARY:Webinar: Praten over seksualiteit in 16 talen
DESCRIPTION:Op donderdag 8 december van 17.00-18.00 uur gaat Rutgers tijdens het webinar ‘Praten over seksualiteit in 16 talen’ in gesprek met jongvolwassenen met een migratieachtergrond\, over seksualiteit en seksuele gezondheid. Hoe voer je een gesprek over deze onderwerpen? Hoe doorbreek je taboes? Wat kan jouw eigen rol hierin zijn? En hoe kan de website zanzu.nl je ondersteunen? Leer het in dit gratis webinar!  \nBen jij tussen de 20-30 jaar en heb je een migratieachtergrond\, en ben je geïnteresseerd in dit webinar? Mail voor 28 november naar n.voorhout@rutgers.nl om je aan te melden of ga voor meer informatie naar www.rutgers.nl/zanzuwebinar.
URL:https://www.spe-amsterdam.nl/event/webinar-praten-over-seksualiteit-in-16-talen/
END:VEVENT
BEGIN:VEVENT
DTSTART;TZID=Europe/Amsterdam:20221209T100000
DTEND;TZID=Europe/Amsterdam:20221209T100000
DTSTAMP:20260423T180651
CREATED:20220412T084818Z
LAST-MODIFIED:20220412T084818Z
UID:18731-1670580000-1670580000@www.spe-amsterdam.nl
SUMMARY:Beslisbijeenkomst speerpunt arbeid & zorg
DESCRIPTION:Op vrijdag 9 december is de belisbijeenkomst van het speerpunt arbeid en zorg. De organisaties die een projectplan hebben ingediend pitchen hun plan om kans te maken op het budget. Lees hier meer over de inhoud en procedure van het speerpunt.
URL:https://www.spe-amsterdam.nl/event/beslisbijeenkomst-speerpunt-arbeid-zorg/
END:VEVENT
BEGIN:VEVENT
DTSTART;TZID=Europe/Amsterdam:20221209T160000
DTEND;TZID=Europe/Amsterdam:20221209T200000
DTSTAMP:20260423T180651
CREATED:20221116T145144Z
LAST-MODIFIED:20221116T145144Z
UID:18934-1670601600-1670616000@www.spe-amsterdam.nl
SUMMARY:40-jarig Jubileum De Kat
DESCRIPTION:
URL:https://www.spe-amsterdam.nl/event/40-jarig-jubileum-de-kat/
LOCATION:Jungle Amsterdam\, Tweede van Swindenstraat 26\, Amsterdam\, Noord-Holland\, 1093 VS
END:VEVENT
BEGIN:VEVENT
DTSTART;VALUE=DATE:20221210
DTEND;VALUE=DATE:20221211
DTSTAMP:20260423T180651
CREATED:20220419T133949Z
LAST-MODIFIED:20220419T133949Z
UID:18760-1670630400-1670716799@www.spe-amsterdam.nl
SUMMARY:Mensenrechtendag
DESCRIPTION:
URL:https://www.spe-amsterdam.nl/event/mensenrechtendag/
END:VEVENT
BEGIN:VEVENT
DTSTART;TZID=Europe/Amsterdam:20221212T113000
DTEND;TZID=Europe/Amsterdam:20221212T143000
DTSTAMP:20260423T180651
CREATED:20221202T135318Z
LAST-MODIFIED:20221202T135420Z
UID:18959-1670844600-1670855400@www.spe-amsterdam.nl
SUMMARY:Empowermenttraining Vrouw & Werk 50+
DESCRIPTION:Ben je 50+? \nDroom je van een baan in loondienst of droom je van een eigen bedrijf starten? \nGraag informeren wij je over ons komende empowermenttraining Vrouw & Werk 50+ \nBuurvrouwennetwerk Gaasperdam organiseert deze training in opdracht van gemeente Amsterdam Zuidoost en in samenwerking met diverse waardevolle samenwerkingspartners \nEen inspirerend programma waar je met andere leeftijdsgenoten samen leert\, groeit en elkaar ook inspireert en versterkt. Gratis lunch\, gratis outfit\, excursies\, Je vergroot je arbeidskansen en je maakt kennis met ons netwerk. \nMeer informatie in de bijlage https://www.buurthuizenzuidoost.nl/index.php?id=2960 \nAanmelden kan tot uiterlijk 7 december. Vermeld je naam en tel nummer. \n Email: info@stichtingbng.nl\ntelefonisch 06 85 515 248 / 06 23 79 45 74.
URL:https://www.spe-amsterdam.nl/event/empowermenttraining-vrouw-werk-50/
ORGANIZER;CN="Buurvrouwennetwerk%20Gaasperdam":MAILTO:buurvrouwennetwerk@gmail.com
END:VEVENT
BEGIN:VEVENT
DTSTART;TZID=Europe/Amsterdam:20221216T100000
DTEND;TZID=Europe/Amsterdam:20221216T143000
DTSTAMP:20260423T180651
CREATED:20220419T133530Z
LAST-MODIFIED:20221202T143757Z
UID:18751-1671184800-1671201000@www.spe-amsterdam.nl
SUMMARY:Kennissessie 3 SPE: Gendergerelateerd Geweld
DESCRIPTION:Datum: Vrijdag 16 december\nLocatie: NoLimit; Geldershoofd 80\, 1103 BG\, Amsterdam Zuidoost\nInloop: 9:30 – 10.00\nProgramma: 10.00 – 14:30\nLunch: tussendoor van 12:45 – 13:15 \nWe nodigen je van harte uit om deel te nemen aan de laatste kennissessie van dit jaar met als thema gendergerelateerd geweld. Tijdens de bijeenkomst zullen we met elkaar het gesprek aangaan over gendergerelateerd geweld; wat is het\, hoe voorkom je het en hoe kan je slachtoffers het beste helpen? Deze thematiek blijft namelijk ontzettend belangrijk: wereldwijd krijgt één op de drie vrouwen te maken met fysiek of seksueel geweld en tijdens de coronacrisis hebben we zelfs een stijging gezien in het aantal meldingen van huiselijk geweld. \nDe bijeenkomst zal bestaan uit de volgende onderdelen: we starten met een plenair onderdeel dat wordt verzorgd door de BlijfGroep. Zij zullen meer vertellen over hoe je eergerelateerd geweld kan herkennen\, hun adviesfunctie en wat ze voor de informele organisaties kunnen beteken bij signalen rondom eergerelateerd geweld. Vervolgens delen Buurvrouwennetwerk Gaasperdam\, Stichting Himilo\, Stichting Life&Style\, Stichting Home Empowerment en Nisa for Nisa wat je als organisatie kan doen tegen gendergerelateerd geweld. Zij zullen de signalen\, best practices en tips delen die zij hebben opgedaan tijdens de uitvoer van hun projecten onder het speerpunt Gendergerelateerd Geweld in Afhankelijkheidsrelaties\, waar zij ook budget toegekend hebben gekregen. Na dit onderdeel vindt er een netwerkelement plaats\, waarin jullie zelf aan de slag zullen gaan met de thematiek. Wat signaleren jullie bij jullie achterban en hoe kan je daar mee aan de slag gaan? Na de lunch sluiten we af met een workshop over het waarborgen van de veiligheid van vrijwilligers als zij met de thematiek van gendergerelateerd geweld aan de slag gaan. \nKort overzicht programma:\n09:30 – 10:00: Inloop\n10:00 – 10:15: Opening\n10:15 – 10:45: BlijfGroep\n10:45 – 11:15: Best Practices Organisaties Project Gendergerelateerd Geweld\n11:15 – 11:25: Korte Pauze\n11:25 – 11:45: Best Practices Organisaties Project Gendergerelateerd Geweld:\n11:45 – 12:45: Netwerk element: zelf aan de slag met de thematiek\n12:45 – 13:15: Lunch\n13:15 – 14:15: Workshop\n14:15 – 14:30: Afsluiting \nDeelname en lunch is gratis! Je kunt alleen deelnemen aan het gehele dagprogramma. Wil jij hierbij aanwezig zijn? Meld je dan snel aan via onderstaande knop of door je naam en organisatie te mailen naar info@spe-amsterdam.nl
URL:https://www.spe-amsterdam.nl/event/kennissessie-3-spe/
LOCATION:NoLIMIT\, Geldershoofd 80\, Amsterdam\, 1103BG\, Nederland
ORGANIZER;CN="SPE":MAILTO:info@spe-amsterdam.nl
END:VEVENT
END:VCALENDAR