BEGIN:VCALENDAR
VERSION:2.0
PRODID:-//SPE-Amsterdam - ECPv6.1.3//NONSGML v1.0//EN
CALSCALE:GREGORIAN
METHOD:PUBLISH
X-ORIGINAL-URL:https://www.spe-amsterdam.nl
X-WR-CALDESC:Evenementen voor SPE-Amsterdam
REFRESH-INTERVAL;VALUE=DURATION:PT1H
X-Robots-Tag:noindex
X-PUBLISHED-TTL:PT1H
BEGIN:VTIMEZONE
TZID:Europe/Amsterdam
BEGIN:DAYLIGHT
TZOFFSETFROM:+0100
TZOFFSETTO:+0200
TZNAME:CEST
DTSTART:20220327T010000
END:DAYLIGHT
BEGIN:STANDARD
TZOFFSETFROM:+0200
TZOFFSETTO:+0100
TZNAME:CET
DTSTART:20221030T010000
END:STANDARD
END:VTIMEZONE
BEGIN:VEVENT
DTSTART;TZID=Europe/Amsterdam:20221118T130000
DTEND;TZID=Europe/Amsterdam:20221118T130000
DTSTAMP:20260423T164953
CREATED:20220412T084655Z
LAST-MODIFIED:20220412T084655Z
UID:18729-1668776400-1668776400@www.spe-amsterdam.nl
SUMMARY:Deadline indienen projectplan speerpunt arbeid en zorg
DESCRIPTION:Vrijdag 18 november 13.00 is de deadline voor het indienen van een projectplan binnen het speerpunt arbeid en zorg 2022. Lees meer over de inhoud en procedure van het speerpunt via deze link.
URL:https://www.spe-amsterdam.nl/event/deadline-indienen-projectplan-speerpunt-arbeid-en-zorg/
END:VEVENT
BEGIN:VEVENT
DTSTART;TZID=Europe/Amsterdam:20221119T090000
DTEND;TZID=Europe/Amsterdam:20221119T180000
DTSTAMP:20260423T164953
CREATED:20220620T130027Z
LAST-MODIFIED:20220620T130027Z
UID:18809-1668848400-1668880800@www.spe-amsterdam.nl
SUMMARY:Welkom in de toekomst! Mannen 2.0: Samen meer mens. (Emancipator)
DESCRIPTION:Welkom in de toekomst! Mannen 2.0: Samen meer mens.\n\n19 november @ 09:00 – 18:00\n\nUitnodiging – Open Space Technology \nEmancipator nodigt jou graag uit voor de eerste dag van het Open Space Technology evenement: Welkom in de toekomst! Mannen 2.0: Samen meer mens. \nWaarom?\nMannenemancipatie is van ons allemaal en dat weet Emancipator als geen ander. Ons werk wordt gedragen door een enorme gemeenschap van Emancipatoren: zonder jou en jouw betrokkenheid kunnen wij ons werk niet doen. Mannenemancipatie doen we samen! \nMet dit evenement bieden we onze community de kans om elkaar te ontmoeten en te enthousiasmeren en te kijken hoe we samen kunnen bijdragen aan mannenemancipatie in Nederland. Wij willen horen wat jij belangrijk vindt\, wat jij wil en wat er bij jou speelt. \nWat?\nOpen Space Technology is een inspirerende participatieve methode om kennis\, ervaring en creativiteit uit te wisselen en samen oplossingen te bedenken voor vraagstukken die jij en anderen belangrijk vinden. \nDe invulling ligt volkomen in de handen van de deelnemers. Op 19 november bepalen de deelnemers wat er wordt besproken en maken we samen de agenda voor de dag. Op 23 november praten we verder en gaan we samen aan de slag om concrete activiteiten te plannen voor mannenemancipatie in Nederland. \nHoe werkt Open Space Technology? \n\nAan het begin van het evenement stellen we samen de dag samen en bepaal jij wat er op de agenda komt.\nIedereen is vrij om in te brengen wat die belangrijk vindt.\nBepaal samen hoe jouw sessie wordt vormgegeven en bepaal zelf bij welke sessies jij wilt zijn.\nSchrijf op en deel wat je meemaakt en ontvang achteraf een verslag van met alle notities.\nOp 23 november ben je van harte welkom om terug te komen en jou of jullie ideeën en acties verder uit te verwerken\nLaat jezelf vooral verrassen door deze unieke en bijzondere methode!\n\nWie?\nJij! Dit evenement is voor onze community: jij komt aan het woord\, jij bepaalt de agenda en samen met andere Emancipatoren ga je in gesprek over meer mannenemancipatie in Nederland. \nWaar en wanneer?\n19 november van 10:00 (inloop vanaf 9.00) tot 18.00 in NoLimit te Geldershoofd 80\, Amsterdam. \nOp 23 november is de mogelijkheid om verder te werken aan je ideeën en dit kan van 13.00 tot 17.00 in NoLimit te Geldershoofd 80\, Amsterdam. \nGoed om te weten… \n\n\n\n\nAanmelden kan via het formulier op de website en kan tot en met 6 november. Er zijn slechts 150 plekken beschikbaar. De locatie is rolstoeltoegankelijk. Als je iets nodig hebt om deel te kunnen nemen\, laat het ons gerust weten. https://www.emancipator.nl/event/open-space-technology-dag-1/
URL:https://www.spe-amsterdam.nl/event/welkom-in-de-toekomst-mannen-2-0-samen-meer-mens-emancipator/
END:VEVENT
BEGIN:VEVENT
DTSTART;TZID=Europe/Amsterdam:20221123T130000
DTEND;TZID=Europe/Amsterdam:20221123T170000
DTSTAMP:20260423T164953
CREATED:20220620T130118Z
LAST-MODIFIED:20220620T130118Z
UID:18812-1669208400-1669222800@www.spe-amsterdam.nl
SUMMARY:Welkom in de toekomst Mannen 2.0: Samen meer mens (emancipator)
DESCRIPTION:Welkom in de toekomst! Mannen 2.0: Samen meer mens.\n\n19 november @ 09:00 – 18:00\n\nUitnodiging – Open Space Technology \nEmancipator nodigt jou graag uit voor de eerste dag van het Open Space Technology evenement: Welkom in de toekomst! Mannen 2.0: Samen meer mens. \nWaarom?\nMannenemancipatie is van ons allemaal en dat weet Emancipator als geen ander. Ons werk wordt gedragen door een enorme gemeenschap van Emancipatoren: zonder jou en jouw betrokkenheid kunnen wij ons werk niet doen. Mannenemancipatie doen we samen! \nMet dit evenement bieden we onze community de kans om elkaar te ontmoeten en te enthousiasmeren en te kijken hoe we samen kunnen bijdragen aan mannenemancipatie in Nederland. Wij willen horen wat jij belangrijk vindt\, wat jij wil en wat er bij jou speelt. \nWat?\nOpen Space Technology is een inspirerende participatieve methode om kennis\, ervaring en creativiteit uit te wisselen en samen oplossingen te bedenken voor vraagstukken die jij en anderen belangrijk vinden. \nDe invulling ligt volkomen in de handen van de deelnemers. Op 19 november bepalen de deelnemers wat er wordt besproken en maken we samen de agenda voor de dag. Op 23 november praten we verder en gaan we samen aan de slag om concrete activiteiten te plannen voor mannenemancipatie in Nederland. \nHoe werkt Open Space Technology? \n\nAan het begin van het evenement stellen we samen de dag samen en bepaal jij wat er op de agenda komt.\nIedereen is vrij om in te brengen wat die belangrijk vindt.\nBepaal samen hoe jouw sessie wordt vormgegeven en bepaal zelf bij welke sessies jij wilt zijn.\nSchrijf op en deel wat je meemaakt en ontvang achteraf een verslag van met alle notities.\nOp 23 november ben je van harte welkom om terug te komen en jou of jullie ideeën en acties verder uit te verwerken\nLaat jezelf vooral verrassen door deze unieke en bijzondere methode!\n\nWie?\nJij! Dit evenement is voor onze community: jij komt aan het woord\, jij bepaalt de agenda en samen met andere Emancipatoren ga je in gesprek over meer mannenemancipatie in Nederland. \nWaar en wanneer?\n19 november van 10:00 (inloop vanaf 9.00) tot 18.00 in NoLimit te Geldershoofd 80\, Amsterdam. \nOp 23 november is de mogelijkheid om verder te werken aan je ideeën en dit kan van 13.00 tot 17.00 in NoLimit te Geldershoofd 80\, Amsterdam. \nGoed om te weten… \n\n\n\n\nAanmelden kan via het formulier op de website en kan tot en met 6 november. Er zijn slechts 150 plekken beschikbaar. De locatie is rolstoeltoegankelijk. Als je iets nodig hebt om deel te kunnen nemen\, laat het ons gerust weten. https://www.emancipator.nl/event/open-space-technology-dag-1/
URL:https://www.spe-amsterdam.nl/event/welkom-in-de-toekomst-mannen-2-0-samen-meer-mens-emancipator-2/
END:VEVENT
END:VCALENDAR