BEGIN:VCALENDAR
VERSION:2.0
PRODID:-//SPE-Amsterdam - ECPv6.1.3//NONSGML v1.0//EN
CALSCALE:GREGORIAN
METHOD:PUBLISH
X-WR-CALNAME:SPE-Amsterdam
X-ORIGINAL-URL:https://www.spe-amsterdam.nl
X-WR-CALDESC:Evenementen voor SPE-Amsterdam
REFRESH-INTERVAL;VALUE=DURATION:PT1H
X-Robots-Tag:noindex
X-PUBLISHED-TTL:PT1H
BEGIN:VTIMEZONE
TZID:Europe/Amsterdam
BEGIN:DAYLIGHT
TZOFFSETFROM:+0100
TZOFFSETTO:+0200
TZNAME:CEST
DTSTART:20220327T010000
END:DAYLIGHT
BEGIN:STANDARD
TZOFFSETFROM:+0200
TZOFFSETTO:+0100
TZNAME:CET
DTSTART:20221030T010000
END:STANDARD
END:VTIMEZONE
BEGIN:VEVENT
DTSTART;TZID=Europe/Amsterdam:20221001T100000
DTEND;TZID=Europe/Amsterdam:20221001T160000
DTSTAMP:20260423T153059
CREATED:20220425T140047Z
LAST-MODIFIED:20220425T140047Z
UID:18770-1664618400-1664640000@www.spe-amsterdam.nl
SUMMARY:Cursus: Fondsenwerving - Van idee naar plan
DESCRIPTION:Fondsenwerving – Van idee naar plan\n\n\nDe cursusVelen lopen rond met mooie ideeën: de wereld of de eigen leefomgeving een betere plaats maken\, een cultureel initiatief starten\, samen met de buurt iets bijzonders opzetten of een eigen (sociale) onderneming beginnen. Als je aan de slag wilt gaan met het realiseren van jouw idee\, dan is het belangrijk dat jouw idee zo helder en duidelijk mogelijk op papier staat in de vorm van een projectplan! \nIn deze 2-delige cursus ga je aan de slag met het omzetten van jouw idee naar een solide projectplan. We behandelen de volgende vragen: \n\nWat is een goed idee?\nWat is er nodig om van een idee naar een realistisch plan te gaan?\nWaarom werken sommige plannen wel en andere plannen niet? Welke valkuilen kom je tegen? Hoe kan je hiermee omgaan?\nWelke elementen staan in elk goed plan? En hoe kan ik dit uitwerken voor mijn eigen idee?\n\n\nVoor wie \n\nDeze cursus is voor mensen die graag een project willen organiseren en hiervoor een gedegen projectplan willen schrijven. \n\nActieve bewoners;\nStichtingen en verenigingen;\n(Sociale) ondernemers.\n\n\n\nResultaten \n\nNa deze cursus staat je businessplan en kan je doorstromen (voor non-profit sociale en culturele ideeën) naar de cursus fondsenwerven in het najaar\, waar je leert hoe je het plan kan financieren. Mensen met een for-profit plan\, kunnen direct na deze cursus aan de slag en hun plan bijvoorbeeld indienen bij een leverancier voor microkrediet\, een bank of elders. \n\n\nWerkwijze \n\nAan de hand van praktijkvoorbeelden\, handige tools zoals een business model canvas\, normale business strategieën en nog veel meer\, onderzoeken we samen op welke manier je jouw droom het beste kan realiseren. \n\n\nDocent \n\nSjoerd Jurkovich \n\n  \n\nPraktische informatie \n\n\nAanmelden tot\n\n\n\n25 september 2022\n\n\n\n\n\nDatum(s)\n\n\nDag 1:\n01 oktober 2022\nvan 10:00 tot 16:00 uur \nDag 2:\n29 oktober 2022\nvan 10:00 tot 16:00 uur \nDe inloop is vanaf 09:30 uur\, we starten om 10:00 uur! \n\n\n\n\nLocatie\n\n\n\nVenzo\nBijlmerdreef 432-434\n1102 AC Amsterdam
URL:https://www.spe-amsterdam.nl/event/cursus-fondsenwerving-van-idee-naar-plan/
END:VEVENT
BEGIN:VEVENT
DTSTART;VALUE=DATE:20221010
DTEND;VALUE=DATE:20221017
DTSTAMP:20260423T153059
CREATED:20220929T121634Z
LAST-MODIFIED:20220929T121634Z
UID:18877-1665360000-1665964799@www.spe-amsterdam.nl
SUMMARY:Week van de Mentale Gezondheid
DESCRIPTION:De Amsterdamse week van de mentale gezondheid! Thrive Amsterdam\, een sociale beweging door en voor alle Amsterdammers\, zal deze week door de gehele stad gratis events organiseren om jou te inspireren aan de slag te gaan met je mentale gezondheid. Klik hier voor hun volledige programma!
URL:https://www.spe-amsterdam.nl/event/week-van-de-mentale-gezondheid/
END:VEVENT
BEGIN:VEVENT
DTSTART;VALUE=DATE:20221011
DTEND;VALUE=DATE:20221012
DTSTAMP:20260423T153059
CREATED:20220419T133913Z
LAST-MODIFIED:20220419T133913Z
UID:18758-1665446400-1665532799@www.spe-amsterdam.nl
SUMMARY:Wereldmeisjesdag
DESCRIPTION:
URL:https://www.spe-amsterdam.nl/event/wereldmeisjesdag/
END:VEVENT
BEGIN:VEVENT
DTSTART;TZID=Europe/Amsterdam:20221013T093000
DTEND;TZID=Europe/Amsterdam:20221013T113000
DTSTAMP:20260423T153059
CREATED:20220425T140405Z
LAST-MODIFIED:20220425T140405Z
UID:18772-1665653400-1665660600@www.spe-amsterdam.nl
SUMMARY:Cursus: Vrijwilligerswerk doe je ZO!
DESCRIPTION:Wat is vrijwilligerswerk? Wat is het belang van vrijwillige inzet ook voor Zuidoost? Welke rol kan jij of wil jij vervullen en wat levert het jou op?\nKom meer te weten over dit onderwerp\, wissel ervaringen en vragen uit en geef jouw mening. \nDe informatiebijeenkomst / voorlichting  \nTijdens deze interactieve voorlichting gaan we in op wat vrijwilligerswerk nou eigenlijk is\, welke vormen van inzet er zijn hoeveel vrijwilligerswerk er wordt gedaan\, waar dat dan allemaal gedaan wordt en wat de  effecten en voordelen zijn van vrijwilligerswerk voor de samenleving en voor jou. \nVenzo is het verbindingsplatform voor maatschappelijke inzet. Tijdens deze voorlichtingen zullen wij je dan ook uitleggen wie wij zijn\, wat onze diensten zijn en wat we voor vrijwilligers\, – organisaties en eventueel voor jou kunnen betekenen. \nTen slotte is er de gelegenheid om al jouw vragen te stellen over vrijwilligerswerk. \n\nVoor wie \n\nBurgers van Amsterdam (Zuidoost) die wat voor hun omgeving\, de buurt en (mede) bewoners willen doen en/ of meer willen weten over vrijwilligerswerk. \n\n\nResultaten \n\nNa het volgen van deze voorlichting \n\nWeet je meer over wat vrijwilligerswerk is en de mogelijke effecten\nHeb je meer inzicht in wat voor soort vrijwilligerswerk er allemaal is\nWeet je meer over wat Venzo voor vrijwilligers en -organisaties kan betekenen\nSchrijf je je wellicht in voor vrijwilligerswerk\n\n\n\nWerkwijze \n\nInteractieve (PowerPoint) presentatie en Q&A \n\n\nDocent \n\nDorien Groeneveld & Annemiek Kefff \n\n\n\n\nPrijs\n\n\n\nGratis\n\n\n\n\n\nAantal plekken\n\n\n\n20 van 20 beschikbaar\n\n\n\n\n\nAanmelden tot\n\n\n\n12 oktober 2022\n\n\n\n\n\nDatum(s)\n\n\nDag 1:\n13 oktober 2022\nvan 09:30 tot 11:30 uur \nDe (digitale) inloop is vanaf 09:15 uur\, we starten om 09:30 uur! \n\n\n\n\nLocatie\n\n\n\nZoom\nFysiek indien mogelijk…
URL:https://www.spe-amsterdam.nl/event/cursus-vrijwilligerswerk-doe-je-zo/
END:VEVENT
BEGIN:VEVENT
DTSTART;TZID=Europe/Amsterdam:20221014T100000
DTEND;TZID=Europe/Amsterdam:20221014T120000
DTSTAMP:20260423T153059
CREATED:20220412T084343Z
LAST-MODIFIED:20220412T084343Z
UID:18727-1665741600-1665748800@www.spe-amsterdam.nl
SUMMARY:Beslisbijeenkomst speerpunt jongens & mannenemancipatie
DESCRIPTION:Vrijdag 14 oktober is de beslisbijeenkomst van het speerpunt jongens & mannenemancipatie 2022. De organisaties die een projectplan hebben ingediend gaan hun plan pitchen om kans te maken op het budget. Lees hier meer over de inhoud en de procedure van het speerpunt.
URL:https://www.spe-amsterdam.nl/event/beslisbijeenkomst-speerpunt-jongens-mannenemancipatie/
END:VEVENT
BEGIN:VEVENT
DTSTART;TZID=Europe/Amsterdam:20221028T090000
DTEND;TZID=Europe/Amsterdam:20221028T140000
DTSTAMP:20260423T153059
CREATED:20220419T133737Z
LAST-MODIFIED:20220419T133737Z
UID:18756-1666947600-1666965600@www.spe-amsterdam.nl
SUMMARY:Ontwikkelsessie 3 SPE
DESCRIPTION:Op 28 oktober organiseert het SPE de derde ontwikkelsessie van het jaar. Het thema\, de locatie en tijd worden nog bekend gemaakt.
URL:https://www.spe-amsterdam.nl/event/ontwikkelsessie-3-spe/
END:VEVENT
END:VCALENDAR