BEGIN:VCALENDAR
VERSION:2.0
PRODID:-//SPE-Amsterdam - ECPv6.1.3//NONSGML v1.0//EN
CALSCALE:GREGORIAN
METHOD:PUBLISH
X-WR-CALNAME:SPE-Amsterdam
X-ORIGINAL-URL:https://www.spe-amsterdam.nl
X-WR-CALDESC:Evenementen voor SPE-Amsterdam
REFRESH-INTERVAL;VALUE=DURATION:PT1H
X-Robots-Tag:noindex
X-PUBLISHED-TTL:PT1H
BEGIN:VTIMEZONE
TZID:Europe/Amsterdam
BEGIN:DAYLIGHT
TZOFFSETFROM:+0100
TZOFFSETTO:+0200
TZNAME:CEST
DTSTART:20220327T010000
END:DAYLIGHT
BEGIN:STANDARD
TZOFFSETFROM:+0200
TZOFFSETTO:+0100
TZNAME:CET
DTSTART:20221030T010000
END:STANDARD
END:VTIMEZONE
BEGIN:VEVENT
DTSTART;TZID=Europe/Amsterdam:20220901T140000
DTEND;TZID=Europe/Amsterdam:20220901T163000
DTSTAMP:20260423T135804
CREATED:20220825T095118Z
LAST-MODIFIED:20220825T095118Z
UID:18861-1662040800-1662049800@www.spe-amsterdam.nl
SUMMARY:Stadsdeel Centrum en Oost - Netwerkbijeenkomst voor informele en formele organisaties die te maken (kunnen) krijgen met huiselijk geweld en kindermishandeling
DESCRIPTION:Op donderdag 1 september organiseren stadsdeel Centrum en Oost een interactieve netwerkbijeenkomst voor informele en formele organisaties die te maken (kunnen) krijgen met huiselijk geweld en kindermishandeling. Het doel van de bijeenkomst is om met elkaar in gesprek te gaan\, elkaar weten te vinden en uiteindelijk meer met elkaar samen te werken. De bijeenkomst is verbonden aan het Handboek Samen Sterker tegen Huiselijk Geweld en Kindermishandeling. Dit handboek is erop gericht informele partijen te ondersteunen en de samenwerking tussen organisaties te versterken\, wat vervolgens de Amsterdammer ten goede komt. Het uiteindelijke doel is dan ook om huiselijk geweld en kindermishandeling onder de Amsterdammers zo goed mogelijk te voorkomen en te stoppen. \nWanneer? Donderdag 1 september\, 14.00-16.30 uur \nWaar? Stichting De Meevaart\, Balistraat 48A\, 1094 JN Amsterdam \nVoor wie? Informele en formele organisaties uit stadsdeel Centrum en Oost die te maken (kunnen) krijgen met het thema huiselijk geweld en/of kindermishandeling. \nAanmelden? Via deze link \nVragen? Stuur een mail naar m.van.der.palen@amsterdam.nl \n  \nProgramma: \n14.00-14.15: Inloop en welkomstwoord \n14.15-14.45: Kennismaken en netwerk in beeld brengen \n14.45-15.15: Knelpunten en successen delen \n15.15-15.45: Voorbeeldcasussen bespreken \n15.45-16.00: Afsluiting \n16.00-16.30: Napraten (met hapje en drankje!)
URL:https://www.spe-amsterdam.nl/event/stadsdeel-centrum-en-oost-netwerkbijeenkomst-voor-informele-en-formele-organisaties-die-te-maken-kunnen-krijgen-met-huiselijk-geweld-en-kindermishandeling/
LOCATION:De Meervaart\, Amsterdam
ATTACH;FMTTYPE=image/png:https://www.spe-amsterdam.nl/wp-content/uploads/2022/03/Logo-Gemeente-Amsterdam.png
ORGANIZER;CN="Gemeente%20Amsterdam":MAILTO:m.van.der.palen@amsterdam.nl
END:VEVENT
BEGIN:VEVENT
DTSTART;TZID=Europe/Amsterdam:20220906T093000
DTEND;TZID=Europe/Amsterdam:20220906T150000
DTSTAMP:20260423T135804
CREATED:20220901T080112Z
LAST-MODIFIED:20220901T080112Z
UID:18863-1662456600-1662476400@www.spe-amsterdam.nl
SUMMARY:Themadag 'Jezelf zijn in West'! - Sexmatters\, Stichting KiKiD en Emancipator
DESCRIPTION:Themadag ‘Jezelf zijn in West’! Sexmatters organiseert met Stichting KiKiD en Emancipator een themadag over sociale veiligheid in het Stadsdeel West Gemeente Amsterdam \nDeze themadag is voor iedereen die in stadsdeel West met jongeren werkt. Met elkaar gaan we na hoe we kunnen bijdragen aan het verbeteren van de sociale veiligheid in West. Deze dag krijg je concrete handvatten aangereikt die je kunt inzetten tijdens je dagelijkse werk met jongeren. \nMeld je aan en kom ook! https://lnkd.in/eTPWeFcH
URL:https://www.spe-amsterdam.nl/event/themadag-jezelf-zijn-in-west-sexmatters-stichting-kikid-en-emancipator/
LOCATION:Midwest Amsterdam
END:VEVENT
BEGIN:VEVENT
DTSTART;TZID=Europe/Amsterdam:20220916T090000
DTEND;TZID=Europe/Amsterdam:20220916T140000
DTSTAMP:20260423T135804
CREATED:20220419T133410Z
LAST-MODIFIED:20220915T120204Z
UID:18748-1663318800-1663336800@www.spe-amsterdam.nl
SUMMARY:Kennis sessie 2 SPE
DESCRIPTION:Op 16 september organiseert het SPE een kennissessie. Deze sessie zal gaan over subsidieaanvragen en vindt plaats bij stichting Malak op G.J. Scheurleerweg 212 te Amsterdam. Het duurt van 09:00 tot 14:00\, inclusief lunch. Voor aanmelding mail je naam naar info@spe-amsterdam.nl. Tot dan!
URL:https://www.spe-amsterdam.nl/event/kennis-sessie-spe/
END:VEVENT
BEGIN:VEVENT
DTSTART;TZID=Europe/Amsterdam:20220923T130000
DTEND;TZID=Europe/Amsterdam:20220923T130000
DTSTAMP:20260423T135804
CREATED:20220412T084202Z
LAST-MODIFIED:20220412T084202Z
UID:18725-1663938000-1663938000@www.spe-amsterdam.nl
SUMMARY:Deadline indienen projectplan speerpunt jongens & mannenemancipatie
DESCRIPTION:Vrijdag 23 september om 13.00 is de deadline voor het indienen van een projectplan binnen het speerpunt jongens- en mannenemancipatie. Lees hier meer over de inhoud en procedure van het speerpunt.
URL:https://www.spe-amsterdam.nl/event/deadline-indienen-projectplan-speerpunt-jongens-mannenemancipatie/
END:VEVENT
END:VCALENDAR