BEGIN:VCALENDAR
VERSION:2.0
PRODID:-//SPE-Amsterdam - ECPv6.1.3//NONSGML v1.0//EN
CALSCALE:GREGORIAN
METHOD:PUBLISH
X-ORIGINAL-URL:https://www.spe-amsterdam.nl
X-WR-CALDESC:Evenementen voor SPE-Amsterdam
REFRESH-INTERVAL;VALUE=DURATION:PT1H
X-Robots-Tag:noindex
X-PUBLISHED-TTL:PT1H
BEGIN:VTIMEZONE
TZID:Europe/Amsterdam
BEGIN:DAYLIGHT
TZOFFSETFROM:+0100
TZOFFSETTO:+0200
TZNAME:CEST
DTSTART:20220327T010000
END:DAYLIGHT
BEGIN:STANDARD
TZOFFSETFROM:+0200
TZOFFSETTO:+0100
TZNAME:CET
DTSTART:20221030T010000
END:STANDARD
END:VTIMEZONE
BEGIN:VEVENT
DTSTART;TZID=Europe/Amsterdam:20220603T100000
DTEND;TZID=Europe/Amsterdam:20220603T120000
DTSTAMP:20260423T094847
CREATED:20220412T083106Z
LAST-MODIFIED:20220412T083106Z
UID:18716-1654250400-1654257600@www.spe-amsterdam.nl
SUMMARY:Beslisbijeenkomst speerpunt gendergerelateerd geweld in afhankelijkheidsrelaties
DESCRIPTION:Op 3 juni is de beslisbijeenkomst voor het speerpunt gendergerelateerd geweld in afhankelijkheidsrelaties. De organisaties die een projectplan hebben ingediend zullen tijdens deze online bijeenkomst hun plan pitchen aan een jury om kans te maken op het budget. Dit speerpunt is een éénmalig extra speerpunt. Lees er hier meer over.
URL:https://www.spe-amsterdam.nl/event/beslisbijeenkomst-speerpunt-gendergerelateerd-geweld-in-afhankelijkheidsrelaties/
LOCATION:Online
ORGANIZER;CN="SPE":MAILTO:info@spe-amsterdam.nl
END:VEVENT
BEGIN:VEVENT
DTSTART;TZID=Europe/Amsterdam:20220610T090000
DTEND;TZID=Europe/Amsterdam:20220610T140000
DTSTAMP:20260423T094847
CREATED:20220419T133653Z
LAST-MODIFIED:20220531T130845Z
UID:18754-1654851600-1654869600@www.spe-amsterdam.nl
SUMMARY:Ontwikkelsessie 2 SPE
DESCRIPTION:Op 10 juni organiseert het SPE de tweede ontwikkelsessie van het jaar. \nDatum: Vrijdag 10 juni\nLocatie: Vrouw en Vaart – President Allendelaan 733\nInloop: 9:30 – 10.00\nProgramma: 10.00 – 13.00\nLunch: 13:00 – 14.00\nWe nodigen je van harte uit om deel te nemen aan de ontwikkelsessie op vrijdag 10 juni die in het teken zal staan van vrijwilligersmanagement. De afgelopen tijd hebben we veel signalen opgevangen uit het veld over dit thema. In tijden van corona speelden uitdagingen rondom vrijwilligersmanagement een rol\, maar ook nu zijn sommige uitdagingen nog aanwezig bij zelforganisaties en vrouwenorganisaties. Hoe houd je je vrijwilligers actief en betrokken bij je organisatie? Hoe zorg je dat ze doorstromen en zich professionaliseren? \nDoelen van de sessie: \n\nOrganisaties krijgen inzicht in hoe ze vrijwilligers actief en betrokken kunnen houden.\nOrganisaties krijgen handvatten voor professionalisering van vrijwilligers.\nOrganisaties gaan in gesprek met elkaar over hun successen en uitdagingen rondom het managen van vrijwilligers.\n\nDe ochtend zal bestaan uit een divers programma met genoeg ruimte om van elkaar te leren en in gesprek te gaan. We sluiten af met een gezamenlijke lunch.\nDe ontwikkelsessie is in eerste instantie bedoeld voor voorvrouwen/mannen/personen van zelforganisaties uit het SPE netwerk. Zij krijgen voorrang op deelname. \nDeelname is gratis\, je kunt alleen deelnemen aan het gehele dagprogramma. Wil jij hierbij aanwezig zijn? Meld je dan snel aan door te mailen naar info@spe-amsterdam.nl. \nWe zien jullie allemaal heel graag 10 juni! \nHet SPE-Team\, \nNina Ramkisoen\, Renée Hoekstra\, Hannah Toben & Evelien van Egmond
URL:https://www.spe-amsterdam.nl/event/ontwikkelsessie-2-spe/
END:VEVENT
BEGIN:VEVENT
DTSTART;TZID=Europe/Amsterdam:20220617T130000
DTEND;TZID=Europe/Amsterdam:20220617T130000
DTSTAMP:20260423T094847
CREATED:20220412T083638Z
LAST-MODIFIED:20220412T083638Z
UID:18720-1655470800-1655470800@www.spe-amsterdam.nl
SUMMARY:Deadline indienen projectplan speerpunt seksuele diversiteit
DESCRIPTION:Vrijdag 17 juni is de deadline voor het indienen van een projectplan binnen het speerpunt seksuele diversiteit. Lees meer over de inhoud en de procedure via deze link.
URL:https://www.spe-amsterdam.nl/event/deadline-indienen-projectplan-speerpunt-seksuele-diversiteit/
END:VEVENT
BEGIN:VEVENT
DTSTART;TZID=Europe/Amsterdam:20220625T200000
DTEND;TZID=Europe/Amsterdam:20220626T210000
DTSTAMP:20260423T094847
CREATED:20220613T063519Z
LAST-MODIFIED:20220613T070155Z
UID:18800-1656187200-1656277200@www.spe-amsterdam.nl
SUMMARY:
DESCRIPTION:Wil jij weten hoe je queer joy kunt vinden door alle ruis van de samenleving heen? Kom op 25 of 26 juni naar Boost Amsterdam!\nRuis is een theatervoorstelling en kunstexpositie over alles wat er in je kop omgaat als jonge LHBTIQ’er in een o zo tolerant Nederland. \nWe delen de persoonlijke verhalen van elf queer jongeren en hun kijk op de wereld; over zoenen\, papieren vlinders met goede bedoelingen\, klaslokalen\, de GSA\, allies\, Minecraft\, de ballroom\, zenuwvocht\, Friesland en natuurlijk de NYX. Over vragen als: op wie val ik\, en welke voornaamwoorden passen bij mij? Waarom moet ik dat eigenlijk allemaal weten? Ruis! Er wordt getwijfeld\, gezocht en – ook al schuurt het met de wereld – gevierd! Queer joy!  \nIn de afgelopen 7 maanden zijn 11 queer jongeren bij elkaar gekomen onder begeleiding van professionele kunstenaars. Ze zijn uitgedaagd om onderwerpen te delen die ze echt aangaan\, om hun gedachten vorm te geven en zich te ontwikkelen in artistieke uitingen. Het resultaat is een expositie en voorstelling die de ruis onderzoekt van elk van de jongeren op hun weg naar hun queer joy. Al hun vragen en ervaringen als (bi-culturele) jongeren en als queer jongeren zijn voorbij gekomen. In dit intensieve proces hebben we veel lagen onderzocht die de realiteit van deze diverse groep queer jongeren weergeeft. Hoe verder we in het proces waren hoe dieper de gesprekken en de creatieve processen werden. \nWil je erbij zijn? Koop dan HIER je kaartjes \nData: 25 en 26 juni 2022\nTijd: 20:00-20:45 (voorstelling)\, vooraf en achteraf tijd om de expositie te bekijken.\nLocatie: BOOST Amsterdam\, Danie Theronstraat 2\, 1091 XX \nNieuwsgierig geworden naar de spelers? Je leert ze kennen en hoort over hun proces op Instagram of check onze website. \nRuis is een initiatief van het LGBTI Youth Initiative Amsterdam. Lees meer op onze website 
URL:https://www.spe-amsterdam.nl/event/18800/
LOCATION:Danie Theronstraat 2\, Danie Theronstraat 2\, Amsterdam\, Nederland
END:VEVENT
BEGIN:VEVENT
DTSTART;TZID=Europe/Amsterdam:20220630T133000
DTEND;TZID=Europe/Amsterdam:20220630T163000
DTSTAMP:20260423T094847
CREATED:20220607T072702Z
LAST-MODIFIED:20220607T072702Z
UID:18792-1656595800-1656606600@www.spe-amsterdam.nl
SUMMARY:
DESCRIPTION:GOED EN FEESTELIJK NIEUWS!! Na lang wachten en veel geregel is het op donderdag 30 juni a.s. EINDELIJK zover: wij openen dan BUURTSALON KRAMAT. Hiervoor willen we jullie natuurlijk graag uitnodigen. Het belooft een feestelijke opening te worden met hapjes van Stichting Vrouwen voor Vrouwen\, muziek van Richard Grand en een paar speeches ontbreken natuurlijk ook niet. En uiteraard doen wij het heel officieel door een rood lint door te knippen. En we zullen jullie laten weten wat er al voor leuks op de planning staat in de komende periode\, zoals een voorstelling van DanceConnect\, Danspaleis\, OuderenSongfestival\, en nog veel vaste leuke activiteiten. \nDe buurtsalon wordt een plek waar iedereen welkom is\, van jong tot oud. Een gezellige plek waar ontmoeting centraal staat\, waar leuke activiteiten voor en door buurtbewoners georganiseerd worden\, trainingen en workshops plaats kunnen vinden\, maar bovenal een plek waar je altijd (natuurlijk wel tijdens openingstijden gezellig even binnen mag wandelen voor een kopje koffie/thee en een praatje). Je zal hartelijk ontvangen worden door onze gastheren/gastvrouwen. \nKom je ook? Spread the word. \nUitnodiging Opening Buurtsalon
URL:https://www.spe-amsterdam.nl/event/18792/
END:VEVENT
END:VCALENDAR