BEGIN:VCALENDAR
VERSION:2.0
PRODID:-//SPE-Amsterdam - ECPv6.1.3//NONSGML v1.0//EN
CALSCALE:GREGORIAN
METHOD:PUBLISH
X-ORIGINAL-URL:https://www.spe-amsterdam.nl
X-WR-CALDESC:Evenementen voor SPE-Amsterdam
REFRESH-INTERVAL;VALUE=DURATION:PT1H
X-Robots-Tag:noindex
X-PUBLISHED-TTL:PT1H
BEGIN:VTIMEZONE
TZID:Europe/Amsterdam
BEGIN:DAYLIGHT
TZOFFSETFROM:+0100
TZOFFSETTO:+0200
TZNAME:CEST
DTSTART:20220327T010000
END:DAYLIGHT
BEGIN:STANDARD
TZOFFSETFROM:+0200
TZOFFSETTO:+0100
TZNAME:CET
DTSTART:20221030T010000
END:STANDARD
END:VTIMEZONE
BEGIN:VEVENT
DTSTART;TZID=Europe/Amsterdam:20220507T170000
DTEND;TZID=Europe/Amsterdam:20220507T190000
DTSTAMP:20260423T082122
CREATED:20220304T162039Z
LAST-MODIFIED:20220304T162039Z
UID:18620-1651942800-1651950000@www.spe-amsterdam.nl
SUMMARY:Filmavond 'Razia' - Leven en overleven met verschillende identiteiten
DESCRIPTION:Op 7 mei organiseert Stichting Aknarij een filmavond met de Marokkaanse speelfilm Razia: leven en overleven met verschillende identiteiten
URL:https://www.spe-amsterdam.nl/event/filmavond-razia-leven-en-overleven-met-verschillende-identiteiten/
END:VEVENT
BEGIN:VEVENT
DTSTART;TZID=Europe/Amsterdam:20220513T130000
DTEND;TZID=Europe/Amsterdam:20220513T130000
DTSTAMP:20260423T082122
CREATED:20220412T083414Z
LAST-MODIFIED:20220412T083414Z
UID:18718-1652446800-1652446800@www.spe-amsterdam.nl
SUMMARY:Deadline projectplan speerpunt gendergerelateerd geweld in afhankelijkheidsrelaties
DESCRIPTION:13 mei is de deadline voor het indienen van een projectplan binnen het speerpunt gendergerelateerd geweld in afhankelijkheidsrelaties. Dit is een éénmalig\, extra speerpunt. Lees meer over de inhoud en de procedure via deze link.
URL:https://www.spe-amsterdam.nl/event/deadline-projectplan-speerpunt-gendergerelateerd-geweld-in-afhankelijkheidsrelaties/
END:VEVENT
BEGIN:VEVENT
DTSTART;TZID=Europe/Amsterdam:20220514T170000
DTEND;TZID=Europe/Amsterdam:20220514T190000
DTSTAMP:20260423T082122
CREATED:20220304T162154Z
LAST-MODIFIED:20220304T162154Z
UID:18622-1652547600-1652554800@www.spe-amsterdam.nl
SUMMARY:Workshop opvoedstijlen en de rol van religie en cultuur
DESCRIPTION:Op 14 mei organiseert Stichting Aknarij een workshop opvoedstijlen en de rol van cultuur en religie daarin.
URL:https://www.spe-amsterdam.nl/event/workshop-opvoedstijlen-en-de-rol-van-religie-en-cultuur/
END:VEVENT
BEGIN:VEVENT
DTSTART;TZID=Europe/Amsterdam:20220520T100000
DTEND;TZID=Europe/Amsterdam:20220520T140000
DTSTAMP:20260423T082122
CREATED:20220421T113002Z
LAST-MODIFIED:20220512T151213Z
UID:18764-1653040800-1653055200@www.spe-amsterdam.nl
SUMMARY:Kennissessie SPE: seksueel grensoverschrijdend gedrag
DESCRIPTION:Datum: Vrijdag 20 mei\nLocatie: De Boomsspijker (Recht Boomssloot 52) Amsterdam\nInloop: 9:30 – 10.00\nProgramma: 10.00 – 13.00\nLunch: 13:00 – 14.00We nodigen je van harte uit om deel te nemen aan de eerste kennissessie van dit jaar\, die in het teken zal staan van seksueel grensoverschrijdend gedrag. De afgelopen tijd hebben we veel signalen opgevangen uit het veld over dit thema. Deze signalen zijn de basis geweest voor het inrichten van deze sessie. \nDe ochtend zal bestaan uit twee hoofdonderdelen: een panelgesprek en een interactieve workshop. We sluiten af met een gezamenlijke lunch. \n\n\nPanelgesprek \nWe gaan in gesprek over: wat is seksueel grensoverschrijdend gedrag? Welke factoren dragen bij aan het taboe eromheen? en welke rol spelen mannen in dit thema? Het panel zal bestaan uit: \n\nSara Alaoui Dekker van Stichting Together We Rise. Sara is ervaringsdeskundige en biedt met haar organisatie training en begeleiding van lotgenoten. Zij weet als geen ander hoe moeilijk de weg naar hulp kan zijn.\nStichting Emancipator zet zich in voor mannenemancipatie door de zorgzame kant van mannen te stimuleren en de gewelddadige kant te voorkomen. Door campagnes\, projecten en activiteiten proberen ze de klassieke ideeën over mannen en vrouwen te doorbreken.\nCindy de Koning is netwerkspecialist in de regio Amsterdam met als expertise seksuele intimidatie. In haar werk komt komt zij in aanraking met de thema’s seksueel misbruik\, uitbuiting en grensoverschrijdend gedrag. Binnen en buiten de politie creëert ze speciale aandacht voor meisjes en vrouwen.\n\n\nWorkshop\nIn de workshop kijken we naar wat vrouwenorganisaties kunnen doen. Hoe ga je het gesprek aan met je achterban? Hoe kun je slachtoffers ondersteunen?\n\n\nDeelname is gratis\, je kunt alleen deelnemen aan het gehele dagprogramma. Wil jij hierbij aanwezig zijn? Meld je dan snel aan door te mailen naar info@spe-amsterdam.nl \nWe zien jullie allemaal heel graag 20 mei! \n\nHet SPE-Team
URL:https://www.spe-amsterdam.nl/event/kennissessie-spe-seksueel-grensoverschrijdend-gedrag/
END:VEVENT
BEGIN:VEVENT
DTSTART;TZID=Europe/Amsterdam:20220521T100000
DTEND;TZID=Europe/Amsterdam:20220521T160000
DTSTAMP:20260423T082122
CREATED:20220425T135840Z
LAST-MODIFIED:20220425T135900Z
UID:18766-1653127200-1653148800@www.spe-amsterdam.nl
SUMMARY:Cursus fondsenwerving - Van plan naar aanvraag
DESCRIPTION:Fondsenwerving – Van plan naar aanvraag\n\n\n\nDe cursus \nIn Amsterdam zijn veel maatschappelijke (zelf)organisaties die zich inzetten voor de stad en haar bewoners. De subsidiemogelijkheden vanuit de gemeente worden steeds minder en organisaties kijken naar andere manieren om de continuïteit te waarborgen. In Nederland is veel geld beschikbaar voor maatschappelijke initiatieven\, maar het krijgen van voldoende financiering is zo gemakkelijk nog niet. In de cursus ‘Fondsenwerving’ ga je aan de slag met het vergroten van je kansen door het optimaliseren van je projectplan en aanvraag. \nDag 1: Jouw idee\nVoor sociale en creatieve instellingen zijn er enorm veel mogelijkheden voor het vinden van financiering. Het krijgen van voldoende financiering is echter niet zo makkelijk. Hoe zorg je ervoor dat jouw idee potentiële financiers overtuigt? Hoe zorg je ervoor dat je het idee straks ook netjes en binnen budget realiseert? Is een verdienmodel mogelijk? Wat moet er eigenlijk allemaal in een aanvraag staan? En welke mogelijkheden zijn er precies? \nIn dit gedeelte is er veel ruimte voor interactie\, opdrachten en vragen. En iedereen krijgt huiswerk: maak\, op basis van het in deel 1 geleerde\, een nieuw of verbeterd businessplan van jouw project. \nDag 2: Terugkoppeling\nIn deze tweede sessie zullen we op basis van alle businessplannen meer de diepte ingaan. Zijn de aantallen\, tijdsplanning\, financiën en doelen realistisch? Is het overtuigend opgeschreven? Wat kan er nog beter? Is aan alle formele criteria voldaan? Welke financieringsmogelijkheden zijn er voor jouw plan? \n\n\nVoor wie \n\n\nMensen die al enige ervaring hebben in het organiseren van projecten\, maar die graag een extra stap willen zetten en professioneler willen werken.\nMensen die een projectplan hebben waarmee ze een fonds willen aanvragen.\n\n\n\n\nResultaten \n\nAan het eind van deze bijeenkomsten heb je jouw projectvoorstel/ aanvraag geoptimaliseerd voor het aanvragen van fondsen. \n\n\n\nWerkwijze \n\nInteractieve bijeenkomsten waarbij dialoog\, presentatie\, oefening en evaluatie elkaar afwisselen. \n\n\n\nDocent \n\nSjoerd Jurkovich \nPraktische informatie: \n\n\n\nAanmelden tot\n\n\n\n15 mei 2022\n\n\n\n\n\nDatum(s)\n\n\nDag 1:\n21 mei 2022\nvan 10:00 tot 16:00 uur \nDag 2:\n25 juni 2022\nvan 10:00 tot 16:00 uur \nDe aanvang is vanaf 09:30 uur\, we starten om 10:00 uur! \n\n\n\n\nLocatie\n\n\n\nVenzo\nBijlmerdreef 432-434\n1102 AC Amsterdam
URL:https://www.spe-amsterdam.nl/event/cursus-fondsenwerving-van-plan-naar-aanvraag/
END:VEVENT
BEGIN:VEVENT
DTSTART;TZID=Europe/Amsterdam:20220521T170000
DTEND;TZID=Europe/Amsterdam:20220521T190000
DTSTAMP:20260423T082122
CREATED:20220304T162312Z
LAST-MODIFIED:20220304T162312Z
UID:18624-1653152400-1653159600@www.spe-amsterdam.nl
SUMMARY:Bijeenkomst Stichting Aknarij: de rol verdeling binnen het gezin
DESCRIPTION:Op 21 mei organiseert Stichting Aknarij een afsluitende bijeenkomst over de rolverdeling binnen het gezin: Machtsbronnen en verhoudingen binnen traditionele gezinnen.
URL:https://www.spe-amsterdam.nl/event/bijeenkomst-stichting-aknarij-de-rol-verdeling-binnen-het-gezin/
LOCATION:Karel doormanstraat 125
END:VEVENT
BEGIN:VEVENT
DTSTART;TZID=Europe/Amsterdam:20220525T190000
DTEND;TZID=Europe/Amsterdam:20220525T211500
DTSTAMP:20260423T082122
CREATED:20220519T062737Z
LAST-MODIFIED:20220519T062737Z
UID:18780-1653505200-1653513300@www.spe-amsterdam.nl
SUMMARY:Meet-up Emancipatiebeleid in Amsterdam
DESCRIPTION:Meet-up Emancipatiebeleid in Amsterdam\n  \nDe nieuw verkozen gemeenteraad gaat een financieel krappe periode tegemoet. Dat brengt\nhet risico met zich mee dat de emancipatie van vrouwen in de stad laag op de prioriteitenlijst\nkomt te staan bij politici en beleidsmakers. Op deze meet-up brengen we politici en experts\nbij elkaar om te praten over: Hoe bewaken we de inclusiviteit van de stad in tijden van\neconomische tegenslag? \nWil jij lokale politici ontmoeten\, meepraten over wat vrouwen in de stad nodig hebben en\nnadenken over hoe de gemeente en vrouwenorganisaties beter kunnen samenwerken? Meld\nje aan voor de meet-up Emancipatiebeleid. De meet-up wordt georganiseerd door Stem op\neen Vrouw en Equals Amsterdam. Aanmelden? Klik hier!
URL:https://www.spe-amsterdam.nl/event/meet-up-emancipatiebeleid-in-amsterdam/
END:VEVENT
END:VCALENDAR