BEGIN:VCALENDAR
VERSION:2.0
PRODID:-//SPE-Amsterdam - ECPv6.1.3//NONSGML v1.0//EN
CALSCALE:GREGORIAN
METHOD:PUBLISH
X-ORIGINAL-URL:https://www.spe-amsterdam.nl
X-WR-CALDESC:Evenementen voor SPE-Amsterdam
REFRESH-INTERVAL;VALUE=DURATION:PT1H
X-Robots-Tag:noindex
X-PUBLISHED-TTL:PT1H
BEGIN:VTIMEZONE
TZID:Europe/Amsterdam
BEGIN:DAYLIGHT
TZOFFSETFROM:+0100
TZOFFSETTO:+0200
TZNAME:CEST
DTSTART:20220327T010000
END:DAYLIGHT
BEGIN:STANDARD
TZOFFSETFROM:+0200
TZOFFSETTO:+0100
TZNAME:CET
DTSTART:20221030T010000
END:STANDARD
END:VTIMEZONE
BEGIN:VEVENT
DTSTART;TZID=Europe/Amsterdam:20220408T100000
DTEND;TZID=Europe/Amsterdam:20220408T120000
DTSTAMP:20260423T070036
CREATED:20220412T082755Z
LAST-MODIFIED:20220412T082755Z
UID:18713-1649412000-1649419200@www.spe-amsterdam.nl
SUMMARY:Beslisbijeenkomst zelfbewust opgroeien 2022
DESCRIPTION:Op 8 april zullen de organisaties die een projectplan hebben ingediend voor het speerpunt zelfbewust opgroeien hun projectplan pitchen om kans te maken op het speerpuntbudget.
URL:https://www.spe-amsterdam.nl/event/beslisbijeenkomst-zelfbewust-opgroeien-2022/
END:VEVENT
BEGIN:VEVENT
DTSTART;TZID=Europe/Amsterdam:20220423T170000
DTEND;TZID=Europe/Amsterdam:20220423T190000
DTSTAMP:20260423T070036
CREATED:20220304T161740Z
LAST-MODIFIED:20220304T161740Z
UID:18614-1650733200-1650740400@www.spe-amsterdam.nl
SUMMARY:Workshop Mensenrechten in relatie tot cultuur en religie
DESCRIPTION:Op 23 april organiseert Stichting Aknarij een workshop mensenrechten in relatie tot cultuur en religie ‘ongelijkheid tussen de seksen’.
URL:https://www.spe-amsterdam.nl/event/workshop-mensenrechten-in-relatie-tot-cultuur-en-religie/
END:VEVENT
BEGIN:VEVENT
DTSTART;TZID=Europe/Amsterdam:20220430T170000
DTEND;TZID=Europe/Amsterdam:20220430T190000
DTSTAMP:20260423T070036
CREATED:20220304T161841Z
LAST-MODIFIED:20220304T161841Z
UID:18618-1651338000-1651345200@www.spe-amsterdam.nl
SUMMARY:Workshop machogedrag\, groepsdruk en huiselijk geweld
DESCRIPTION:Op 30 april organiseert Stichting Aknarij een workshop machogedrag\, groepsdruk en huiselijk geweld.
URL:https://www.spe-amsterdam.nl/event/workshop-machogedrag-groepsdruk-en-huiselijk-geweld/
END:VEVENT
END:VCALENDAR