BEGIN:VCALENDAR
VERSION:2.0
PRODID:-//SPE-Amsterdam - ECPv6.1.3//NONSGML v1.0//EN
CALSCALE:GREGORIAN
METHOD:PUBLISH
X-WR-CALNAME:SPE-Amsterdam
X-ORIGINAL-URL:https://www.spe-amsterdam.nl
X-WR-CALDESC:Evenementen voor SPE-Amsterdam
REFRESH-INTERVAL;VALUE=DURATION:PT1H
X-Robots-Tag:noindex
X-PUBLISHED-TTL:PT1H
BEGIN:VTIMEZONE
TZID:Europe/Amsterdam
BEGIN:DAYLIGHT
TZOFFSETFROM:+0100
TZOFFSETTO:+0200
TZNAME:CEST
DTSTART:20210328T010000
END:DAYLIGHT
BEGIN:STANDARD
TZOFFSETFROM:+0200
TZOFFSETTO:+0100
TZNAME:CET
DTSTART:20211031T010000
END:STANDARD
END:VTIMEZONE
BEGIN:VEVENT
DTSTART;TZID=Europe/Amsterdam:20211201T183000
DTEND;TZID=Europe/Amsterdam:20211201T210000
DTSTAMP:20260423T010913
CREATED:20211015T132943Z
LAST-MODIFIED:20211105T144853Z
UID:18297-1638383400-1638392400@www.spe-amsterdam.nl
SUMMARY:Gratis training: ‘Flip the script’ van je leven – jouw verwerking in eigen handen!
DESCRIPTION:Ben je een jonge vrouw (18-30 jaar) en woonachtig in Amsterdam Zuidoost en ben je toe aan inspiratie en begeleiding bij een reset van je Leven? \nTijdens de training: “Flip the Script” van je Leven\, krijg je begeleiding van 3 inspirerende ervaringsdeskundigen. \nSheryv (24)\, Yumila (32) en Deirdre (52) kennen de ‘klappen van de zweep’ en hoe lastig soms is om trouw te blijven aan wat je diep van binnen graag wilt. \nSoms ben je zelfs helemaal kwijt wat het is dat je écht wilt. \nWe wensen dat relaties een bron van vreugde en liefde zijn. Helaas zitten ze soms boordevol conflict en/of zijn ze ronduit ‘toxic’. Tijdens 8 groepsbijeenkomsten en 1:1 coachingsessies word je begeleid om je verwerkingsproces in eigen handen te nemen. Je krijgt inzicht in jouw emoties en die van een ander. Je wordt gezien\, gehoord en begrepen. Je krijgt begeleiding bij het herschrijven van jouw Levensscript en de stappen te zetten die daarbij passen. Je krijgt tools in handen om grip en regie te krijgen over je toekomst. We helpen je bij het hervinden van geloof in jezelf. Je gaat aan de slag met de kracht die je in je hebt. We hebben plek voor maximaal 8 gemotiveerde ladies\, zo krijgt iedereen de aandacht en tijd die nodig is. \nWe gaan 3 november van start! Wil je meedoen of meer informatie? Laat je naam en nummer achter via whatsappnummer 085-2006455\, je wordt binnen 24 teruggebeld. \nMeer informatie op: https://www.hartvrouwen.nl/flip-the-script-van-je-leven/
URL:https://www.spe-amsterdam.nl/event/gratis-training-flip-the-script-van-je-leven-jouw-verwerking-in-eigen-handen-5/
END:VEVENT
BEGIN:VEVENT
DTSTART;TZID=Europe/Amsterdam:20211204T163000
DTEND;TZID=Europe/Amsterdam:20211204T200000
DTSTAMP:20260423T010913
CREATED:20211130T142923Z
LAST-MODIFIED:20211130T142923Z
UID:18399-1638635400-1638648000@www.spe-amsterdam.nl
SUMMARY:Opvoeden tussen twee culturen (vrouwen 18+)
DESCRIPTION:Aanmelden: hawa.bashir95@gmail.com\, 06 4531 6823 (Hawa) of 06 1991 6057 (Maha)
URL:https://www.spe-amsterdam.nl/event/opvoeden-tussen-twee-culturen-vrouwen-18/
LOCATION:Huis van de Wijk De Buurzaak\, Chris Lebeaustraat 4\, Amsterdam
END:VEVENT
BEGIN:VEVENT
DTSTART;TZID=Europe/Amsterdam:20211207T160000
DTEND;TZID=Europe/Amsterdam:20211207T173000
DTSTAMP:20260423T010913
CREATED:20211130T142506Z
LAST-MODIFIED:20211130T142506Z
UID:18396-1638892800-1638898200@www.spe-amsterdam.nl
SUMMARY:'Ja\, ik wil' voorstelling en workshop (meiden 14+)
DESCRIPTION:Een voorstelling met als thema: liefde\, seksuele vorming en consent. \nAanmelden:  f.majdoub@combiwel.nl
URL:https://www.spe-amsterdam.nl/event/ja-ik-wil-voorstelling-en-workshop-meiden-14/
LOCATION:Calandlyceum\, Pieter Calandlaan 182\, Amsterdam
END:VEVENT
BEGIN:VEVENT
DTSTART;TZID=Europe/Amsterdam:20211208T190000
DTEND;TZID=Europe/Amsterdam:20211208T210000
DTSTAMP:20260423T010913
CREATED:20211130T141415Z
LAST-MODIFIED:20211130T141415Z
UID:18390-1638990000-1638997200@www.spe-amsterdam.nl
SUMMARY:Workshop Gouden Verbinding\, herstel na huiselijk geweld dmv Japanse kunstvorm Kintsugi
DESCRIPTION:Een workshop voor vrouwen en mannen die verder willen na onveilig opgroeien of partner geweld. \nToegang\nAanmelden bij info@voltooidhersteldetijd.nl \nAdres\nElandsgracht 70\, Amsterdam \nLocatie\nClaverhuis\, Elandsgracht 70 \nMeer informatie\nContactpersoon is Lara van Gaalen \nhttps://www.amsterdam.nl/zorg-ondersteuning/huiselijk-geweld-kindermishandeling/activiteiten-huiselijk-geweld/activiteiten-stadsdeel-centrum/workshop-gouden-verbinding-herstel/ \n 
URL:https://www.spe-amsterdam.nl/event/workshop-gouden-verbinding-herstel-na-huiselijk-geweld-dmv-japanse-kunstvorm-kintsugi/
LOCATION:Buurthuis het Claverhuis\, Elandsgracht 70\, Amsterdam\, Nederland
END:VEVENT
BEGIN:VEVENT
DTSTART;VALUE=DATE:20211210
DTEND;VALUE=DATE:20211211
DTSTAMP:20260423T010913
CREATED:20210104T140537Z
LAST-MODIFIED:20210104T140537Z
UID:17468-1639094400-1639180799@www.spe-amsterdam.nl
SUMMARY:Beslisbijeenkomst Speerpunt 5: Arbeid & Zorg
DESCRIPTION:Tijdens de beslisbijeenkomst presenteren de organisaties van wie de aanvragen voor het speerpunt Arbeid & Zorg zijn goedgekeurd hun project en wordt er bepaald wie budget uitgekeerd krijgt.
URL:https://www.spe-amsterdam.nl/event/beslisbijeenkomst-speerpunt-5-arbeid-zorg/
END:VEVENT
END:VCALENDAR