BEGIN:VCALENDAR
VERSION:2.0
PRODID:-//SPE-Amsterdam - ECPv6.1.3//NONSGML v1.0//EN
CALSCALE:GREGORIAN
METHOD:PUBLISH
X-WR-CALNAME:SPE-Amsterdam
X-ORIGINAL-URL:https://www.spe-amsterdam.nl
X-WR-CALDESC:Evenementen voor SPE-Amsterdam
REFRESH-INTERVAL;VALUE=DURATION:PT1H
X-Robots-Tag:noindex
X-PUBLISHED-TTL:PT1H
BEGIN:VTIMEZONE
TZID:Europe/Amsterdam
BEGIN:DAYLIGHT
TZOFFSETFROM:+0100
TZOFFSETTO:+0200
TZNAME:CEST
DTSTART:20210328T010000
END:DAYLIGHT
BEGIN:STANDARD
TZOFFSETFROM:+0200
TZOFFSETTO:+0100
TZNAME:CET
DTSTART:20211031T010000
END:STANDARD
END:VTIMEZONE
BEGIN:VEVENT
DTSTART;TZID=Europe/Amsterdam:20211102T140000
DTEND;TZID=Europe/Amsterdam:20211102T160000
DTSTAMP:20260422T234603
CREATED:20210930T105427Z
LAST-MODIFIED:20210930T105427Z
UID:18247-1635861600-1635868800@www.spe-amsterdam.nl
SUMMARY:Cursus assertiviteit
DESCRIPTION:
URL:https://www.spe-amsterdam.nl/event/cursus-assertiviteit-2/
LOCATION:Civic Amsterdam\, Kramatplantsoen 101 h\, Amsterdam
ATTACH;FMTTYPE=application/pdf:https://www.spe-amsterdam.nl/wp-content/uploads/2021/09/Cursus-Assertiviteit-1.pdf
END:VEVENT
BEGIN:VEVENT
DTSTART;TZID=Europe/Amsterdam:20211103T183000
DTEND;TZID=Europe/Amsterdam:20211103T210000
DTSTAMP:20260422T234603
CREATED:20211015T131801Z
LAST-MODIFIED:20211015T131801Z
UID:18284-1635964200-1635973200@www.spe-amsterdam.nl
SUMMARY:Gratis training: 'Flip the script' van je leven - jouw verwerking in eigen handen!
DESCRIPTION:Ben je een jonge vrouw (18-30 jaar) en woonachtig in Amsterdam Zuidoost en ben je toe aan inspiratie en begeleiding bij een reset van je Leven? \nTijdens de training: “Flip the Script” van je Leven\, krijg je begeleiding van 3 inspirerende ervaringsdeskundigen. \nSheryv (24)\, Yumila (32) en Deirdre (52) kennen de ‘klappen van de zweep’ en hoe lastig soms is om trouw te blijven aan wat je diep van binnen graag wilt. \nSoms ben je zelfs helemaal kwijt wat het is dat je écht wilt. \nWe wensen dat relaties een bron van vreugde en liefde zijn. Helaas zitten ze soms boordevol conflict en/of zijn ze ronduit ‘toxic’. Tijdens 8 groepsbijeenkomsten en 1:1 coachingsessies word je begeleid om je verwerkingsproces in eigen handen te nemen. Je krijgt inzicht in jouw emoties en die van een ander. Je wordt gezien\, gehoord en begrepen. Je krijgt begeleiding bij het herschrijven van jouw Levensscript en de stappen te zetten die daarbij passen. Je krijgt tools in handen om grip en regie te krijgen over je toekomst. We helpen je bij het hervinden van geloof in jezelf. Je gaat aan de slag met de kracht die je in je hebt. We hebben plek voor maximaal 8 gemotiveerde ladies\, zo krijgt iedereen de aandacht en tijd die nodig is. \nWe gaan 3 november van start! Wil je meedoen of meer informatie? Laat je naam en nummer achter via whatsappnummer 085-2006455\, je wordt binnen 24 teruggebeld. \nMeer informatie op: https://www.hartvrouwen.nl/flip-the-script-van-je-leven/
URL:https://www.spe-amsterdam.nl/event/gratis-training-flip-the-script-van-je-leven-jouw-verwerking-in-eigen-handen/
END:VEVENT
BEGIN:VEVENT
DTSTART;TZID=Europe/Amsterdam:20211109T140000
DTEND;TZID=Europe/Amsterdam:20211109T163000
DTSTAMP:20260422T234603
CREATED:20211022T141053Z
LAST-MODIFIED:20211022T141913Z
UID:18300-1636466400-1636475400@www.spe-amsterdam.nl
SUMMARY:Filmvertoning Doula's van de Stad - Female Economy x SPE
DESCRIPTION:Fotograaf: Robin Haurissa \n  \nDoula’s van de Stad volgt Adelheid Roosen’s bewondering voor vrouwen die in de haarvaten van hun wijken en stad dagelijks klaar staan voor een ander. Zij zetten hun persoonlijke ervaringen om in een onmisbare kracht die anderen helpt en ondersteunt. Net als een Doula – zij die jou gidst – geven deze vrouwen vanuit kundigheid en eigen ervaring steun aan hun gemeenschappen. \nMet hun alerte zintuigen vechten ze tegen armoede\, eenzaamheid\, drugs\, criminaliteit en meer. \n  \nZij zien het onrecht\, \nRuiken het verdriet\, \nHoren het geweld\, \nEn proeven de tranen. \n  \nWat drijft deze vrouwen? Hoe komt het dat zij zo belangeloos kunnen geven? De in 2020 geplande theatervoorstelling met tachtig vrouwen kon door de coronamaatregelen niet doorgaan. Adelheid bracht zeven van deze vrouwen alsnog samen om het gestarte repetitieproces via intieme Zoomsessies voort te zetten. En door gespreksleider Jale Simsek kon ze zelf ook in gelijkwaardigheid deelnemen aan het gesprek. \nZonder elkaar te kennen bij aanvang\, bleek het delen en tonen van hun kwetsbaarheid een gedeelde behoefte. Werkend vanuit hun autobiografie\, voeden zij – vaak ongezien en niet op werkelijke waarde geschat – de samenleving. De openhartigheid van de acht vrouwen bracht de bron van waaruit zij geven aan het licht én zorgde voor een onverwachte wending: ondanks hun totaal verschillende achtergronden ontdekten de vrouwen dat er meer is wat hen bindt dan ze verwacht hadden. De in lockdown gemaakte film Doula’s van de Stad toont de verbondenheid in deze intieme gesprekken en brengt een ode aan de vrouwelijke kracht. \nDE FILM \nDoula’s van de Stad volgt Adelheid Roosen’s bewondering voor vrouwen die vanuit kundigheid en eigen ervaring steun geven aan hun gemeenschappen. De vraag die centraal staat is: hoe komt het dat deze vrouwen zo belangeloos kunnen geven aan de stad\, en uit welke bron putten zij? De in 2020 geplande theatervoorstelling met tachtig vrouwen kon door de coronamaatregelen niet doorgaan. Adelheid bracht daarom zeven van deze vrouwen alsnog samen om het gestarte repetitieproces via intieme Zoomsessies voort te zetten. \nOndanks hun totaal verschillende achtergronden ontdekten de vrouwen dat er meer is wat hen bindt dan ze verwacht hadden. De in lockdown gemaakte film Doula’s van de Stad toont de verbondenheid in deze intieme gesprekken en brengt een ode aan de vrouwelijke kracht. \n  \nWANNEER EN WAAR? \nOp 9 november 2021\, 14:00-16:30\, vertonen wij Doula’s van de Stad op het Max Euweplein 36. Nadien gaan we in gesprek met doula’s Nora en Darifa\, en gespreksleider Myriam Sahraoui. Geniet van de film EN een open en prikkelend nagesprek over het besturen van stichtingen/initiatieven en meer. Wat hebben jullie nodig om voluit te kunnen functioneren? \nOp 30 november 2021 wordt er naar aanleiding van deze film een avond in Pakhuis de Zwijger georganiseerd met beleidsmakers. Ook wij kunnen hier onze stem laten horen\, en zijn welkom om onze groep op de kaart te zetten. De punten die we op 9 november verzamelen\, kunnen we in deze avond meenemen. \nMeld je aan door te mailen naar info@spe-amsterdam.nl
URL:https://www.spe-amsterdam.nl/event/filmvertoning-doulas-van-de-stad-female-academy-x-spe/
LOCATION:Max Euweplein 36\, Max Euweplein 36\, Amsterdam\, 1017MB\, Nederland
ATTACH;FMTTYPE=image/png:https://www.spe-amsterdam.nl/wp-content/uploads/2021/10/Schermafbeelding-2021-10-22-om-17.09.29.png
END:VEVENT
BEGIN:VEVENT
DTSTART;TZID=Europe/Amsterdam:20211110T110000
DTEND;TZID=Europe/Amsterdam:20211110T140000
DTSTAMP:20260422T234603
CREATED:20211028T130704Z
LAST-MODIFIED:20211028T130819Z
UID:18321-1636542000-1636552800@www.spe-amsterdam.nl
SUMMARY:Dag van de mantelzorg
DESCRIPTION:
URL:https://www.spe-amsterdam.nl/event/dag-van-de-mantelzorg/
LOCATION:Timorplein 21
END:VEVENT
BEGIN:VEVENT
DTSTART;TZID=Europe/Amsterdam:20211110T183000
DTEND;TZID=Europe/Amsterdam:20211110T210000
DTSTAMP:20260422T234603
CREATED:20211015T132410Z
LAST-MODIFIED:20211105T145243Z
UID:18289-1636569000-1636578000@www.spe-amsterdam.nl
SUMMARY:Gratis training: ‘Flip the script’ van je leven – jouw verwerking in eigen handen!
DESCRIPTION:Ben je een jonge vrouw (18-30 jaar) en woonachtig in Amsterdam Zuidoost en ben je toe aan inspiratie en begeleiding bij een reset van je Leven? \nTijdens de training: “Flip the Script” van je Leven\, krijg je begeleiding van 3 inspirerende ervaringsdeskundigen. \nSheryv (24)\, Yumila (32) en Deirdre (52) kennen de ‘klappen van de zweep’ en hoe lastig soms is om trouw te blijven aan wat je diep van binnen graag wilt. \nSoms ben je zelfs helemaal kwijt wat het is dat je écht wilt. \nWe wensen dat relaties een bron van vreugde en liefde zijn. Helaas zitten ze soms boordevol conflict en/of zijn ze ronduit ‘toxic’. Tijdens 8 groepsbijeenkomsten en 1:1 coachingsessies word je begeleid om je verwerkingsproces in eigen handen te nemen. Je krijgt inzicht in jouw emoties en die van een ander. Je wordt gezien\, gehoord en begrepen. Je krijgt begeleiding bij het herschrijven van jouw Levensscript en de stappen te zetten die daarbij passen. Je krijgt tools in handen om grip en regie te krijgen over je toekomst. We helpen je bij het hervinden van geloof in jezelf. Je gaat aan de slag met de kracht die je in je hebt. We hebben plek voor maximaal 8 gemotiveerde ladies\, zo krijgt iedereen de aandacht en tijd die nodig is. \nWe gaan 3 november van start! Wil je meedoen of meer informatie? Laat je naam en nummer achter via whatsappnummer 085-2006455\, je wordt binnen 24 teruggebeld. \nMeer informatie op: https://www.hartvrouwen.nl/flip-the-script-van-je-leven/
URL:https://www.spe-amsterdam.nl/event/gratis-training-flip-the-script-van-je-leven-jouw-verwerking-in-eigen-handen-2/
END:VEVENT
BEGIN:VEVENT
DTSTART;TZID=Europe/Amsterdam:20211117T183000
DTEND;TZID=Europe/Amsterdam:20211117T210000
DTSTAMP:20260422T234603
CREATED:20211015T132633Z
LAST-MODIFIED:20211105T145147Z
UID:18292-1637173800-1637182800@www.spe-amsterdam.nl
SUMMARY:Gratis training: ‘Flip the script’ van je leven – jouw verwerking in eigen handen!
DESCRIPTION:Ben je een jonge vrouw (18-30 jaar) en woonachtig in Amsterdam Zuidoost en ben je toe aan inspiratie en begeleiding bij een reset van je Leven? \nTijdens de training: “Flip the Script” van je Leven\, krijg je begeleiding van 3 inspirerende ervaringsdeskundigen. \nSheryv (24)\, Yumila (32) en Deirdre (52) kennen de ‘klappen van de zweep’ en hoe lastig soms is om trouw te blijven aan wat je diep van binnen graag wilt. \nSoms ben je zelfs helemaal kwijt wat het is dat je écht wilt. \nWe wensen dat relaties een bron van vreugde en liefde zijn. Helaas zitten ze soms boordevol conflict en/of zijn ze ronduit ‘toxic’. Tijdens 8 groepsbijeenkomsten en 1:1 coachingsessies word je begeleid om je verwerkingsproces in eigen handen te nemen. Je krijgt inzicht in jouw emoties en die van een ander. Je wordt gezien\, gehoord en begrepen. Je krijgt begeleiding bij het herschrijven van jouw Levensscript en de stappen te zetten die daarbij passen. Je krijgt tools in handen om grip en regie te krijgen over je toekomst. We helpen je bij het hervinden van geloof in jezelf. Je gaat aan de slag met de kracht die je in je hebt. We hebben plek voor maximaal 8 gemotiveerde ladies\, zo krijgt iedereen de aandacht en tijd die nodig is. \nWe gaan 3 november van start! Wil je meedoen of meer informatie? Laat je naam en nummer achter via whatsappnummer 085-2006455\, je wordt binnen 24 teruggebeld. \nMeer informatie op: https://www.hartvrouwen.nl/flip-the-script-van-je-leven/
URL:https://www.spe-amsterdam.nl/event/gratis-training-flip-the-script-van-je-leven-jouw-verwerking-in-eigen-handen-3/
END:VEVENT
BEGIN:VEVENT
DTSTART;TZID=Europe/Amsterdam:20211119T130000
DTEND;TZID=Europe/Amsterdam:20211119T130000
DTSTAMP:20260422T234603
CREATED:20210104T135655Z
LAST-MODIFIED:20210104T135655Z
UID:17457-1637326800-1637326800@www.spe-amsterdam.nl
SUMMARY:Deadline Aanvraag Speerpuntenbudget – Speerpunt 5: Arbeid & Zorg
DESCRIPTION:Om 13:00 is de deadline voor het indienen van een aanvraag bij het SPE om budget te krijgen voor een project gerelateerd aan het speerpunt Arbeid & Zorg.
URL:https://www.spe-amsterdam.nl/event/deadline-aanvraag-speerpuntenbudget-speerpunt-5-arbeid-zorg/
END:VEVENT
BEGIN:VEVENT
DTSTART;TZID=Europe/Amsterdam:20211124T183000
DTEND;TZID=Europe/Amsterdam:20211124T210000
DTSTAMP:20260422T234603
CREATED:20211015T132819Z
LAST-MODIFIED:20211105T145101Z
UID:18295-1637778600-1637787600@www.spe-amsterdam.nl
SUMMARY:Gratis training: ‘Flip the script’ van je leven – jouw verwerking in eigen handen!
DESCRIPTION:Ben je een jonge vrouw (18-30 jaar) en woonachtig in Amsterdam Zuidoost en ben je toe aan inspiratie en begeleiding bij een reset van je Leven? \nTijdens de training: “Flip the Script” van je Leven\, krijg je begeleiding van 3 inspirerende ervaringsdeskundigen. \nSheryv (24)\, Yumila (32) en Deirdre (52) kennen de ‘klappen van de zweep’ en hoe lastig soms is om trouw te blijven aan wat je diep van binnen graag wilt. \nSoms ben je zelfs helemaal kwijt wat het is dat je écht wilt. \nWe wensen dat relaties een bron van vreugde en liefde zijn. Helaas zitten ze soms boordevol conflict en/of zijn ze ronduit ‘toxic’. Tijdens 8 groepsbijeenkomsten en 1:1 coachingsessies word je begeleid om je verwerkingsproces in eigen handen te nemen. Je krijgt inzicht in jouw emoties en die van een ander. Je wordt gezien\, gehoord en begrepen. Je krijgt begeleiding bij het herschrijven van jouw Levensscript en de stappen te zetten die daarbij passen. Je krijgt tools in handen om grip en regie te krijgen over je toekomst. We helpen je bij het hervinden van geloof in jezelf. Je gaat aan de slag met de kracht die je in je hebt. We hebben plek voor maximaal 8 gemotiveerde ladies\, zo krijgt iedereen de aandacht en tijd die nodig is. \nWe gaan 3 november van start! Wil je meedoen of meer informatie? Laat je naam en nummer achter via whatsappnummer 085-2006455\, je wordt binnen 24 teruggebeld. \nMeer informatie op: https://www.hartvrouwen.nl/flip-the-script-van-je-leven/
URL:https://www.spe-amsterdam.nl/event/gratis-training-flip-the-script-van-je-leven-jouw-verwerking-in-eigen-handen-4/
END:VEVENT
BEGIN:VEVENT
DTSTART;TZID=Europe/Amsterdam:20211125T193000
DTEND;TZID=Europe/Amsterdam:20211125T213000
DTSTAMP:20260422T234603
CREATED:20211116T082832Z
LAST-MODIFIED:20211116T082832Z
UID:18361-1637868600-1637875800@www.spe-amsterdam.nl
SUMMARY:Workshop protestborden maken tegen femicide
DESCRIPTION:Locatie: Atria\nDatum: 25 november\, 2021\nTijd: 19:30\nType: Workshop\n\nBijna wekelijks wordt er in Nederland een vrouw slachtoffer van femicide: de moord op vrouwen omdat ze vrouw zijn. In meer dan de helft van de gevallen is de dader de (ex)partner. Deze extreme vorm van geweld moet stoppen! Daarvoor gaan wij de straat op\, op 28 november tijdens het Orange the World ‘Dansen op de Dam’ protest. Geen stille tocht\, maar een samenkomst waar we ons flink laten horen. Daar willen we natuurlijk niet alleen staan\, maar samen met jou! \nWil jij meer te weten komen over femicide en ook alvast werken aan jouw protestbord? Kom dan naar de workshop die we samen met De Bovengrondse organiseren in de bibliotheek van Atria. Deze workshop vindt plaats op 25 november\, de dag die de aftrap vormt van de 16 dagen van activisme tegen gendergeweld. \nHet programma\n19:15 Inloop\n19:30 Start programma – Welkom door Atria en korte inleiding ‘Wat is femicide’\n19:50 UN Women – Waarom ‘Dansen op de Dam’?\n20:00 De Bovengrondse – Inspiratie voor een goed protestbord\n20:15 Aan de slag! – Protestborden maken\n21:30 Wrap-up & borrel \nWij zorgen voor diverse materialen voor het maken van een goed protestbord. \nLocatie\nHet evenement vindt plaats in de Bibliotheek Atria\, kennisinstituut voor emancipatie en vrouwengeschiedenis aan de Vijzelstraat 20. De bibliotheek van Atria is rolstoeltoegankelijk. \nR.S.V.P.\nWe houden ons aan het 1.5-meteradvies\, waardoor er een beperkt aantal mensen aanwezig kan zijn. Wil je erbij zijn? Meld je vóór dinsdag 23 november aan via onderstaand aanmeldingsformulier\, dan houden we zicht op het aantal gasten. \nDe workshop is een samenwerking van Atria en de Bovengrondse. Het protest ‘Dansen op de Dam’ is een samenwerking van Atria\, UN Women\, Emancipator\, de Bovengrondse en Stem op een Vrouw.
URL:https://www.spe-amsterdam.nl/event/workshop-protestborden-maken-tegen-femicide/
LOCATION:Atria\, Vijzelstraat 20\, Amsterdam
ATTACH;FMTTYPE=image/jpeg:https://www.spe-amsterdam.nl/wp-content/uploads/2021/11/pexels-anete-lusina-5723324-scaled-1.jpg
END:VEVENT
BEGIN:VEVENT
DTSTART;VALUE=DATE:20211126
DTEND;VALUE=DATE:20211127
DTSTAMP:20260422T234603
CREATED:20210104T141800Z
LAST-MODIFIED:20210104T141800Z
UID:17480-1637884800-1637971199@www.spe-amsterdam.nl
SUMMARY:Professionaliseringsdag SPE
DESCRIPTION:Verdere informatie over het programma volgt.
URL:https://www.spe-amsterdam.nl/event/professionaliseringsdag-spe-3/
END:VEVENT
BEGIN:VEVENT
DTSTART;VALUE=DATE:20211128
DTEND;VALUE=DATE:20211129
DTSTAMP:20260422T234603
CREATED:20211116T082213Z
LAST-MODIFIED:20211129T094850Z
UID:18357-1638057600-1638143999@www.spe-amsterdam.nl
SUMMARY:UITGESTELD Break the silence against violence!
DESCRIPTION:Op 28 november om 12:00 uur organiseren UN Women Nederland\, Atria\, Emancipator\, Stem op een Vrouw en De Bovengrondse de Orange The World Demonstration in Amsterdam. Hiermee vragen ze aandacht voor de bestrijding van alle vormen van geweld tegen vrouwen\, en femicide in het bijzonder. Ze kiezen er bewust voor om geen stille tocht te organiseren\, ter nagedachtenis aan de slachtoffers\, zoals je dit vaak ziet na gevallen van zinloos geweld. Ze roepen iedereen op om samen met ons de stilte te doorbreken en letterlijk een beweging in gang te zetten die strijdt tegen geweld. Kom massaal naar het Westerpark en laat Nederland zien dat gendergerelateerd geweld nú aangepakt moet worden! \nVoor meer info\, zie: https://www.facebook.com/events/dam-square/orange-the-world-dansen-op-de-dam-om-geweld-tegen-vrouwen-te-stoppen/858347104864878/ \n 
URL:https://www.spe-amsterdam.nl/event/dansen-op-de-dam-om-geweld-tegen-vrouwen-te-stoppen/
LOCATION:Westerpark\, Amsterdam
ATTACH;FMTTYPE=image/jpeg:https://www.spe-amsterdam.nl/wp-content/uploads/2021/11/Dansen-op-de-dam-e1636113970979-9900000000079e3c.jpg
END:VEVENT
BEGIN:VEVENT
DTSTART;TZID=Europe/Amsterdam:20211128T120000
DTEND;TZID=Europe/Amsterdam:20211128T190000
DTSTAMP:20260422T234603
CREATED:20211116T081501Z
LAST-MODIFIED:20211116T081501Z
UID:18350-1638100800-1638126000@www.spe-amsterdam.nl
SUMMARY:The Safe Space Event - De eerste stap naar hulp voor survivors van seksueel geweld.
DESCRIPTION:Meld je aan en zet de eerste stap naar een betere toekomst!\n\n\n\n\n\nAbout this event\n\n\nOp The Safe Space Event kunnen survivors van (online) seksueel geweld een eerste stap zetten naar een betere toekomst. Het is een veilige plek\, waar je op je eigen tempo en op jouw voorwaarden leert wat je kunt doen om jouw trauma te verwerken. \nHet Safe Space Event is bedacht door ervaringsdeskundigen: mensen die ook seksueel geweld hebben meegemaakt en die dus begrijpen waar je doorheen gaat. \nHet is een veilige omgeving waarin je niets hoeft uit te leggen. Of je je nu boos of angstig voelt\, of dat je je misschien schaamt: dat hoef je niet te verantwoorden. Wij begrijpen waar je mee worstelt. \nJe mag alles vragen\, maar je hoeft nergens op te antwoorden. Je mag vertellen hoe je heet\, maar je mag ook anoniem blijven. Je mag praten over wat je hebt meegemaakt\, maar dat hoeft niet. Je mag ook alleen maar luisteren. Iedereen die seksueel geweld heeft meegemaakt is welkom. \nHet maakt niet uit hoe lang geleden het gebeurd is. Ook jouw naasten zijn welkom. \nOp The Safe Space Event krijg je op toegankelijke en laagdrempelige manier inzicht in de gevolgen van seksueel geweld en hoe je daar mee om kunt gaan. Wist je bijvoorbeeld dat er heel veel verschillende vormen van hulpverlening bestaan? \nJe kunt anoniem vragen stellen aan o.a. politie\, psychologen\, seksuologen\, centrum seksueel geweld en slachtofferhulp Nederland. Daarnaast kan je genieten van muziek\, en diverse workshops\, en lekkere hapjes en drankjes. \nLet op! Heb je dieet wensen zoals Halal of vegan geef deze dan aan ons door via contact@stichtingtogetherwerise.nl \nLet op! QR code en toegangsbewijs is verplicht op dit event. Het event is besloten. Aanvang is om 11:30 en de deuren sluiten uiterlijk om 12:00. Kom dus op tijd! \nHet programma is als volgt: \n12:00 Opening door Femke Halsema\, burgemeester Amsterdam \n12:20 Dialoog workshop \n13:35 Mini workshops \n14:10 Q&A Zedenpolitie / Psycholoog \n15:20 Warm eten + Expositie hear me now \n16:30 Q&A Seksuoloog \n17:40 Optreden Danique \n19:00 Afsluiting + Borrel \nThe Safe Space Event. De eerste stap naar hulp zet je hier. Meld je nu aan via onderstaande link: \nhttps://www.eventbrite.com/e/the-safe-space-event-tickets-200909454587 \n 
URL:https://www.spe-amsterdam.nl/event/the-safe-space-event-de-eerste-stap-naar-hulp-voor-survivors-van-seksueel-geweld/
LOCATION:Tom Schreursweg 8\, Tom Schreursweg 8\, Amsterdam\, 1067 MC
ATTACH;FMTTYPE=image/jpeg:https://www.spe-amsterdam.nl/wp-content/uploads/2021/11/https___cdn.evbuc_.com_images_177678439_162999425527_1_original.jpg
END:VEVENT
BEGIN:VEVENT
DTSTART;TZID=Europe/Amsterdam:20211130T080000
DTEND;TZID=Europe/Amsterdam:20211130T170000
DTSTAMP:20260422T234603
CREATED:20211130T141750Z
LAST-MODIFIED:20211130T141750Z
UID:18393-1638259200-1638291600@www.spe-amsterdam.nl
SUMMARY:Generatiedialoog over tradities\, normen en waarden (moeders en meiden 15+)
DESCRIPTION:Aanmelden: 06 8322 6435 \n 
URL:https://www.spe-amsterdam.nl/event/generatiedialoog-over-tradities-normen-en-waarden-moeders-en-meiden-15/
LOCATION:Sulemaniye moskee\, Ookmeerweg 206\, Amsterdam
END:VEVENT
END:VCALENDAR