BEGIN:VCALENDAR
VERSION:2.0
PRODID:-//SPE-Amsterdam - ECPv6.1.3//NONSGML v1.0//EN
CALSCALE:GREGORIAN
METHOD:PUBLISH
X-WR-CALNAME:SPE-Amsterdam
X-ORIGINAL-URL:https://www.spe-amsterdam.nl
X-WR-CALDESC:Evenementen voor SPE-Amsterdam
REFRESH-INTERVAL;VALUE=DURATION:PT1H
X-Robots-Tag:noindex
X-PUBLISHED-TTL:PT1H
BEGIN:VTIMEZONE
TZID:Europe/Amsterdam
BEGIN:DAYLIGHT
TZOFFSETFROM:+0100
TZOFFSETTO:+0200
TZNAME:CEST
DTSTART:20210328T010000
END:DAYLIGHT
BEGIN:STANDARD
TZOFFSETFROM:+0200
TZOFFSETTO:+0100
TZNAME:CET
DTSTART:20211031T010000
END:STANDARD
END:VTIMEZONE
BEGIN:VEVENT
DTSTART;TZID=Europe/Amsterdam:20210907T093000
DTEND;TZID=Europe/Amsterdam:20210907T130000
DTSTAMP:20260422T211125
CREATED:20210729T114704Z
LAST-MODIFIED:20210729T115211Z
UID:18164-1631007000-1631019600@www.spe-amsterdam.nl
SUMMARY:eVa & adaM - Taaltafel
DESCRIPTION:Participatiecentrum Eva & Adam organiseert samen met Leef en Leer weer een Taaltafel. \nEen bijeenkomst voor iedereen in Amsterdam Noord die zich bezighouden met basisvaardigheden als taal en rekenen. Tijdens deze Taaltafel zullen we ontdekken wat de organisaties in Noord jou op taal-en digitaal gebied te bieden heeft. \nWe hopen op een fysieke bijeenkomst op 7 september. \nLocatie: Huis van de Wijk Waterlandplein 09.30 – 13.00 uur.  \nDe officiële uitnodiging met programma volgt. Dan zullen we jullie laten weten of de bijeenkomst fysiek of online zal zijn. Laat je weten of je erbij kunt zijn? Stuur een mailtje naar eva.adam@civicamsterdam.nl
URL:https://www.spe-amsterdam.nl/event/eva-adam-taaltafel/
LOCATION:huis van de wijk waterlandplein\, Waterlandplein 302\, Amsterdam
ATTACH;FMTTYPE=image/png:https://www.spe-amsterdam.nl/wp-content/uploads/2018/01/Eva-Adam.png
ORGANIZER;CN="eVa%20%26%20adaM":MAILTO:info@civicamsterdam.nl
END:VEVENT
BEGIN:VEVENT
DTSTART;VALUE=DATE:20210913
DTEND;VALUE=DATE:20210915
DTSTAMP:20260422T211125
CREATED:20210726T074425Z
LAST-MODIFIED:20210726T074425Z
UID:18157-1631491200-1631663999@www.spe-amsterdam.nl
SUMMARY:We Rise - Power BI Basics (2-day program)
DESCRIPTION:The world of Data & AI – Power BI Basics (2-day program) \nWe Rise & Techionista \nData: 13 & 14 september\nLocatie: Online\nDuur: 2 volle dagen\nTaal: Nederlands\nKosten: Gratis \nVoor wie? 15 vrouwen & meiden (+23)\, geïnteresseerd om in de wereld van Data & AI te duiken \nDoel van de training? \n\nDashboard in Power BI leren bouwen.\nVerbeteren van je soft & hard skills \n\n  \nWat heb je er aan? \n\nDichterbij de wereld van Data & AI komen\nJe netwerk vergroten \nVersterken van je werk persoonlijkheid en mentaliteit 
URL:https://www.spe-amsterdam.nl/event/we-rise-power-bi-basics-2-day-program/
LOCATION:Online
ORGANIZER;CN="We%20Rise":MAILTO:info@we-rise.co
END:VEVENT
BEGIN:VEVENT
DTSTART;TZID=Europe/Amsterdam:20210916T100000
DTEND;TZID=Europe/Amsterdam:20210916T113000
DTSTAMP:20260422T211125
CREATED:20210726T075733Z
LAST-MODIFIED:20210726T075733Z
UID:18161-1631786400-1631791800@www.spe-amsterdam.nl
SUMMARY:We Rise - Webinar #IamRemarkable
DESCRIPTION:#IamRemarkable  \nWe Rise & Google  \n  \nDate: 16th September  \nTime: 10.00 – 11.30 am \nLocation: Online \nLanguage: English  \nParticipation fee: free of charge / Kosten: gratis \n  \nThe #IamRemarkable webinar aims to give the stage to underrepresented groups to speak openly about their performance in the workplace and beyond. During the webinar\, you will learn to improve your self-promotion skills. \nHet #IamRemarkable webinar is bedoeld om ondervertegenwoordigde groepen het podium te geven om openlijk te spreken over hun prestaties op de werkvloer en daarbuiten. Tijdens de webinar leer je je vaardigheden op het gebied van zelfpromotie te verbeteren.
URL:https://www.spe-amsterdam.nl/event/we-rise-webinar-iamremarkable/
ATTACH;FMTTYPE=image/jpeg:https://www.spe-amsterdam.nl/wp-content/uploads/2021/07/remarkable.jpg
END:VEVENT
BEGIN:VEVENT
DTSTART;VALUE=DATE:20210917
DTEND;VALUE=DATE:20210918
DTSTAMP:20260422T211125
CREATED:20210104T141702Z
LAST-MODIFIED:20210907T073943Z
UID:17478-1631836800-1631923199@www.spe-amsterdam.nl
SUMMARY:Netwerkbijeenkomst SPE
DESCRIPTION:Datum: Vrijdag 17 september 2021\nLocatie:  MidWest\, Cabralstraat 1\, 1057 CD Amsterdam\nTijden: 10.00 – 14:00 (inclusief lunch) \nWij hebben zin om na de zomerstop weer aan de slag te gaan! Op vrijdag 17 september trappen we af met de netwerkbijeenkomst  ‘seksualiteit en gender bespreken met je achterban\, hoe doe je dat?’  \nLBTQI+ meiden en vrouwen durven niet altijd uit te komen voor hun seksuele- en genderidentiteit. Dit terwijl in Nederland bijna 10% van de meisjes zich vooral of uitsluitend seksueel aangetrokken voelt tot personen van hetzelfde geslacht; en ongeveer 3\,9% van de bevolking zich niet volledig met het geslacht dat is geregistreerd bij de geboorte identificeert (Movisie). Als organisatie kan je ook te maken krijgen met deze thema’s. Misschien spreek je wel eens meiden die niet eerlijk durven te vertellen aan hun familie of omgeving wie ze zijn of hoe ze zich voelen omdat hun omgeving niet wil dat een vrouw gevoelens heeft voor een andere vrouw. Of signaleer je juist als organisatie dat het onderwerp niet genoeg besproken wordt en wil je hier in de toekomst meer ruimte voor bieden. LBTQI+ meiden en vrouwen die niet altijd zichzelf kunnen zijn leven vaak een dubbelleven. Dit kan ervoor zorgen dat vrouwen zich bang\, eenzaam of zelfs depressief voelen. \nHet doel van de bijeenkomst is om samen met experts een beter beeld te krijgen van de onderwerpen gender en seksualiteit. Daarnaast gaan we samen op zoek naar handvatten die je kan toepassen om een veilig gesprek te faciliteren binnen je organisatie met de meiden en vrouwen\, maar ook met hun omgeving. Tijdens de sessie is er veel ruimte voor vragen en het uitwisselen van ideeën en ervaringen. Deel je eigen ideeën en ervaringen dus ook vooral! \nDe vrouwenrechtswinkel komt langs!\nWe beginnen de dag met een korte presentatie van de Vrouwenrechtswinkel die in de maand september geopend wordt in Amsterdam. Zij komen meer vertellen over de diensten die zij aanbieden en hoe jullie daar als vrouwenveld gebruik van kunnen maken. \nProgramma \n10:00 – 10:10 – Opening\n10:10 – 10:40 – Kennismaking met de Vrouwenrechtswinkel Amsterdam\n10:40 – 11:25 – Stoomcursus gender- en seksuele diversiteit door Joey Poerwoatmodjo van Movisie.\n11:25 – 11:35 – Pauze\n11:35 – 13:00 – Workshop door Sexmatters\n13:00 – 14:00 – Lunch \nWil jij hierbij aanwezig zijn? Meld je dan snel aan via onderstaande knop of door te mailen naar info@spe-amsterdam.nl. Deelname is gratis. Je kunt alleen deelnemen aan het gehele dagprogramma. Mocht je onverhoopt toch niet meer aanwezig kunnen zijn\, laat ons dit dat minimaal 3 dagen van te voren weten. Vanwege het beperkte aantal plekken kunnen andere organisaties dan nog meedoen. \nTot ziens op de 17e!
URL:https://www.spe-amsterdam.nl/event/professionaliseringsdag-spe-2/
END:VEVENT
BEGIN:VEVENT
DTSTART;VALUE=DATE:20210917
DTEND;VALUE=DATE:20210918
DTSTAMP:20260422T211125
CREATED:20210726T073635Z
LAST-MODIFIED:20210726T073635Z
UID:18154-1631836800-1631923199@www.spe-amsterdam.nl
SUMMARY:We Rise - Fast track to entrepeneurship (3-months program)
DESCRIPTION:Momentum: Fast track to Entrepreneurship (3-months program) \nWe Rise & Accelerator2 \n  \nStarting date: 17th September – 16th December  \n  \nLocation: Online \n  \nLanguage: English \n  \nWorkload: +/- 16h  \n1.   2hours weekly group meetings\n2 uur wekelijkse groepsafspraken \n2.  Daily task 20 min x 4 days a week\nDagelijkse taak 20 minuten x 4 dagen in de week \n3.  (After 3-months) continued (online) support to grow your business.\nNa 3 maanden hulp om je bedrijf te laten groeien \n  \nParticipation fee: 75 euro (value of the program: 1.250 euro)\nKosten: 75 euro (waarde van het programma: 1250 euro) \n  \nFor who? 10 ambitious wanna-be entrepreneurs\, needing some help in concretizing their business idea.\nVoor wie? 10 ambitieuze ondernemers in spe\, die hulp nodig hebben om hun ondernemingsplan concreet te maken. \n  \nCourse goal?\nDoel van het programma? \n·     Business proposition\nOndernemingsvoorstel \n·     A pitch deck\nPodium voor pitchen \n·     A website\nEen website \n·     Possibly a mockup – rough prototype\nEen opzet/voorbeeld \n  \nWhat’s in it for me?\nWat heb ik er aan? \n1.   News skills and knowledge\nNieuwe vaardigheden en kennis \n2.  Increased network of peers\, supporters and experts\nVergoot netwerk van peers\, supporters en experts \n3.  A future as entrepreneur\nEen toekomst als ondernemer
URL:https://www.spe-amsterdam.nl/event/we-rise-fast-track-to-entrepeneurship-3-months-program/
LOCATION:Online
ORGANIZER;CN="We%20Rise":MAILTO:info@we-rise.co
END:VEVENT
BEGIN:VEVENT
DTSTART;TZID=Europe/Amsterdam:20210923T093000
DTEND;TZID=Europe/Amsterdam:20210923T123000
DTSTAMP:20260422T211125
CREATED:20210907T081500Z
LAST-MODIFIED:20210907T081728Z
UID:18188-1632389400-1632400200@www.spe-amsterdam.nl
SUMMARY:Gratis Empowermenttraining Ondernemende Vrouwen
DESCRIPTION:Let op! Aanmelden kan tot uiterlijk 13 september bij Stichting Buurvrouwennetwerk Gaasperdam. Vol=Vol.\nVermeld je naam en tel.nummer. Email: info@stichtingbng.nl of telefonisch 06-85 515 248 / 06-23 79 45 74
URL:https://www.spe-amsterdam.nl/event/gratis-empowermenttraining-ondernemende-vrouwen/
LOCATION:Buurthuis Holendrecht\, Holendrechtplein 36\, Amsterdam\, 1106LP\, Nederland
END:VEVENT
BEGIN:VEVENT
DTSTART;VALUE=DATE:20210924
DTEND;VALUE=DATE:20210925
DTSTAMP:20260422T211125
CREATED:20210726T075244Z
LAST-MODIFIED:20210726T075244Z
UID:18159-1632441600-1632527999@www.spe-amsterdam.nl
SUMMARY:We Rise - Digital Skills Bootcamp: Introduction to AI & ML using Python (6-weeks bootcamp)
DESCRIPTION:Code to Change Digital Skills Bootcamp: Introduction to AI & ML using Python (6 weeks- bootcamp)  \nWe Rise & Code to Change \n  \nBEGINNERS: NO PRIOR KNOWLEDGE REQUIRED\nBEGINNERS: GEEN VOORKENNIS NODIG \nStarting date: 24th September – 19th November \n  \nLocation: Online \nLanguage: English \nDuration: 6 weeks \n  \nWorkload:\nWerkdruk: \n1.    2h weekly instructor-led training sessions\n2 uur wekelijkse training sessies met instructeur \n2.  2-3 challenges & quiz to accomplish ( around 3 hours)\n2-3 challenges en quiz om te voltooien (ongeveer 3 uur) \n3.  Group tasks in which you cope with real-time industry problems\nGroepsopdrachten waarin je leert met echte problemen uit de industrie te werken \n4.  If needed\, discussion forums\nDiscussie forum\, mocht dit nodig zijn \n  \nParticipation fee: free of charge\nKosten: gratis \n  \nFor who? Space for 25 women\, interested in Machine Learning and Artificial Intelligence.\nVoor wie? Plek voor 25 vrouwen\, geïnteresseerd in Machine Learning en Kunstmatige Intelligentie \nCourse goal?\nDoel? \n1.   Coding in Python\nCoderen in Python \n2.  Machine Learning cases\nMachine Learning lessen \n3.  Implementation of ML using python\nML implementeren met behulp van Python \n4.  AI use cases\nAI scenarios \n5.  Implementation of AI for NLP and CV applications using python\nImplementeren van AI voor NLP en CV applicaties met behulp van Python \n  \nWhat’s in it for me?\nWat heb je eraan? \n1.   Learn the most cutting edge technologies and coding tools\nDe nieuwste theorieën en coderingstools leren \n2.  Transition into the field of Artificial Intelligence Entrepreneurs\nLid worden van het netwerk Kunstmatige Intelligentie Ondernemers \n3.  Network of peers\, experts and AI entrepreneurs\nNetwerk van peers\, experts en AI ondernemers
URL:https://www.spe-amsterdam.nl/event/we-rise-digital-skills-bootcamp-introduction-to-ai-ml-using-python-6-weeks-bootcamp/
LOCATION:Online
ORGANIZER;CN="We%20Rise":MAILTO:info@we-rise.co
END:VEVENT
BEGIN:VEVENT
DTSTART;VALUE=DATE:20210924
DTEND;VALUE=DATE:20210927
DTSTAMP:20260422T211125
CREATED:20210907T122010Z
LAST-MODIFIED:20210907T122010Z
UID:18210-1632441600-1632700799@www.spe-amsterdam.nl
SUMMARY:Trainingsweekend Emancipator
DESCRIPTION:Ook in 2021 organiseert Stichting Emancipator een geheel verzorgd trainingsweekend voor mannen – professionals\, vrijwilligers\, rolmodellen\, influencers en andere maatschappelijk betrokkenen – die zich willen inzetten om geweld tegen meiden en vrouwen te voorkomen. \n*Het woord mannen duidt op mensen die zich identificeren als of gesocialiseerd zijn als man.\n\nGeweld is een omvangrijk maatschappelijk probleem\, ook in Nederland: bijna de helft (45%) van de vrouwen in Nederland krijgt na haar vijftiende te maken met seksueel of fysiek geweld. In negen van de tien gevallen (91%) wordt dit geweld gepleegd door een man. Niet alle mannen zijn pleger\, maar wel kunnen alle mannen deel van de oplossing worden. Tijdens het trainingsweekend leer je hoe!\nTijdens het weekend van 24 tot 26 september verken je samen met een groep mannen de thema’s gender\, stereotypen\, mannelijkheidsnormen\, hoe dat met elkaar samenhangt\, de relatie met geweld en wat jij kan doen om geweld te voorkomen. Middels trainingen ontvang je kennis\, tools en methodieken om met andere mannen in jouw eigen omgeving het verschil te maken. Het trainingsweekend is vindt plaats op locatie in Ubbergen\, is gratis en als tegenprestatie organiseer jij een activiteit in jouw omgeving (of binnen het werkveld met jouw doelgroep) als onderdeel van de White Ribbon Campagne – Stop Geweld Tegen Vrouwen. \nMeer informatie lees je hier:\nhttps://www.emancipator.nl/whiteribbon/campagne/trainingsweekend2021/ \nAanmelden kan via deze link:\nhttps://www.emancipator.nl/whiteribbon/campagne/trainingsweekend2021/#aanmelden
URL:https://www.spe-amsterdam.nl/event/trainingsweekend-emancipator/
LOCATION:Ubbergen
ATTACH;FMTTYPE=image/jpeg:https://www.spe-amsterdam.nl/wp-content/uploads/2021/09/Trainingsweekend3.jpeg
END:VEVENT
BEGIN:VEVENT
DTSTART;TZID=Europe/Amsterdam:20210924T130000
DTEND;TZID=Europe/Amsterdam:20210924T130000
DTSTAMP:20260422T211125
CREATED:20210104T135534Z
LAST-MODIFIED:20210104T135534Z
UID:17455-1632488400-1632488400@www.spe-amsterdam.nl
SUMMARY:Deadline Aanvraag Speerpuntenbudget – Speerpunt 4: Jongens & Mannenemancipatie
DESCRIPTION:Om 13:00 is de deadline voor het indienen van een aanvraag bij het SPE om budget te krijgen voor een project gerelateerd aan het speerpunt Jongens & Mannenemancipatie.
URL:https://www.spe-amsterdam.nl/event/deadline-aanvraag-speerpuntenbudget-speerpunt-4-jongens-mannenemancipatie/
END:VEVENT
BEGIN:VEVENT
DTSTART;TZID=Europe/Amsterdam:20210930T093000
DTEND;TZID=Europe/Amsterdam:20210930T123000
DTSTAMP:20260422T211125
CREATED:20210907T082124Z
LAST-MODIFIED:20210907T082124Z
UID:18196-1632994200-1633005000@www.spe-amsterdam.nl
SUMMARY:Gratis Empowermenttraining Ondernemende Vrouwen
DESCRIPTION:Let op! Aanmelden kan tot uiterlijk 13 september bij Stichting Buurvrouwennetwerk Gaasperdam. Vol=Vol.\nVermeld je naam en tel.nummer. Email: info@stichtingbng.nl of telefonisch 06-85 515 248 / 06-23 79 45 74
URL:https://www.spe-amsterdam.nl/event/gratis-empowermenttraining-ondernemende-vrouwen-2/
LOCATION:Buurthuis Holendrecht\, Holendrechtplein 36\, Amsterdam\, 1106LP\, Nederland
END:VEVENT
BEGIN:VEVENT
DTSTART;TZID=Europe/Amsterdam:20210930T150000
DTEND;TZID=Europe/Amsterdam:20210930T170000
DTSTAMP:20260422T211125
CREATED:20210910T104521Z
LAST-MODIFIED:20210910T104521Z
UID:18223-1633014000-1633021200@www.spe-amsterdam.nl
SUMMARY:Online leerbijeenkomst Shame sexting
DESCRIPTION:Op 30 september organiseert Kennisplatform Integratie & Samenleving een online leerbijeenkomst over ‘Shame sexting’. KIS heeft de toolkit Praten over shame sexting ontwikkeld met een video\, brochure en overzichtskaart met handvatten om shame sexting bespreekbaar te maken. Deze toolkit is bedoeld voor (sociaal) professionals en vrijwilligers die werken met ouders met een migratieachtergrond. \n\n\n\n\n\n\nHet doel van de leerbijeenkomst is dat je als sociaal professional weet hoe je aan de slag kunt gaan met het behandelen van het thema shame sexting. In deze leerbijeenkomst gaan we op basis van de ontwikkelde toolkit handvatten aanreiken zodat je goed voorbereid het gesprek met ouders met een migratieachtergrond aan kunt gaan. Zodat ouders toegerust worden in hoe zij dit vervolgens met hun kind kunnen bespreken. \nProgramma\n\n‘State of the art’\nTwee ervaren professionals bespreken casuïstiek: deze professionals hebben ervaring in de gespreksvoering met gevoelige thema’s en gaan in op vragen\nDemonstratie van de Toolkit Praten over shame sexting\nDiscussie en afsluiting\n\nGa om je aan te melden naar: Online leerbijeenkomst Shame sexting | Kennisplatform Integratie & Samenleving (kis.nl)
URL:https://www.spe-amsterdam.nl/event/online-leerbijeenkomst-shame-sexting/
LOCATION:Online
END:VEVENT
END:VCALENDAR