BEGIN:VCALENDAR
VERSION:2.0
PRODID:-//SPE-Amsterdam - ECPv6.1.3//NONSGML v1.0//EN
CALSCALE:GREGORIAN
METHOD:PUBLISH
X-WR-CALNAME:SPE-Amsterdam
X-ORIGINAL-URL:https://www.spe-amsterdam.nl
X-WR-CALDESC:Evenementen voor SPE-Amsterdam
REFRESH-INTERVAL;VALUE=DURATION:PT1H
X-Robots-Tag:noindex
X-PUBLISHED-TTL:PT1H
BEGIN:VTIMEZONE
TZID:Europe/Amsterdam
BEGIN:DAYLIGHT
TZOFFSETFROM:+0100
TZOFFSETTO:+0200
TZNAME:CEST
DTSTART:20210328T010000
END:DAYLIGHT
BEGIN:STANDARD
TZOFFSETFROM:+0200
TZOFFSETTO:+0100
TZNAME:CET
DTSTART:20211031T010000
END:STANDARD
END:VTIMEZONE
BEGIN:VEVENT
DTSTART;TZID=Europe/Amsterdam:20210803T140000
DTEND;TZID=Europe/Amsterdam:20210803T153000
DTSTAMP:20260422T195500
CREATED:20210726T072457Z
LAST-MODIFIED:20210726T072457Z
UID:18147-1627999200-1628004600@www.spe-amsterdam.nl
SUMMARY:Civic Amsterdam - Pride week pleinen picknick
DESCRIPTION:Kom de zogenoemde happy stones beschilderen met ons! Met de regenboogvlag op de ene kant en een leuke boodschap of quote op de andere kant! Gezellig met regenboog cupcakes en een drankje. \n  \nDe steentjes verspreiden we daarna met elkaar in de buurt en kunnen dan gevonden worden door andere buurtbewoners. Het zorgt voor een lach op je gezicht als je een steentje vindt met een quote erop! \nIedereen is welkom\, jong en oud. \n  \nOp dinsdag 3 augustus staan wij op:\nMakassarplein\nLocatie: Archipel\nTijd: 14:00 tot 15:30 \nMaak een foto in onze photobooth\, je krijgt de foto mee als aandenken
URL:https://www.spe-amsterdam.nl/event/civic-amsterdam-pride-week-pleinen-picknick/
LOCATION:Archipel\, Makassarplein 1\, Amsterdam\, Nederland
ATTACH;FMTTYPE=image/jpeg:https://www.spe-amsterdam.nl/wp-content/uploads/2021/07/civic.jpg
END:VEVENT
BEGIN:VEVENT
DTSTART;TZID=Europe/Amsterdam:20210805T140000
DTEND;TZID=Europe/Amsterdam:20210805T153000
DTSTAMP:20260422T195500
CREATED:20210726T072717Z
LAST-MODIFIED:20210726T072717Z
UID:18151-1628172000-1628177400@www.spe-amsterdam.nl
SUMMARY:Civic Amsterdam - Pride week pleinen picknick
DESCRIPTION:Kom de zogenoemde happy stones beschilderen met ons! Met de regenboogvlag op de ene kant en een leuke boodschap of quote op de andere kant! Gezellig met regenboog cupcakes en een drankje. \n  \nDe steentjes verspreiden we daarna met elkaar in de buurt en kunnen dan gevonden worden door andere buurtbewoners. Het zorgt voor een lach op je gezicht als je een steentje vindt met een quote erop! \nIedereen is welkom\, jong en oud. \n  \nOp donderdag 5 augustus staan wij op:\nAmbonplein\nLocatie: Vonk\nTijd: 14:00 tot 15:30 \nMaak een foto in onze photobooth\, je krijgt de foto mee als aandenken
URL:https://www.spe-amsterdam.nl/event/civic-amsterdam-pride-week-pleinen-picknick-2/
LOCATION:Vonk\, Ambonplein 63
ATTACH;FMTTYPE=image/jpeg:https://www.spe-amsterdam.nl/wp-content/uploads/2021/07/civic.jpg
END:VEVENT
END:VCALENDAR