BEGIN:VCALENDAR
VERSION:2.0
PRODID:-//SPE-Amsterdam - ECPv6.1.3//NONSGML v1.0//EN
CALSCALE:GREGORIAN
METHOD:PUBLISH
X-ORIGINAL-URL:https://www.spe-amsterdam.nl
X-WR-CALDESC:Evenementen voor SPE-Amsterdam
REFRESH-INTERVAL;VALUE=DURATION:PT1H
X-Robots-Tag:noindex
X-PUBLISHED-TTL:PT1H
BEGIN:VTIMEZONE
TZID:Europe/Amsterdam
BEGIN:DAYLIGHT
TZOFFSETFROM:+0100
TZOFFSETTO:+0200
TZNAME:CEST
DTSTART:20210328T010000
END:DAYLIGHT
BEGIN:STANDARD
TZOFFSETFROM:+0200
TZOFFSETTO:+0100
TZNAME:CET
DTSTART:20211031T010000
END:STANDARD
END:VTIMEZONE
BEGIN:VEVENT
DTSTART;TZID=Europe/Amsterdam:20210202T180000
DTEND;TZID=Europe/Amsterdam:20210202T200000
DTSTAMP:20260422T112357
CREATED:20210127T103640Z
LAST-MODIFIED:20210127T103748Z
UID:17560-1612288800-1612296000@www.spe-amsterdam.nl
SUMMARY:Gemeente Amsterdam x PDZ Vrouwen en religie in de stad #1
DESCRIPTION:Tweedelig symposium over emancipatie\, identiteit en geloof. Deze eerste aflevering gaat over individuele beleving. \nMeer dan de helft van alle Amsterdammers is vrouw. Ook is ruim 29% van alle Amsterdamse inwoners gelovig: 15% is christen\, 13% is moslim\, 1% is joods\, boeddhistisch of hindoeïstisch. Andere Amsterdammers zoeken op een andere manier naar zingeving. De variaties zijn enorm\, ook onder vrouwen. Wat betekent het om vrouw en religieus te zijn binnen een stad die steeds verder seculariseert? Of om op te groeien in een omgeving die er andere religieuze opvattingen op na houdt dan jijzelf? Wat betekent religie voor vrouwen als het gaat om empowerment\, zelfbeschikking en gelijkwaardigheid? Kortom\, op welke manier speelt geloof en zingeving een rol in het dagelijks leven van Amsterdamse vrouwen? En hoe beïnvloedt dit alles hun plek in de samenleving? In dit online symposium over vrouwen en religie in de stad gaan we in twee avondprogramma’s in gesprek met Amsterdamse vrouwen. Over identiteit\, geloof\, emancipatie en alles wat daarbij komt kijken. \n\n\nLIVECAST\nIn verband met de aanbevelingen door het RIVM betreffende het coronavirus\, zendt Pakhuis de Zwijger nu dagelijks online programma’s uit waarbij je live en gratis kunt meekijken via de LIVECAST of zelfs mee kunt praten via de Zoom webinar. Reserveer snel en kijk/praat mee via de onderstaande gele buttons. \nPraat mee via Zoom \n\nBekijk de LIVECAST\n\n\n\n\n\n\nIn dit eerste gesprek spreken we vrouwen over hun individuele beleving vanuit verschillende religies en levensovertuigingen. Op welke manier speelt zingeving een rol in je dagelijks leven? Hoe beïnvloedt het de manier waarop je je leven leidt? Hoe kijk je naar gelijkheid en emancipatie in relatie tot je geloof? Al deze vragen komen aan bod in een programma onder leiding van moderator Anne Dijk\, waarin dialoog centraal staat. \nBekijk het tweede gesprek hier. \n  \nOver de sprekers\nAnne Dijk is religiewetenschapper\, Islamoloog en Islamitisch Theoloog met een specialisatie in autoriteitsstructuren. Ze is oprichter en voorzitter van Fahm Instituut\, adviseur op het gebied van islam en sociale vraagstukken en hoofddocent van diverse Fahm cursussen. In haar dagelijks leven promoveert Anne aan de VU Amsterdam binnen het project Extreme Beliefs. Haar onderzoek richt zich op argumentaties ten aanzien van de positie van vrouwen in diverse fundamentalistische levensbeschouwingen. Tevens is ze onafhankelijk strategisch adviseur\, analist en onderzoeker vanuit het bedrijf Fikr Consultancy. \nChrista Compas is sinds 2016 directeur van het Humanistisch Verbond. Menselijke waardigheid vormgeven in de maatschappelijke praktijk is de rode draad in Christa’s loopbaan; ze werkte 10 jaar voor FNV Bondgenoten\, in functies variërend van emancipatiemedewerker tot hoofdbestuurder. Na de vakbond gaf ze leiding aan verschillende maatschappelijke organisaties. Christa was een van de ‘founding mothers’ van Women Inc. en was tot voor kort bestuurder van deze stichting. Vanavond praat ze mee vanuit humanistisch perspectief. \nSherlien Sanches is Museum Educator Tropenmuseum Junior bij het Tropenmuseum en oprichter van A Touch of Spirit.  A Touch of Spirit organiseert evenementen vanuit spiritualiteit\, waarin persoonlijke zingeving en inheemse waarden\, zoals verbinding met de mensen en natuur om ons heen\, centraal staan. Sherlien is lid van de culturele gemeenschap Ikihi Wodindeh (vrouwen van het vuur). Traditioneel dragen de vrouwen zorg voor het vuur\, dat voor hen tegelijk een belangrijk medium is om inheemse kennis over te dragen. Sherlien is Kalinya (Surinaams-inheems) en Rooms-Katholiek gedoopt\, maar is niet praktiserend Christen. Ze noemt zichzelf vrijdenkend. \nRosaliene Israël is sinds 2018 Scriba van de Protestantse Kerk Amsterdam. Met een propedeuse in rechten en interesses in ethiek\, levensfilosofie en religie\, behaalde ze een bachelor in theologie en vervolgens een master in religieuze pedagogiek. Daarnaast behaalde ze een professionele master in Kerkelijke Bediening via de Protestantse Kerk Nederland en begon ze als predikant in de protestantse kerk van Landsmeer. Rosaliene is expert op het gebied van praktische theologie en werkt op dit moment aan haar PhD over gevormde Christelijke gemeenschappen. Ze woont met haar partner in Amsterdam Zuidoost\, waar ze bezig zijn een nieuwe gemeenschap te vormen. \nElsa van de Loo is advocaat met een achtergrond in mensenrechten. Ze heeft enkele jaren voor het College voor de Rechten van de Mens gewerkt op het gebied van gelijke behandeling en non-discriminatie. Inmiddels heeft ze een eigen advocatenkantoor. Naast advocaat is Elsa van de Loo ook werkzaam als trainer op het gebied van diversiteit en inclusie en verbonden aan de politieke partij NIDA. Ze is christelijk (katholiek) opgevoed en is in 2008 bekeerd tot de islam. \nSarita Bajnath is ondernemer\, trainer en motivator op het gebied van inclusie\, diversiteit en dialoog. Sarita verzorgt unconscious bias trainingen die bijdragen aan inclusie en bewustzijn op een brede en intersectionele manier en werkte onder andere mee aan de documentaire ‘Wit is ook een kleur’ van Sunny Bergman. Religie en vrouw-zijn zijn terugkerende onderwerpen in haar werkzaamheden. Sarita is Surinaams-Hindoestaans en combineert in praktijk Hindoestaanse en Christelijke gebruiken. \nDöne Fil is mensenrechtenactivist en actief binnen de LGTBQI+ gemeenschap. Ze was onder andere organisator van de eerste Turkse boot op de Amsterdamse Gay Pride in 2012. Hierover maakte ze samen met Chris Belloni een documentaire. In 2018 deed ze mee aan de aan NTR-serie ‘Moslims zoals wij’. Döne is queer en groeide op in een interreligieus gezin in Amsterdam met Turkse en Indonesische roots. \nSahar Noor is onderzoeker en trainer op verschillende diversiteitsthema’s breed. Specifiek zijn Islam\, gender\, emancipatie\, etnisch profileren\, jongeren met een migratieachtergrond en empowerment haar thema’s. Sahar is aangesloten bij Movisie en deed daar onderzoek naar naar moslimvrouwen in Nederland en België (Vlaanderen) die bij elkaar kwamen in ‘zustergroepen’\, bijeenkomsten georganiseerd voor en door moslimvrouwen.
URL:https://www.spe-amsterdam.nl/event/gemeente-amsterdam-x-pdz-vrouwen-en-religie-in-de-stad-1/
LOCATION:Online
ATTACH;FMTTYPE=image/png:https://www.spe-amsterdam.nl/wp-content/uploads/2021/01/Schermafbeelding-2021-01-27-om-11.33.21.png
ORGANIZER;CN="Gemeente%20Amsterdam":MAILTO:m.van.der.palen@amsterdam.nl
END:VEVENT
BEGIN:VEVENT
DTSTART;TZID=Europe/Amsterdam:20210209T180000
DTEND;TZID=Europe/Amsterdam:20210209T200000
DTSTAMP:20260422T112357
CREATED:20210127T104107Z
LAST-MODIFIED:20210127T104107Z
UID:17565-1612893600-1612900800@www.spe-amsterdam.nl
SUMMARY:Gemeente Amsterdam x PDZ Vrouwen en religie in de stad #2
DESCRIPTION:Tweedelig symposium over emancipatie\, identiteit en geloof. Deze tweede aflevering gaat over de gemeenschap. \nMeer dan de helft van alle Amsterdammers is vrouw. Ook is ruim 29% van alle Amsterdamse inwoners gelovig: 15% is christen\, 13% is moslim\, 1% is joods\, boeddhistisch of hindoeïstisch. Andere Amsterdammers zoeken op een andere manier naar zingeving. De variaties zijn enorm\, ook onder vrouwen. Wat betekent het om vrouw en religieus te zijn binnen een stad die steeds verder seculariseert? Of om op te groeien in een omgeving die er andere religieuze opvattingen op na houdt dan jijzelf? Wat betekent religie voor vrouwen als het gaat om empowerment\, zelfbeschikking en gelijkwaardigheid? Kortom\, op welke manier speelt geloof en zingeving een rol in het dagelijks leven van Amsterdamse vrouwen? En hoe beïnvloedt dit alles hun plek in de samenleving? In dit online symposium over vrouwen en religie in de stad gaan we in twee avondprogramma’s in gesprek met Amsterdamse vrouwen. Over identiteit\, geloof\, emancipatie en alles wat daarbij komt kijken. \n\n\nLIVECAST\nIn verband met de aanbevelingen door het RIVM betreffende het coronavirus\, zendt Pakhuis de Zwijger nu dagelijks online programma’s uit waarbij je live en gratis kunt meekijken via de LIVECAST of zelfs mee kunt praten via de Zoom webinar. Reserveer snel en kijk/praat mee via de onderstaande gele buttons. \nPraat mee via Zoom\nBekijk de LIVECAST\n\n\n\n\n\n\nIn dit tweede gesprek staat het culturele\, maatschappelijke\, politieke en sociale belang van (religieuze) gemeenschappen in Amsterdam centraal. Wat betekent het voor Amsterdamse vrouwen om bij een gemeenschap te horen\, of juist niet? Hoe komen levensovertuiging\, gender en lidmaatschap van een gemeenschap samen in individuen? Welke intersecties leiden tot uitsluiting\, wat zijn andere uitdagingen en waar liggen kansen? En tot slot\, hoe verhouden al die gemeenschappen zich tot elkaar in een stad waar elke straathoek gelijk staat aan een ander perspectief? Opnieuw een programma met veel ruimte voor dialoog\, onder leiding van moderator Anne Dijk. \nKijk het eerste gesprek hier terug. \nOver de sprekers\nAnne Dijk is religiewetenschapper\, Islamoloog en Islamitisch Theoloog met een specialisatie in autoriteitsstructuren. Ze is oprichter en voorzitter van Fahm Instituut\, adviseur op het gebied van islam en sociale vraagstukken en hoofddocent van diverse Fahm cursussen. In haar dagelijks leven promoveert Anne aan de VU Amsterdam binnen het project Extreme Beliefs. Haar onderzoek richt zich op argumentaties ten aanzien van de positie van vrouwen in diverse fundamentalistische levensbeschouwingen. Tevens is ze onafhankelijk strategisch adviseur\, analist en onderzoeker vanuit het bedrijf Fikr Consultancy. \nManuela Kalsky is theoloog en bekleedt sinds 2012 als bijzonder hoogleraar de Eward Schillebeeckx leerstoel voor Theologie en Samenleving aan de Vrije Universiteit. Ze is directeur van het Dominicaans Studiecentrum voor Theologie en Samenleving (DSTS) en is voorzitter van Stichting Nieuw Wij. In haar werk staat het overbruggen van wij/zij tegenstellingen in de samenleving centraal. Manuela is praktiserend Christen. \nFatima el Mourabit is vakbondsvrouw voor de FNV en voorzitter van Platform Nieuwe Vrijdenkers\, een plek voor mensen\, net als Fatima zelf\, met een islamitische achtergrond die niet meer geloven. Fatima organiseert onder andere ontmoetingen\, lezingen en thema-avonden om (toekomstige) ex-moslims het gevoel te geven niet alleen te zijn. Ook is ze één van de twaalf personages die gevolgd wordt in het boek Nieuwe Vrijdenkers van Boris van der Ham en Rachid Benhammou. \nKaouthar Darmoni is directeur van Atria\, kennisinstituut van emancipatie en vrouwengeschiedenis. Ze is afgestudeerd en gepromoveerd in gender studies en heeft diverse (academische) publicaties op haar naam staan. Verder is Kaouthar ondernemer en actief binnen verschillende internationale vrouwenbewegingen. Zelf groeide ze op in Tunesië met de soennitische Islam in haar familie\, het Jodendom  in de wijk waar ze woonden en het Christendom op school. Inmiddels heeft ze voor het spirituele pad van het soefisme gekozen. \nDinah de Riquet-Bons zit in het bestuur van Pride Amsterdam\, werkt voor Trans United Europe als voorzitter en is director van de Trans United Kliniek die ze drie jaar geleden oprichtte. Ze maakt zich als trans vrouw met een Joods-Molukse achtergrond hard voor hiv\, trans- en sekswerkrechten en bi-culturele LGBTQI+-ers. \nSeyran Ateş is advocaat\, auteur en feminist. Ze richtte in 2017 de progressieve en inclusieve Ibn Rushd-Goethe Moskee op in Berlijn. Dit is de eerste zelfbenoemde liberale gebedsplaats voor moslims in Duitsland. Seyran zet zich in voor gendergelijkheid en spreekt zich uit over de patriarchale structuren in Islam. Ze is een voorstander van hervormingen binnen de islam. \nAmma Asante is directeur van de Landelijke Cliëntenraad\, een vertegenwoordiging naar de landelijke overheid van mensen die een uitkering ontvangen in de Participatiewet. Van 1998 tot 2006 was ze Amsterdams gemeenteraadslid namens de PvdA. Ze staat als nummer 47 op de kandidatenlijst voor de Tweede Kamerverkiezingen van 2021. Amma groeide op in Ghana en is onderdeel van een Christelijke gemeenschap in Amsterdam Zuidoost. \nBerna Toprak is PhD-kandidaat aan de UvA. Ze is communicatiewetenschapper en gespecialiseerd in Gender en Etniciteit. Op dit moment doet ze onderzoek naar de problematisering van moslims in Nederland. Als mede-oprichter van vrouwencollectief S.P.E.A.K.\, strijdt Berna voor gelijke kansen voor moslima’s in Nederland. Bij Stichting Fahm Instituut houdt ze zich bezig met Islamitisch feminisme\, masculiniteit en seksualiteit. Zelf is Berna praktiserend moslima. \nChantal Suissa-Runne is adviseur en coach op het gebied van onder andere identiteit\, diversiteit en inclusie\, polarisatie en samenleving. Ze adviseert overheid en maatschappelijk veld over deze thema’s en is werkzaam voor Nieuw Wij; eerder als hoofdredacteur\, inmiddels als senior adviseur. Chantal zetten diverse programma’s op voor het verbinden van verschillende (religieuze) groepen in de samenleving\, het tegengaan van racisme en uitsluiting en empowerment van jong talent. Chantal is praktiserend Joods. \nSiela Ardjosemito-Jethoe schrijft columns en geeft training op het gebied van diversiteit in het binnen en buitenland. Ook is ze adviseur Diversiteit en Inclusie voor Universiteit Leiden. Siela heeft een achtergrond in antropologie en kijkt met die blik naar religie en gemeenschappen. Zelf is ze praktiserend Hindoe.
URL:https://www.spe-amsterdam.nl/event/gemeente-amsterdam-x-pdz-vrouwen-en-religie-in-de-stad-2/
LOCATION:Online
ORGANIZER;CN="Gemeente%20Amsterdam":MAILTO:m.van.der.palen@amsterdam.nl
END:VEVENT
BEGIN:VEVENT
DTSTART;TZID=Europe/Amsterdam:20210210T180000
DTEND;TZID=Europe/Amsterdam:20210210T210000
DTSTAMP:20260422T112357
CREATED:20210210T142932Z
LAST-MODIFIED:20210210T142932Z
UID:17608-1612980000-1612990800@www.spe-amsterdam.nl
SUMMARY:Stichting Congada - Zorgeloos met Pensioen
DESCRIPTION:Het project ‘Zorgeloos met Pensioen’ van Stichting Congada heeft als doel vrouwen te helpen om (financieel) bewuster met pensioen te gaan. Veel vrouwen zijn namelijk financieel niet goed voorbereid op hun pensioen. Zij hebben niet genoeg pensioen opgebouwd om financieel onafhankelijk te blijven en vallen in een AOW gat. Om ongewenste situaties te voorkomen\, creëert het project bewustwording in de financiële situatie in de pre pensioen periode\, want nu kan je nog voorbereiden\, zodat ook deze vrouwen ‘zorgeloos met pensioen kunnen gaan’.  \nWij willen de vrouwen helpen met hun huidige en toekomstige financiele situatie. Wij willen ze hierbij handvatten aanreiken om de niet werkzame periode van hun leven aangenamer te maken\, door hier nu al in te investeren. Wij willen dat deze vrouwen hun toekomst veilig stellen. Wij willen vrouwen die in een sociaal isolement zitten hieruit halen\, zorgen dat ze weer participeren in de maatschappij en uiteindelijk bijdragen aan de maatschappij. \n  \nHET PROJECT ZAL OP VERSCHILLENDE LOCATIES\, VERSCHILLENDE DAGEN EN TIJDEN EN IN VERSCHILLENDE STADSDELEN PLAATSVINDEN. \nCONTACTPERSOON: SOPHIA A-TJAK-HIWAT TELEFOON 06-27000816 \n\n\n\nDE AFTRAP OP ZATERDAG 20 FEBRUARI\nIN NOLIMIT AMSTERDAM ZUIDOOST GELDERSHOOFD 80 VAN 15.00 TOT 18.00 UUR \n \n\n\nZATERDAG 6 MAART\nIN HET HUIS VAN DE BUURT IN DIEMEN OUDERKERKERLAAN 30 VAN 14.00 TOT 17.00 UUR \n \n\n\nVRIJDAG 19 MAART\nVAN 19.00 TOT 22.00 UUR IN DE NACHTEGAAL \nGRUBBEHOEVE 38 AMSTERDAM ZUIDOOST \n \n\n\nZATERDAG 3 APRIL\nVAN 15.00 TOT 18.00 UUR IN STADSDEEL OOST IN HET FLEVOHUIS KRAMATPLANTSOEN OF BUURTHUIS VONK AMBONPLEIN \n \n\n\nZATERDAG 17 APRIL\nVAN 15.00 TOT 18.00 UUR IN STADSDEEL WEST BIJ STICHTING ADELHEID + ZINA AAN DE BURGEMEESTER DE VLUGTLAAN 125 \n \n\n\nDONDERDAG 22 APRIL\nVAN 14.00 TOT 17.00 UUR STADSDEEL NOORD LOCATIE VIA STICHTING MALAK \n \n\n\nZONDAG 9 MEI\nVAN 14.00 TOT 17.00 UUR STADSDEEL OOST LOCATIE NOG ONBEKEND \n \n\n\nDONDERDAG 20 MEI\nVAN 10.00 TOT 13.00 UUR BIJ ZUIDOOST UNITED BIJLMERSPORTPARK KARSPELDREEF 505 STADSDEEL ZUIDOOST \n \n\n\nDINSDAG 1 JUNI\nVAN 10.00 TOT 13.00 UUR STADSEEL CENTRUM LOCATIE WORDT NADER BEKEND GEMAAKT \n \n\n\nZATERDAG 12 JUNI OP DEZE DAG WILLEN WE OOK IN STADSDEEL ZUID IN DE OCHTEND EEN BIJEENKOMST HOUDEN. WE ZIJN NOG OP ZOEK NAAR EEN GESCHIKTE LOCATIE\nLAATSTE BIJEENKOMST VOOR DE ZOMERSTOP IN NOLIMIT AMSTERDAM ZUIDOOST VAN 18.00 TOT 21.00 UUR \n \n\n\n\n  \nDEZE 11 BIJEENKOMSTEN ZULLEN IN HET TEKEN STAAN VAN VOORLICHTING EN INFORMATIE OVER DE GEVOLGEN VAN EEN PENSIOEN GAT EN WAT ER NOG AAN TE DOEN IS EN UITERAARD VOOR HET STELLEN VAN VRAGEN. DAN MAKEN WE DE BALANS OP EN EVALUREN. DE VROUWEN DIE BEHOEFTE HEBBEN AAN INDIVIDUELE BEGELEIDING KRIJGEN DAT NA DE ZOMERVAKANTIE OOK ZAL ER RUIMTE ZIJN VOOR EEN TRAINING IN KLEINE GROEPJES VAN 5 TOT 10 DEELNEMERS.
URL:https://www.spe-amsterdam.nl/event/stichting-congada-zorgeloos-met-pensioen-10/
LOCATION:NoLIMIT\, Geldershoofd 80\, Amsterdam\, 1103BG\, Nederland
CATEGORIES:Bijeenkomsten vrouwenorganisaties
ATTACH;FMTTYPE=image/jpeg:https://www.spe-amsterdam.nl/wp-content/uploads/2021/02/congada.jpg
END:VEVENT
BEGIN:VEVENT
DTSTART;TZID=Europe/Amsterdam:20210213T193000
DTEND;TZID=Europe/Amsterdam:20210213T213000
DTSTAMP:20260422T112357
CREATED:20210204T133832Z
LAST-MODIFIED:20210204T133914Z
UID:17572-1613244600-1613251800@www.spe-amsterdam.nl
SUMMARY:Stichting Maruf - Mama\, hoor je mij - Folktale
DESCRIPTION:“Mama\, Hoor je Mij” is a project for and by queer womxn of color in Amsterdam to help us use our voice in everyday life\, storytelling\, and spoken word. Performer and storyteller\, Farnoosh Farnia\, has created eight videos to help us craft a personal story based on our favorite folktale! During the week leading to the event\, you will receive one or two short videos per day. The last stop of our journey together is Saturday\, Feb. 13th\, when we gather on zoom\, drink tea with Farnoosh and share our stories! To sign up or for more information\, send us an email before Feb. 8th: s.shams@maruf.eu.
URL:https://www.spe-amsterdam.nl/event/stichting-maruf-mama-hoor-je-mij-folktale/
ATTACH;FMTTYPE=image/jpeg:https://www.spe-amsterdam.nl/wp-content/uploads/2021/02/Dag-4.1.jpg
END:VEVENT
BEGIN:VEVENT
DTSTART;TZID=Europe/Amsterdam:20210216T183000
DTEND;TZID=Europe/Amsterdam:20210216T193000
DTSTAMP:20260422T112357
CREATED:20210212T143204Z
LAST-MODIFIED:20210212T144250Z
UID:17645-1613500200-1613503800@www.spe-amsterdam.nl
SUMMARY:Pakhuis de Zwijger - FemCity x NL Kiest #1: Werk is politiek
DESCRIPTION:Er waren nog nooit zoveel vrouwelijke lijsttrekkers en ook de kieslijsten hebben een flinke sprong gemaakt in diversiteit. Toch zijn partijprogramma’s lang niet allemaal even ver in het agenderen van gendergelijkheid en valt er nog veel te behalen in wet- en regelgeving. Bij welke partijen moet je zijn als je een keuze voor een gelijkwaardig Nederland wilt maken? Wordt 2021 het jaar van de eerste vrouwelijke minister-president van Nederland? Is het haalbaar om de Tweede Kamer (eindelijk) een afspiegeling te laten zijn van de Nederlandse samenleving\, met 50% van de zetels bezet door vrouwen? Kortom\, er staat veel op het spel 17 maart. De vier weken voor de verkiezingen helpen wij je zo goed mogelijk voorbereid het stemhokje in te sturen. \nDeze week: werk is politiek. Hoe komt het dat Nederland in gelijkheid op de arbeidsmarkt ergens onderaan de Europese lijst bungelt? Wanneer wordt het dichten van de loonkloof verankerd in de wet? En hoe lang duurt het nog voordat zwangerschapsdiscriminatie de wereld uit is geholpen? We gaan het hebben over de verhouding tussen werk- en zorgtaken en manieren waarop de Nederlandse arbeidsmarkt een gelijker speelveld kan worden. \nDe uitzending is gratis live te volgen via de website van Pakhuis de Zwijger. Reserveer je plekje hier.
URL:https://www.spe-amsterdam.nl/event/pakhuis-de-zwijger-femcity-x-nl-kiest-1-werk-is-politiek/
LOCATION:Online
ATTACH;FMTTYPE=image/jpeg:https://www.spe-amsterdam.nl/wp-content/uploads/2021/02/zwijger-z.jpg
END:VEVENT
BEGIN:VEVENT
DTSTART;VALUE=DATE:20210219
DTEND;VALUE=DATE:20210220
DTSTAMP:20260422T112357
CREATED:20210104T141600Z
LAST-MODIFIED:20210104T141600Z
UID:17476-1613692800-1613779199@www.spe-amsterdam.nl
SUMMARY:Professionaliseringsdag SPE
DESCRIPTION:Verdere informatie over het programma volgt.
URL:https://www.spe-amsterdam.nl/event/professionaliseringsdag-spe/
END:VEVENT
BEGIN:VEVENT
DTSTART;TZID=Europe/Amsterdam:20210219T130000
DTEND;TZID=Europe/Amsterdam:20210219T130000
DTSTAMP:20260422T112357
CREATED:20210104T130434Z
LAST-MODIFIED:20210104T135801Z
UID:17449-1613739600-1613739600@www.spe-amsterdam.nl
SUMMARY:Deadline Aanvraag Speerpuntenbudget - Speerpunt 1: Zelfbeschikking
DESCRIPTION:Om 13:00 is de deadline voor het indienen van een aanvraag bij het SPE om budget te krijgen voor een project gerelateerd aan het speerpunt Zelfbeschikking.
URL:https://www.spe-amsterdam.nl/event/deadline-aanvraag-speerpuntenbudget-speerpunt-1-zelfbeschikking-2/
END:VEVENT
BEGIN:VEVENT
DTSTART;TZID=Europe/Amsterdam:20210220T150000
DTEND;TZID=Europe/Amsterdam:20210220T180000
DTSTAMP:20260422T112357
CREATED:20210210T140504Z
LAST-MODIFIED:20210210T140924Z
UID:17584-1613833200-1613844000@www.spe-amsterdam.nl
SUMMARY:Stichting Congada - Zorgeloos met Pensioen
DESCRIPTION:Het project ‘Zorgeloos met Pensioen’ van Stichting Congada heeft als doel vrouwen te helpen om (financieel) bewuster met pensioen te gaan. Veel vrouwen zijn namelijk financieel niet goed voorbereid op hun pensioen. Zij hebben niet genoeg pensioen opgebouwd om financieel onafhankelijk te blijven en vallen in een AOW gat. Om ongewenste situaties te voorkomen\, creëert het project bewustwording in de financiële situatie in de pre pensioen periode\, want nu kan je nog voorbereiden\, zodat ook deze vrouwen ‘zorgeloos met pensioen kunnen gaan’.  \nWij willen de vrouwen helpen met hun huidige en toekomstige financiele situatie. Wij willen ze hierbij handvatten aanreiken om de niet werkzame periode van hun leven aangenamer te maken\, door hier nu al in te investeren. Wij willen dat deze vrouwen hun toekomst veilig stellen. Wij willen vrouwen die in een sociaal isolement zitten hieruit halen\, zorgen dat ze weer participeren in de maatschappij en uiteindelijk bijdragen aan de maatschappij. \n  \nHET PROJECT ZAL OP VERSCHILLENDE LOCATIES\, VERSCHILLENDE DAGEN EN TIJDEN EN IN VERSCHILLENDE STADSDELEN PLAATSVINDEN. \nCONTACTPERSOON: SOPHIA A-TJAK-HIWAT TELEFOON 06-27000816 \n\n\n\nDE AFTRAP OP ZATERDAG 20 FEBRUARI\nIN NOLIMIT AMSTERDAM ZUIDOOST GELDERSHOOFD 80 VAN 15.00 TOT 18.00 UUR \n \n\n\nZATERDAG 6 MAART\nIN HET HUIS VAN DE BUURT IN DIEMEN OUDERKERKERLAAN 30 VAN 14.00 TOT 17.00 UUR \n \n\n\nVRIJDAG 19 MAART\nVAN 19.00 TOT 22.00 UUR IN DE NACHTEGAAL \nGRUBBEHOEVE 38 AMSTERDAM ZUIDOOST \n \n\n\nZATERDAG 3 APRIL\nVAN 15.00 TOT 18.00 UUR IN STADSDEEL OOST IN HET FLEVOHUIS KRAMATPLANTSOEN OF BUURTHUIS VONK AMBONPLEIN \n \n\n\nZATERDAG 17 APRIL\nVAN 15.00 TOT 18.00 UUR IN STADSDEEL WEST BIJ STICHTING ADELHEID + ZINA AAN DE BURGEMEESTER DE VLUGTLAAN 125 \n \n\n\nDONDERDAG 22 APRIL\nVAN 14.00 TOT 17.00 UUR STADSDEEL NOORD LOCATIE VIA STICHTING MALAK \n \n\n\nZONDAG 9 MEI\nVAN 14.00 TOT 17.00 UUR STADSDEEL OOST LOCATIE NOG ONBEKEND \n \n\n\nDONDERDAG 20 MEI\nVAN 10.00 TOT 13.00 UUR BIJ ZUIDOOST UNITED BIJLMERSPORTPARK KARSPELDREEF 505 STADSDEEL ZUIDOOST \n \n\n\nDINSDAG 1 JUNI\nVAN 10.00 TOT 13.00 UUR STADSEEL CENTRUM LOCATIE WORDT NADER BEKEND GEMAAKT \n \n\n\nZATERDAG 12 JUNI OP DEZE DAG WILLEN WE OOK IN STADSDEEL ZUID IN DE OCHTEND EEN BIJEENKOMST HOUDEN. WE ZIJN NOG OP ZOEK NAAR EEN GESCHIKTE LOCATIE\nLAATSTE BIJEENKOMST VOOR DE ZOMERSTOP IN NOLIMIT AMSTERDAM ZUIDOOST VAN 18.00 TOT 21.00 UUR \n \n\n\n\n  \nDEZE 11 BIJEENKOMSTEN ZULLEN IN HET TEKEN STAAN VAN VOORLICHTING EN INFORMATIE OVER DE GEVOLGEN VAN EEN PENSIOEN GAT EN WAT ER NOG AAN TE DOEN IS EN UITERAARD VOOR HET STELLEN VAN VRAGEN. DAN MAKEN WE DE BALANS OP EN EVALUREN. DE VROUWEN DIE BEHOEFTE HEBBEN AAN INDIVIDUELE BEGELEIDING KRIJGEN DAT NA DE ZOMERVAKANTIE OOK ZAL ER RUIMTE ZIJN VOOR EEN TRAINING IN KLEINE GROEPJES VAN 5 TOT 10 DEELNEMERS.
URL:https://www.spe-amsterdam.nl/event/stichting-congada-zorgeloos-met-pensioen/
LOCATION:NoLIMIT\, Geldershoofd 80\, Amsterdam\, 1103BG\, Nederland
ATTACH;FMTTYPE=image/jpeg:https://www.spe-amsterdam.nl/wp-content/uploads/2021/02/congada.jpg
END:VEVENT
BEGIN:VEVENT
DTSTART;TZID=Europe/Amsterdam:20210223T183000
DTEND;TZID=Europe/Amsterdam:20210223T193000
DTSTAMP:20260422T112357
CREATED:20210212T144202Z
LAST-MODIFIED:20210216T111417Z
UID:17653-1614105000-1614108600@www.spe-amsterdam.nl
SUMMARY:Pakhuis de Zwijger - FemCity x NL Kiest #3: Gezondheid is politiek
DESCRIPTION:Er waren nog nooit zoveel vrouwelijke lijsttrekkers en ook de kieslijsten hebben een flinke sprong gemaakt in diversiteit. Toch zijn partijprogramma’s lang niet allemaal even ver in het agenderen van gendergelijkheid en valt er nog veel te behalen in wet- en regelgeving. Bij welke partijen moet je zijn als je een keuze voor een gelijkwaardig Nederland wilt maken? Wordt 2021 het jaar van de eerste vrouwelijke minister-president van Nederland? Is het haalbaar om de Tweede Kamer (eindelijk) een afspiegeling te laten zijn van de Nederlandse samenleving\, met 50% van de zetels bezet door vrouwen? Kortom\, er staat veel op het spel 17 maart. De vier weken voor de verkiezingen helpen wij je zo goed mogelijk voorbereid het stemhokje in te sturen. \nDeze week: gezondheid is politiek. Hoe komt het er nog altijd een kennisgat is in onderzoek naar zorg en medicatie voor vrouwen? Waarom keert het recht op abortus telkens weer terug op de politieke agenda? En met huishoudende coronavirus in ons achterhoofd; hoe zorgen we ervoor dat zorg toegankelijk is voor iedereen? \n\nDe uitzending is gratis live te volgen via de website van Pakhuis de Zwijger. Reserveer je plekje hier.
URL:https://www.spe-amsterdam.nl/event/pakhuis-de-zwijger-femcity-x-nl-kiest-3-gezondheid-is-politiek/
LOCATION:Online
ATTACH;FMTTYPE=image/jpeg:https://www.spe-amsterdam.nl/wp-content/uploads/2021/02/zwijger-z.jpg
END:VEVENT
BEGIN:VEVENT
DTSTART;TZID=Europe/Amsterdam:20210227T100000
DTEND;TZID=Europe/Amsterdam:20210227T160000
DTSTAMP:20260422T112357
CREATED:20210212T082849Z
LAST-MODIFIED:20210212T082849Z
UID:17638-1614420000-1614441600@www.spe-amsterdam.nl
SUMMARY:Burgeracademie - Cursus 'Fondsenwerving\, van plan naar aanvraag'. Dag 1
DESCRIPTION:Op zaterdag 27 februari 2021 start de 2-delige cursus ‘Fondsenwerving – van plan naar aanvraag’ van 10:00 tot 16:00. Deze cursus wordt online aangeboden. \nHeb je eind 2020 de cursus ‘Fondsenwerving – van idee naar plan’ gevolgd? Heb je een projectplan liggen met het idee om daar een fonds voor aan te vragen? Dan is dit een goed vervolg en/of moment om jouw plan nog meer te optimaliseren en jouw aanvraag zo goed mogelijk af te stemmen op de fondsen die je aan wil schrijven. \nDag 1: Jouw idee\nVoor sociale en creatieve instellingen zijn er enorm veel mogelijkheden voor het vinden van financiering. Het krijgen van voldoende financiering is echter niet zo makkelijk. Hoe zorg je ervoor dat jouw idee potentiële financiers overtuigt? Hoe zorg je ervoor dat je het idee straks ook netjes en binnen budget realiseert? Is een verdienmodel mogelijk? Wat moet er eigenlijk allemaal in een aanvraag staan? En welke mogelijkheden zijn er precies? \nIn dit gedeelte is er veel ruimte voor interactie\, opdrachten en vragen. En iedereen krijgt huiswerk: maak\, op basis van het in deel 1 geleerde\, een nieuw of verbeterd businessplan van jouw project. \nKijk voor meer informatie over deze cursus\, de kosten en de aanmeldingsmogelijkheden op de website
URL:https://www.spe-amsterdam.nl/event/burgeracademie-cursus-fondsenwerving-van-plan-naar-aanvraag-dag-1/
ATTACH;FMTTYPE=image/png:https://www.spe-amsterdam.nl/wp-content/uploads/2021/02/burgeracademie.png
END:VEVENT
END:VCALENDAR