BEGIN:VCALENDAR
VERSION:2.0
PRODID:-//SPE-Amsterdam - ECPv6.1.3//NONSGML v1.0//EN
CALSCALE:GREGORIAN
METHOD:PUBLISH
X-ORIGINAL-URL:https://www.spe-amsterdam.nl
X-WR-CALDESC:Evenementen voor SPE-Amsterdam
REFRESH-INTERVAL;VALUE=DURATION:PT1H
X-Robots-Tag:noindex
X-PUBLISHED-TTL:PT1H
BEGIN:VTIMEZONE
TZID:Europe/Amsterdam
BEGIN:DAYLIGHT
TZOFFSETFROM:+0100
TZOFFSETTO:+0200
TZNAME:CEST
DTSTART:20210328T010000
END:DAYLIGHT
BEGIN:STANDARD
TZOFFSETFROM:+0200
TZOFFSETTO:+0100
TZNAME:CET
DTSTART:20211031T010000
END:STANDARD
END:VTIMEZONE
BEGIN:VEVENT
DTSTART;TZID=Europe/Amsterdam:20210121T100000
DTEND;TZID=Europe/Amsterdam:20210121T120000
DTSTAMP:20260422T095508
CREATED:20210106T135217Z
LAST-MODIFIED:20210106T135235Z
UID:17487-1611223200-1611230400@www.spe-amsterdam.nl
SUMMARY:Cursus Assertiviteit
DESCRIPTION:Buurvrouwennetwerk Gaasperdam organiseert in samenwerking met Arkin Preventie de cursus ‘Assertiviteit’. In de cursus leer je om op een respectvolle manier voor jezelf op te komen en je grenzen aan te geven. De cursus duurt 6 weken en bijeenkomsten vinden iedere donderdag van 10:00 tot 12:00 plaats vanaf 21 januari. \nTot 14 januari kan je je aanmelden via de mail: info@stichtingbng.nl of telefonisch: 0685515248\nVermeld je naam\, telefoonnummer en naam van de cursus waaraan je wenst deel te nemen \nVoor meer informatie zie de flyer hieronder.
URL:https://www.spe-amsterdam.nl/event/cursus-assertiviteit/
CATEGORIES:Bijeenkomsten vrouwenorganisaties
END:VEVENT
BEGIN:VEVENT
DTSTART;TZID=Europe/Amsterdam:20210121T123000
DTEND;TZID=Europe/Amsterdam:20210121T143000
DTSTAMP:20260422T095508
CREATED:20210106T133749Z
LAST-MODIFIED:20210106T133749Z
UID:17482-1611232200-1611239400@www.spe-amsterdam.nl
SUMMARY:Cursus 'Krachtig In Het Leven Staan' Zuid-Oost
DESCRIPTION:Buurvrouwennetwerk Gaasperdam organiseert in samenwerking met Arkin Preventie de cursus ‘Krachtig In Het Leven Staan’ in Amsterdam Zuid-Oost. In 6 bijeenkomsten van 2 uur leer je bij deze cursus hoe je je zelfvertrouwen vergroot aan de hand van je persoonlijke leerdoelen. De cursus begint op 21 januari en is bedoeld voor vrouwen met een niet-westerse migratie achtergrond die hun zelfvertrouwen willen vergroten. \nAlle informatie kun je op de flyer hieronder vinden. \nAanmelden kan tot 14 januari door te mailen naar: info@stichtingbng.nl of te bellen naar: 0685515248
URL:https://www.spe-amsterdam.nl/event/cursus-krachtig-in-het-leven-staan-zuid-oost/
LOCATION:Buurthuis Holendrecht\, Holendrechtplein 36\, Amsterdam\, 1106LP\, Nederland
CATEGORIES:Bijeenkomsten vrouwenorganisaties
ORGANIZER;CN="Buurvrouwennetwerk%20Gaasperdam":MAILTO:buurvrouwennetwerk@gmail.com
END:VEVENT
BEGIN:VEVENT
DTSTART;TZID=Europe/Amsterdam:20210130T160000
DTEND;TZID=Europe/Amsterdam:20210130T180000
DTSTAMP:20260422T095508
CREATED:20210111T164553Z
LAST-MODIFIED:20210111T164631Z
UID:17495-1612022400-1612029600@www.spe-amsterdam.nl
SUMMARY:Spoken word workshop for queer womxn of color
DESCRIPTION:Stichting Maruf organizes a spoken word workshop for their project ‘Mama\, Hoor Je Mij’.  \n“Mama Hoor Je Mij is a project for and by queer womxn of color in Amsterdam to help us use our voice in everyday life\, storytelling\, and spoken word. Join us for an afternoon of exploring our feelings through words and poetry. Margo will guide us in creatively using our words to express our emotions and desires. Can we express our feelings and connect with one another on a deeper level using these creative tools?”  \nThe event will take place between 4 and 6 p.m. on Zoom.  \nTo sign up or for more information\, send an email before January 24th: s.shams@maruf.eu. 
URL:https://www.spe-amsterdam.nl/event/spoken-word-workshop-for-queer-womxn-of-color/
END:VEVENT
END:VCALENDAR