BEGIN:VCALENDAR
VERSION:2.0
PRODID:-//SPE-Amsterdam - ECPv6.1.3//NONSGML v1.0//EN
CALSCALE:GREGORIAN
METHOD:PUBLISH
X-ORIGINAL-URL:https://www.spe-amsterdam.nl
X-WR-CALDESC:Evenementen voor SPE-Amsterdam
REFRESH-INTERVAL;VALUE=DURATION:PT1H
X-Robots-Tag:noindex
X-PUBLISHED-TTL:PT1H
BEGIN:VTIMEZONE
TZID:Europe/Amsterdam
BEGIN:DAYLIGHT
TZOFFSETFROM:+0100
TZOFFSETTO:+0200
TZNAME:CEST
DTSTART:20200329T010000
END:DAYLIGHT
BEGIN:STANDARD
TZOFFSETFROM:+0200
TZOFFSETTO:+0100
TZNAME:CET
DTSTART:20201025T010000
END:STANDARD
END:VTIMEZONE
BEGIN:VEVENT
DTSTART;TZID=Europe/Amsterdam:20201210T193000
DTEND;TZID=Europe/Amsterdam:20201210T210000
DTSTAMP:20260422T081721
CREATED:20201202T163258Z
LAST-MODIFIED:20201202T163258Z
UID:17365-1607628600-1607634000@www.spe-amsterdam.nl
SUMMARY:Dolle Mina Lezing Atria & Gemeente Amsterdam
DESCRIPTION:Het is dit jaar 50 jaar geleden dat feministische actiegroep Dolle Mina begon met haar vrolijke strijd voor vrouwenrechten. Daarom organiseren gemeente Amsterdam en kennisinstituut Atria samen de eerste jaarlijkse Dolle Mina lezing. Op 10 december tussen 19.30 en 21.00 uur wordt deze uitgezonden vanuit Felix Meritis in Amsterdam. \nDe hoofdspreker is Mandu Reid\, leider van de Britse Women’s Equality Party en kandidaat voor burgemeester van Londen. Ze is de eerste vrouw van kleur in Engeland die leiding geeft aan een politieke partij\, en spreekt in de media openlijk over hoe haar ervaring met abortus haar politiek actief maakte. \nAndere sprekers tijdens de Dolle Mina lezing zijn onder meer Hedy d’Ancona (oud-politica en feministisch boegbeeld van de Dolle Mina-generatie)\, Rachel Rumai (schrijver\, dichter en spoken word artist) en Eva de Goeij en Santi van den Toorn van de feministische actiegroep De Bovengrondse. In het programma wordt ingegaan op het belang van vrouwelijk leiderschap en intersectionele samenwerking om issues als menstruatiearmoede\, toegang tot abortus en eerlijke werk-zorgverdeling aan te pakken. De Dolle Mina lezing is een initiatief van de gemeente Amsterdam en is georganiseerd in samenwerking met Atria\, kennisinstituut voor emancipatie en vrouwengeschiedenis. \nVoor meer informatie en aanmelden zie: https://atria.nl/agenda/dolle-mina-lezing-met-mandu-reid/
URL:https://www.spe-amsterdam.nl/event/dolle-mina-lezing-atria-gemeente-amsterdam/
LOCATION:Online
END:VEVENT
BEGIN:VEVENT
DTSTART;VALUE=DATE:20201211
DTEND;VALUE=DATE:20201212
DTSTAMP:20260422T081721
CREATED:20201209T100028Z
LAST-MODIFIED:20201209T100518Z
UID:17370-1607644800-1607731199@www.spe-amsterdam.nl
SUMMARY:Paarse Vrijdag
DESCRIPTION:Iedere 2e vrijdag van december is het Paarse Vrijdag. Een dag die in het leven is geroepen om solidariteit te tonen aan de lhbti+ gemeenschap en aandacht te vragen voor seksuele- en gender-diversiteit. Op scholen door het hele land wordt paars gedragen en worden acties georganiseerd. Het thema van dit jaar is: ‘Sta Op!’ Op de Paarse Vrijdag-posters staan mondige leerlingen en studenten\, die opstaan ‘voor respect’\, ‘voor rechtvaardigheid’ en ‘voor een inclusief beleid’. Voor meer informatie\, zie deze website.
URL:https://www.spe-amsterdam.nl/event/paarse-vrijdag/
ATTACH;FMTTYPE=image/png:https://www.spe-amsterdam.nl/wp-content/uploads/2020/12/Afbeelding8.png
END:VEVENT
BEGIN:VEVENT
DTSTART;TZID=Europe/Amsterdam:20201211T093000
DTEND;TZID=Europe/Amsterdam:20201211T133000
DTSTAMP:20260422T081721
CREATED:20200403T090033Z
LAST-MODIFIED:20200706T112117Z
UID:16835-1607679000-1607693400@www.spe-amsterdam.nl
SUMMARY:Beslisbijeenkomst Speerpunt 5: Arbeid en Zorg
DESCRIPTION:
URL:https://www.spe-amsterdam.nl/event/beslisbijeenkomst-speerpunt-5-jongens-mannenemancipatie/
END:VEVENT
BEGIN:VEVENT
DTSTART;TZID=Europe/Amsterdam:20201212T100000
DTEND;TZID=Europe/Amsterdam:20201212T160000
DTSTAMP:20260422T081721
CREATED:20200925T135937Z
LAST-MODIFIED:20200925T135937Z
UID:17270-1607767200-1607788800@www.spe-amsterdam.nl
SUMMARY:Folktale storytelling workshop for queer wxmen
DESCRIPTION:Folktale Storytelling Workshop: Mama Hoor je Mij? \n“Mama\, hoor je mij?” is een project van Stichting Maruf voor en door queer vrouwxn van kleur in Amsterdam om ons te helpen onze stem te gebruiken in het dagelijkse leven\, door middel van verhalen vertellen en spoken word.Tijdens deze workshop leer je een persoonlijk verhaal te maken\, geïnspireerd op een volksverhaal dat Farnoosh je vertelt. Je verlaat deze workshop met een persoonlijk verhaal dat je al met anderen kunt delen én met een creatieve methode om nieuwe verhalen te schrijven. Voor aanmelding of informatie\, stuur ons een email vóór 6 december: s.shams@maruf.eu. \n(English version) “Mama\, Hoor je Mij?” is a project by Stichting Maruf for and by queer womxn of color in Amsterdam to help us use our voice in everyday life\, storytelling\, and spoken word. “Mama\,Hoor je Mij” is a project for and by queer womxn of color in Amsterdam to help us use our voice in everyday life\, storytelling\, and spoken word. In this workshop\, Farnoosh helps you connect a folktale to your own story\, leading you to tell your personal story. You will leave the workshop with creative tools for making more stories and a personalized story you can share with others. To sign up or for more information\, send us an email before December 6th: s.shams@maruf.eu.
URL:https://www.spe-amsterdam.nl/event/folktale-storytelling-workshop-for-queer-wxmen/
LOCATION:Mezrab\, Veemkade 576\, 1019BL Amsterdam\, Veemkade 576\, Amsterdam\, 1019BL
END:VEVENT
BEGIN:VEVENT
DTSTART;TZID=Europe/Amsterdam:20201214T130000
DTEND;TZID=Europe/Amsterdam:20201214T163000
DTSTAMP:20260422T081721
CREATED:20201203T115551Z
LAST-MODIFIED:20201203T115551Z
UID:17368-1607950800-1607963400@www.spe-amsterdam.nl
SUMMARY:Landelijk Congres Jonge Mantelzorg
DESCRIPTION:Op 14 december vindt van 13.00 – 16.30 uur het online Congres Jonge Mantelzorg plaats. Het thema dit jaar is Signalering jonge mantelzorgers. Tijdens het congres kan je uit verschillende workshops en lezingen kiezen om te volgen. Bijvoorbeeld de training ‘Hoe herken je jonge mantelzorgers?’ door Markant of de sessie ‘Vraag maar raak\, in gesprek met jonge mantelzorgers’ door JMZ Pro klankbordgroep. Interessante sessies voor organisaties uit het SPE netwerk die willen leren hoe ze de jonge mantelzorgers in hun achterban nog beter kunnen bereiken en helpen! \nDeelnemen is gratis. Klik hier om je aan te melden voor de online sessies. \nProgramma\n• 12.30 – 13.00 uur: Inloggen\n• 13.00 – 13.45 uur: Plenaire opening\n• pauze: 10 minuten\n• 13.55 – 14.45 uur: Sessies ronde 1\n• pauze: 15 minuten\n• 15.00 – 15.50 uur: Sessie ronde 2\n• 16:00 – 16.30 uur: Plenaire afronding \nSessies\n1. Doen wat werkt in het bereiken en ondersteunen van jonge mantelzorgers\nDoor Movisie\nIn verbetertrajecten wordt de kennis van JMZ zelf\, professionals én wetenschap zo goed mogelijk benut om jonge mantelzorgers beter te bereiken en te ondersteunen. Movisie deelt ervaringen en inzichten van verbetertrajecten bij twee gemeenten. \n2. Familiezorg\nDoor Expertisecentrum Familiezorg (ExFaM)\nWanneer er iemand ziek is in een familie\, dan raakt dit iedereen in dit familiesysteem. Uitleg over systemisch werken in de zorg\, volgens de methode familiezorg. Onderwerpen: familiezorg\, genogramen rolomkering \n3. Professionals: Versterk je brussenreflex\nDoor Brussen Erbij Beweging\nBrussen zijn kinderen en volwassenen die een zorg intensieve broer of zus hebben. Ontwikkel of versterk jouw ‘brussenreflex’ en ken hun onzichtbare vragen en behoeften. \n4. Jonge mantelzorgers in het vizier met de Scholentoolkit\nDoor MantelzorgNL\nDat de JMZ ondersteuning nodig heeft\, blijkt vaak als eerste op school. Maak kennis met de scholentoolkit (basisschool en VO) van MantelzorgNL met instrumenten om te signaleren en te handelen en ervaar sommige werkvormen uit de klas vast zelf. \n5. Hoe herken je jonge mantelzorgers?\nDoor Markant\, centrum voor mantelzorg\nSignalering\, een pleidooi en handreikingen voor ouders/verzorgers\, sleutelfiguren in de wijk en professionals in zorg\, welzijn en onderwijs. \n6. Vraag maar raak\, in gesprek met jmz’ers\nDoor JMZ Pro klankbordgroep ervaringsdeskundige jonge mantelzorgers\nBewustwording: Hoe herken je een jonge mantelzorger?! Daarna kun je zelf in gesprek met jonge mantelzorgers. \n7. Veerkrachtige jonge mantelzorgers op school: Vinden\, versterken en verbinden\nDoor Vilans en SCP\nUitleg MeWe-training gericht op vergroten van veerkracht van jonge mantelzorgers en in gesprek over de ervaringen en het borgen van deze interventie. \n8. De Kracht van Eigen Ervaring\nDoor Vanzelfsprekend!?\nIn deze workshop vertellen JMZ-Experts (jonge mantelzorgers die getraind zijn als ervaringsdeskundige) hoe ze door hun ervaringsverhaal diverse doelgroepen tot actie aanzetten: beroepskrachten gaan signaleren\, jongeren letten in hun schoolomgeving of bij vrienden en Jonge Mantelzorgers krijgen er- en herkenning. \n9. GoodPractices\nDoor Welzijn Lelystad\, JMZ Go! en Evenmens\, informele zorg voor elkaar\nVanuit 3 organisaties met een uitgebreid ondersteuningsaanbod voor jonge mantelzorgers worden good practices gedeeld\, voorbeelden behandeld en concrete handvatten aangedragen. Verder wordt ingegaan op de gemeenschappelijke deler van succesvol aanbod voor jonge mantelzorgers. Kortom: wat werkt voor jonge mantelzorgers! \n10. Gemeentelijke aanpak en methodiek signalering op onderwijs en verenigingsleven\nDoor gemeente Olst Wijhe & wethouder Jeugd en raadslid (ervaringsdeskundige) gemeente Aalten\nInteractieve sessie rondom hun signaleringsaanpak en het jmz-beleid. \n11. KOPP/KOV én jonge mantelzorgers in zorg en onderwijs\nDoor Trimbos-instituut\nHoe herken je Kinderen van Ouders met Psychische Problemen en/of Verslaving (KOPP/KOV) en wat kan je voor ze doen? Waarom is er extra oog voor deze groep jonge mantelzorgers nodig? Tijdens de workshop gaan we in op jullie ervaring met jonge mantelzorgers en de onderlinge verschillen en overeenkomsten met KOPP/KOV.
URL:https://www.spe-amsterdam.nl/event/landelijk-congres-jonge-mantelzorg/
END:VEVENT
END:VCALENDAR