BEGIN:VCALENDAR
VERSION:2.0
PRODID:-//SPE-Amsterdam - ECPv6.1.3//NONSGML v1.0//EN
CALSCALE:GREGORIAN
METHOD:PUBLISH
X-WR-CALNAME:SPE-Amsterdam
X-ORIGINAL-URL:https://www.spe-amsterdam.nl
X-WR-CALDESC:Evenementen voor SPE-Amsterdam
REFRESH-INTERVAL;VALUE=DURATION:PT1H
X-Robots-Tag:noindex
X-PUBLISHED-TTL:PT1H
BEGIN:VTIMEZONE
TZID:Europe/Amsterdam
BEGIN:DAYLIGHT
TZOFFSETFROM:+0100
TZOFFSETTO:+0200
TZNAME:CEST
DTSTART:20200329T010000
END:DAYLIGHT
BEGIN:STANDARD
TZOFFSETFROM:+0200
TZOFFSETTO:+0100
TZNAME:CET
DTSTART:20201025T010000
END:STANDARD
END:VTIMEZONE
BEGIN:VEVENT
DTSTART;VALUE=DATE:20200910
DTEND;VALUE=DATE:20200911
DTSTAMP:20260422T034230
CREATED:20200810T095955Z
LAST-MODIFIED:20200810T095955Z
UID:17077-1599696000-1599782399@www.spe-amsterdam.nl
SUMMARY:Single Supermom - Durven Doen Amsterdam Noord
DESCRIPTION:Durven Doen:\nWil je een positieve verandering in jouw leven? Wil je beter met moeilijke situaties leren omgaan?\nDan is Durven Doen de juiste training voor je!\nDurven Doen bestaat uit zeven bijeenkomsten waarin we werken aan jouw doelen. Je maakt plannen. Je onderzoekt wat je nodig hebt om je doelen te bereiken. Je netwerk wordt vergroot\, er ontstaan nieuwe vriendschappen en je investeert in je persoonlijke ontwikkeling. \nDe trainingen zijn laagdrempelig en erop gericht om jou in beweging te brengen en te empoweren. Door deze training komt je in balans\, doorbreek je slechte patronen\, krijgt je weer perspectief in jouw leven\, leer je prioriteiten en doelen te stellen en zet je succesvolle stappen richting zelfredzaamheid en economische zelfstandigheid. Tijdens de trainingen ga je in een veilige omgeving je sociale en praktische vaardigheden oefenen\, zoals plannen (met bijhorende agenda) en evalueren. \nBij de bijeenkomsten deel je jouw ervaringen met de andere moeders\, en bied je elkaar emotionele en praktische steun. Je krijgt professioneel advies van de trainer over hoe je met moeilijke situaties om kan gaan en hoe je je doelen kan bereiken. \nTijdens de trainingen Durven Doen wordt oppas voor de kleine kinderen geregeld. \nDe trainingen starten op 10 september 2020 en vinden gedurende 7 weken plaats. Zie hier het programma van de trainingen. \nAanmelden:\nJe kunt je aanmelden via het online inschrijfformulier: https://singlesupermom.nl/aanmelding-durven-doen/\nOf een e-mail sturen naar info@singlesupermom.com.
URL:https://www.spe-amsterdam.nl/event/single-supermom-durven-doen-amsterdam-noord/
LOCATION:Amsterdam Noord\, Amsterdam\, Nederland
CATEGORIES:Bijeenkomsten vrouwenorganisaties
ATTACH;FMTTYPE=image/png:https://www.spe-amsterdam.nl/wp-content/uploads/2020/08/logo-ssm.png
END:VEVENT
BEGIN:VEVENT
DTSTART;VALUE=DATE:20200914
DTEND;VALUE=DATE:20200915
DTSTAMP:20260422T034230
CREATED:20200810T101731Z
LAST-MODIFIED:20200810T101731Z
UID:17107-1600041600-1600127999@www.spe-amsterdam.nl
SUMMARY:Single Supermom - Durven Doen Online (alle stadsdelen)
DESCRIPTION:Durven Doen:\nWil je een positieve verandering in jouw leven? Wil je beter met moeilijke situaties leren omgaan?\nDan is Durven Doen de juiste training voor je!\nDurven Doen bestaat uit zeven bijeenkomsten waarin we werken aan jouw doelen. Je maakt plannen. Je onderzoekt wat je nodig hebt om je doelen te bereiken. Je netwerk wordt vergroot\, er ontstaan nieuwe vriendschappen en je investeert in je persoonlijke ontwikkeling. \nDe trainingen zijn laagdrempelig en erop gericht om jou in beweging te brengen en te empoweren. Door deze training komt je in balans\, doorbreek je slechte patronen\, krijgt je weer perspectief in jouw leven\, leer je prioriteiten en doelen te stellen en zet je succesvolle stappen richting zelfredzaamheid en economische zelfstandigheid. Tijdens de trainingen ga je in een veilige omgeving je sociale en praktische vaardigheden oefenen\, zoals plannen (met bijhorende agenda) en evalueren. \nBij de bijeenkomsten deel je jouw ervaringen met de andere moeders\, en bied je elkaar emotionele en praktische steun. Je krijgt professioneel advies van de trainer over hoe je met moeilijke situaties om kan gaan en hoe je je doelen kan bereiken. \nDe trainingen starten op 14 september 2020 en vinden gedurende 7 weken plaats. Zie hier het programma van de trainingen. Let op! Deze trainingen vinden online plaats. \nAanmelden:\nJe kunt je aanmelden via het online inschrijfformulier: https://singlesupermom.nl/aanmelding-durven-doen/\nOf een e-mail sturen naar info@singlesupermom.com.
URL:https://www.spe-amsterdam.nl/event/single-supermom-durven-doen-online-alle-stadsdelen/
LOCATION:Amsterdam
ATTACH;FMTTYPE=image/png:https://www.spe-amsterdam.nl/wp-content/uploads/2020/08/logo-ssm.png
END:VEVENT
BEGIN:VEVENT
DTSTART;TZID=Europe/Amsterdam:20200914T090000
DTEND;TZID=Europe/Amsterdam:20200914T120000
DTSTAMP:20260422T034230
CREATED:20200914T111051Z
LAST-MODIFIED:20200914T111051Z
UID:17209-1600074000-1600084800@www.spe-amsterdam.nl
SUMMARY:Training: 'Zet een volgende stap' - Stichting Malak
DESCRIPTION:Stichting Malak organiseert vanaf 14 september wekelijks de training ‘Zet een volgende stap’. Bij deze training kom je er in 12 weken achter wat jouw talenten en kwaliteiten zijn en hoe je deze kunt benutten. De volgende drie thema’s staan daarbij centraal: \n\npersoonlijke ontwikkeling en empowerment\nvan vrijwilligerswerk naar werk\nwerk en ondernemerschap\n\n  \nTijd en locatie \nDe training vindt plaats op maandagen vanaf 14 september van 09:30 tot 12:00. Vanaf 09:00 is er inloop met een gezond ontbijt. Ook voor kinderopvang wordt gezorgd. De locatie is stichting Al Houda: J. Drijverweg 5A.  \nInschrijven \nVoor meer informatie en om je in te schrijven kun je mailen naar info@stichtingmalak.com of bellen naar 0641742933.
URL:https://www.spe-amsterdam.nl/event/training-zet-een-volgende-stap-stichting-malak/
LOCATION:J. Drijverweg 5A.
END:VEVENT
BEGIN:VEVENT
DTSTART;TZID=Europe/Amsterdam:20200915T100000
DTEND;TZID=Europe/Amsterdam:20200915T120000
DTSTAMP:20260422T034230
CREATED:20200914T113600Z
LAST-MODIFIED:20200914T114021Z
UID:17216-1600164000-1600171200@www.spe-amsterdam.nl
SUMMARY:Training 'Doe mee\, werk aan je toekomst!'
DESCRIPTION:Stichting Malak organiseert vanaf 15 september de cursus ‘Doe mee\, werk aan je toekomst!’ voor vrouwen vanaf 18 jaar die aan zichzelf en hun toekomst willen werken. In de 9 bijeenkomsten komen bijvoorbeeld de volgende onderwerpen aan bod: zelfvertrouwen\, assertiviteit\, vrijwilligerswerk en ondernemerschap. Voor het volledige programma zie de flyer onder dit bericht. \n  \nTijd en locatie \nDe trainingen vinden plaats op dinsdagen van 10:00 tot 12:00 bij moskee stichting Al Houda op J. Drijverweg 5A. Kinderopvang is ook aanwezig. \n  \nDeelname \nAanmelden of meer informatie vragen kan door te mailen naar info@stichtingmalak.com of te bellen naar Fatima op 0641742933.
URL:https://www.spe-amsterdam.nl/event/training-doe-mee-werk-aan-je-toekomst/
LOCATION:J. Drijverweg 5A.
END:VEVENT
BEGIN:VEVENT
DTSTART;TZID=Europe/Amsterdam:20200918T100000
DTEND;TZID=Europe/Amsterdam:20200918T140000
DTSTAMP:20260422T034230
CREATED:20200827T075343Z
LAST-MODIFIED:20200827T075343Z
UID:17140-1600423200-1600437600@www.spe-amsterdam.nl
SUMMARY:Netwerkbijeenkomst Psychische gezondheid
DESCRIPTION:
URL:https://www.spe-amsterdam.nl/event/netwerkbijeenkomst-psychische-gezondheid/
END:VEVENT
BEGIN:VEVENT
DTSTART;TZID=Europe/Amsterdam:20200922T190000
DTEND;TZID=Europe/Amsterdam:20200922T210000
DTSTAMP:20260422T034230
CREATED:20200903T121220Z
LAST-MODIFIED:20200903T121220Z
UID:17163-1600801200-1600808400@www.spe-amsterdam.nl
SUMMARY:Webinar 'Van tegenkracht naar veerkracht'
DESCRIPTION:De burgeracademie organiseert in samenwerking met Geweld(ig) in huis 2.0 en Maartje Bos van Ibu Bos de gratis webinar ‘Van tegenkracht naar veerkracht’. De webinar vindt online plaats op 22 september van 19:00 tot 21:00. Op deze avond leer je meer over veerkracht en wisselen we ervaringen met elkaar uit.   \nVeerkracht is het vermogen om je aan te passen en om te gaan met stress\, tegenslag en verandering. Veel organisaties hebben in deze tijden van Corona te maken met diverse uitdagingen waarin een beroep wordt gedaan op hun veerkracht. De situatie en mogelijkheden hoe hiermee om te gaan is voor iedereen anders. Een ieder kan zijn of haar veerkracht op eigen wijze vergroten.    \nDe webinar wordt geleid door Maartje Bos\, resilient facilitator en coach. Zij houdt zich (ook in eigen buurt) bezig met het faciliteren\, opzetten en uitvoeren van innovatieve projecten en community Building.  Maartje schreef dit artikel over veerkracht in corona tijd en het model beschermjassen. \n  \nAanmelden \nPraat jij mee tijdens dit interactieve webinar? Kijk voor meer informatie over de webinar en de aanmeldingsmogelijkheden op https://burgeracademie.nu/product/van-tegenkracht-naar-veerkracht-online-september-2020/. \n  \n \n 
URL:https://www.spe-amsterdam.nl/event/webinar-van-tegenkracht-naar-veerkracht/
END:VEVENT
BEGIN:VEVENT
DTSTART;TZID=Europe/Amsterdam:20200923T120000
DTEND;TZID=Europe/Amsterdam:20200923T150000
DTSTAMP:20260422T034230
CREATED:20200903T121257Z
LAST-MODIFIED:20200903T121257Z
UID:17143-1600862400-1600873200@www.spe-amsterdam.nl
SUMMARY:Empowerment Cursus Ondernemende Vrouwen Amsterdam Zuid-Oost
DESCRIPTION:Empowerment Cursus Ondernemende Vrouwen\nBuurvrouwennetwerk Gaasperdam organiseert Ondernemende Vrouwen in samenwerking met diverse partners.\nHet doel is om jou te stimuleren en versterken in het creëren en vergroten van je arbeidskansen\, zodat jij stappen verder kunt zetten om je doelen\, wensen en ambities te realiseren in je economische zelfstandigheid.\nIn de cursus staan empowerment\, persoonlijke ontwikkeling en groei centraal. Je krijgt meer inzichten in jezelf. Ben jij bereid om op een positieve manier naar jezelf te kijken en anderen naar jou te laten kijken? Doe dan mee!\n\nDeelname\nDeelname aan de cursus is gratis. Er is daarnaast gratis kinderopvang aanwezig indien gewenst. Ook de Corona maatregelen worden serieus in acht genomen. Deelname is voor:\n– Maximaal 12 deelnemers die 12 weken beschikbaar zijn voor de cursus\n– Vrouwen die in Amsterdam Zuidoost wonen en in een uitkeringssituatie zitten\n\nData Cursus\nDe cursus is op woensdagen 23 september t/m 9 december 2020. Tijd: 12.00 – 15.00. Inloop met lunch 12.00 – 12.30. De cursus bestaat uit 3 thema’s: individuele coaching\, groepsbijeenkomsten\, excursies. Voor het volledige programma klik hier om de flyer te zien: Flyer Ondernemende Vrouwen_2020\n\nLocatie\nBuurthuis Gein\, Wisseloord 83\, 1107 NB Amsterdam Zuidoost\n  \n  \nAanmelden\nTot uiterlijk 15 september via E: info@stichtingbng.nl of T: 0685515248 / 0623794574. Wacht niet te lang! Vol=Vol.  Vermeld je naam en telnr. erbij. Na je aanmelding ontvang je een persoonlijke uitnodiging voor een kort gesprek.
URL:https://www.spe-amsterdam.nl/event/empowerment-cursus-ondernemende-vrouwen-amsterdam-zuid-oost/
LOCATION:Buurthuis Gein\, Wisseloord 83\, Amsterdam\, 1107 NB
ORGANIZER;CN="Buurvrouwennetwerk%20Gaasperdam":MAILTO:buurvrouwennetwerk@gmail.com
END:VEVENT
BEGIN:VEVENT
DTSTART;TZID=Europe/Amsterdam:20200926T100000
DTEND;TZID=Europe/Amsterdam:20200926T150000
DTSTAMP:20260422T034230
CREATED:20200909T142906Z
LAST-MODIFIED:20200909T142906Z
UID:17189-1601114400-1601132400@www.spe-amsterdam.nl
SUMMARY:Mindfulness and voice workshop for queer womxn of color - 'Mama hoor je mij'
DESCRIPTION:Mindfulness and voice workshop for queer womxn of color: ‘Mama hoor je mij’ \n(English version below) “Mama\, hoor je mij” is een project voor en door queer vrouwxn van kleur in Amsterdam om ons te helpen onze stem te gebruiken in het dagelijkse leven\, door middel van verhalen vertellen en spoken word. In deze workshop\, zal Yinske Silva ons begeleiden door een proces van zelfreflectie hoe je de verschillende kanten van je persoonlijkheid kunt ontdekken en hoe je je ware stem kunt uiten. Je zult deze workshop verlaten met concrete handvaten om deze reis van zelf-ontdekking verder. Om je aan te melden of voor meer informatie kun je ons een email sturen voor 20 September naar: s.shams@maruf.eu \nLocatie: The Marmalade NDSM-Plein 90E Amsterdam \n“Mama\, hoor je mij” is a project for and by queer womxn of color in Amsterdam to help us use our voice in everyday life\, storytelling\, and spoken word. In this workshop\, Yinske Silva guides you through a self-reflective process to explore different sides of your personality and express your true voice. You will leave the workshop with concrete tools to continue this journey of self-exploration. To sign up or for more information\, send us an email before September 20th at: s.shams@maruf.eu  \nLocation: The Marmalade NDSM-Plein 90E Amsterdam
URL:https://www.spe-amsterdam.nl/event/mindfulness-and-voice-workshop-for-queer-womxn-of-color-mama-hoor-je-mij/
LOCATION:The Marmalade\, NDSM-Plein 90E Amsterdam\, NDSM-Plein 90E\, Amsterdam\, Nederland
END:VEVENT
BEGIN:VEVENT
DTSTART;VALUE=DATE:20200928
DTEND;VALUE=DATE:20200929
DTSTAMP:20260422T034230
CREATED:20200810T102225Z
LAST-MODIFIED:20200810T102225Z
UID:17112-1601251200-1601337599@www.spe-amsterdam.nl
SUMMARY:Single Supermom - Nieuwe Kansen Amsterdam Noord
DESCRIPTION:Nieuwe Kansen:\nNieuwe Kansen is een nieuw programma\, een samenwerking tussen Single SuperMom’s Durven Doen en Netwerkpro’s Kanstraject. De deelnemers volgen eerst de training Durven Doen van Single SuperMom. Aansluitend op Durven Doen gaan de deelnemers het Kanstraject volgen van Netwerkpro. Het Kanstraject is een empowerment- en netwerkprogramma waarin de moeder haar talent in beeld gaat brengen. De moeders leren hoe ze zichzelf presenteren en hoe ze hun kwaliteiten zichtbaar maken. Daarna starten de moeders met een werkervaringsperiode waarin ze hun vaardigheden kunnen laten zien. Netwerkpro richt zich nu met name op werkervaringsplekken in de zorg\, dienstverlening en retail\, maar deelnemers kunnen ook naar andere sectoren uitstromen. Het traject bestaat uit 12 wekelijkse bijeenkomsten en daaropvolgend een werkervaringsperiode van zes weken. Nieuwe Kansen is bedoeld voor alleenstaande moeders uit Amsterdam die gemotiveerd zijn om weer aan het werk te gaan. \nPraktische informatie:\nDe trainingen starten op 28 september 2020 en vinden gedurende 12 weken plaats. Zie hier het programma van de trainingen. \nAanmelden:\nJe kunt je aanmelden via het online inschrijfformulier: https://singlesupermom.nl/aanmelding-durven-doen/\nOf een e-mail sturen naar info@singlesupermom.com.
URL:https://www.spe-amsterdam.nl/event/single-supermom-nieuwe-kansen-amsterdam-noord/
LOCATION:Amsterdam Noord\, Amsterdam\, Nederland
CATEGORIES:Bijeenkomsten vrouwenorganisaties
ATTACH;FMTTYPE=image/png:https://www.spe-amsterdam.nl/wp-content/uploads/2020/08/logo-ssm.png
END:VEVENT
BEGIN:VEVENT
DTSTART;VALUE=DATE:20200929
DTEND;VALUE=DATE:20200930
DTSTAMP:20260422T034230
CREATED:20200810T102514Z
LAST-MODIFIED:20200810T102514Z
UID:17115-1601337600-1601423999@www.spe-amsterdam.nl
SUMMARY:Single Supermom - Nieuwe Kansen Amsterdam Zuid
DESCRIPTION:Nieuwe Kansen:\nNieuwe Kansen is een nieuw programma\, een samenwerking tussen Single SuperMom’s Durven Doen en Netwerkpro’s Kanstraject. De deelnemers volgen eerst de training Durven Doen van Single SuperMom. Aansluitend op Durven Doen gaan de deelnemers het Kanstraject volgen van Netwerkpro. Het Kanstraject is een empowerment- en netwerkprogramma waarin de moeder haar talent in beeld gaat brengen. De moeders leren hoe ze zichzelf presenteren en hoe ze hun kwaliteiten zichtbaar maken. Daarna starten de moeders met een werkervaringsperiode waarin ze hun vaardigheden kunnen laten zien. Netwerkpro richt zich nu met name op werkervaringsplekken in de zorg\, dienstverlening en retail\, maar deelnemers kunnen ook naar andere sectoren uitstromen. Het traject bestaat uit 12 wekelijkse bijeenkomsten en daaropvolgend een werkervaringsperiode van zes weken. Nieuwe Kansen is bedoeld voor alleenstaande moeders uit Amsterdam die gemotiveerd zijn om weer aan het werk te gaan. \nPraktische informatie:\nDe trainingen starten op 29 september 2020 en vinden gedurende 12 weken plaats. Zie hier het programma van de trainingen. \nAanmelden:\nJe kunt je aanmelden via het online inschrijfformulier: https://singlesupermom.nl/aanmelding-durven-doen/\nOf een e-mail sturen naar info@singlesupermom.com.
URL:https://www.spe-amsterdam.nl/event/single-supermom-nieuwe-kansen-amsterdam-zuid/
LOCATION:Amsterdam Zuid\, Amsterdam\, Noord-holland\, Nederland
ATTACH;FMTTYPE=image/png:https://www.spe-amsterdam.nl/wp-content/uploads/2020/08/logo-ssm.png
END:VEVENT
END:VCALENDAR