BEGIN:VCALENDAR
VERSION:2.0
PRODID:-//SPE-Amsterdam - ECPv6.1.3//NONSGML v1.0//EN
CALSCALE:GREGORIAN
METHOD:PUBLISH
X-WR-CALNAME:SPE-Amsterdam
X-ORIGINAL-URL:https://www.spe-amsterdam.nl
X-WR-CALDESC:Evenementen voor SPE-Amsterdam
REFRESH-INTERVAL;VALUE=DURATION:PT1H
X-Robots-Tag:noindex
X-PUBLISHED-TTL:PT1H
BEGIN:VTIMEZONE
TZID:Europe/Amsterdam
BEGIN:DAYLIGHT
TZOFFSETFROM:+0100
TZOFFSETTO:+0200
TZNAME:CEST
DTSTART:20260329T010000
END:DAYLIGHT
BEGIN:STANDARD
TZOFFSETFROM:+0200
TZOFFSETTO:+0100
TZNAME:CET
DTSTART:20261025T010000
END:STANDARD
END:VTIMEZONE
BEGIN:VEVENT
DTSTART;TZID=Europe/Amsterdam:20260424T124500
DTEND;TZID=Europe/Amsterdam:20260424T160000
DTSTAMP:20260424T012327
CREATED:20260323T150110Z
LAST-MODIFIED:20260323T150145Z
UID:21676-1777034700-1777046400@www.spe-amsterdam.nl
SUMMARY:WikiVrijdag bij Ihlia
DESCRIPTION:Ben jij nieuwsgierig naar hoe je kunt bijdragen aan betrouwbare informatie over gendergelijkheid\, emancipatie en vrouwengeschiedenis op Wikipedia? Wil je bijdragen aan een inclusieve online encyclopedie? Dan zijn deze schrijfmiddagen iets voor jou! \n\n\n\n\n\n\n\nIedere schrijfmiddag staat een thema centraal\, waarover vaak je een korte inleiding kunt volgen. Daarna gaan we zelf aan de slag: onder begeleiding van ervaren Wikipedia-bewerkers leer je hoe je artikelen schrijft en bewerkt. Je krijgt handige tips\, een duidelijke handleiding én suggesties waarover te schrijven. Of je nu een beginner bent of al ervaring hebt – iedereen is welkom! \nProgramma\n\n12.45 – 13.00 uur: Inloop\n13.00 – 13.25 uur: Inleiding\n13.25 – 16.00 uur: Schrijven voor Wikipedia\n\nPraktisch\nZelf meenemen: laptop.\nDe bijeenkomsten zijn gratis. Om te weten hoeveel mensen we kunnen verwachten\, vragen we je om je in te schrijven. \n  \n24 april: WikiVrijdag bij Ihlia (Amsterdam)
URL:https://www.spe-amsterdam.nl/event/wikivrijdag-bij-ihlia/
LOCATION:Ihlia
END:VEVENT
END:VCALENDAR