BEGIN:VCALENDAR
VERSION:2.0
PRODID:-//SPE-Amsterdam - ECPv6.1.3//NONSGML v1.0//EN
CALSCALE:GREGORIAN
METHOD:PUBLISH
X-WR-CALNAME:SPE-Amsterdam
X-ORIGINAL-URL:https://www.spe-amsterdam.nl
X-WR-CALDESC:Evenementen voor SPE-Amsterdam
REFRESH-INTERVAL;VALUE=DURATION:PT1H
X-Robots-Tag:noindex
X-PUBLISHED-TTL:PT1H
BEGIN:VTIMEZONE
TZID:Europe/Amsterdam
BEGIN:DAYLIGHT
TZOFFSETFROM:+0100
TZOFFSETTO:+0200
TZNAME:CEST
DTSTART:20260329T010000
END:DAYLIGHT
BEGIN:STANDARD
TZOFFSETFROM:+0200
TZOFFSETTO:+0100
TZNAME:CET
DTSTART:20261025T010000
END:STANDARD
END:VTIMEZONE
BEGIN:VEVENT
DTSTART;TZID=Europe/Amsterdam:20260420T090000
DTEND;TZID=Europe/Amsterdam:20260420T110000
DTSTAMP:20260420T112106
CREATED:20260319T091708Z
LAST-MODIFIED:20260319T091708Z
UID:21656-1776675600-1776682800@www.spe-amsterdam.nl
SUMMARY:Financieel juridisch inloopspreekuur
DESCRIPTION:Financieel-juridische inloopspreekuren zijn laagdrempelig en gratis. Je kunt zonder afspraak binnenlopen met vragen over geld en regels\, zoals schulden\, toeslagen\, uitkeringen of brieven die je niet snapt. De mensen van Raad is daad helpen je met het invullen van formulieren en het aanvragen van gemeentelijke voorzieningen\, belastingzaken\, het maken van bezwaar en vragen aan het UWV of andere instanties. Ze helpen in meerdere talen en kijken samen met jou wat er nodig is\, zodat je verder kunt.
URL:https://www.spe-amsterdam.nl/event/financieel-juridisch-inloopspreekuur/
LOCATION:Eigenwijks Slotermeer\, Geuzenveld en Osdorp\, Slotermeerlaan 103\, Amsterdam
END:VEVENT
END:VCALENDAR