BEGIN:VCALENDAR
VERSION:2.0
PRODID:-//SPE-Amsterdam - ECPv6.1.3//NONSGML v1.0//EN
CALSCALE:GREGORIAN
METHOD:PUBLISH
X-ORIGINAL-URL:https://www.spe-amsterdam.nl
X-WR-CALDESC:Evenementen voor SPE-Amsterdam
REFRESH-INTERVAL;VALUE=DURATION:PT1H
X-Robots-Tag:noindex
X-PUBLISHED-TTL:PT1H
BEGIN:VTIMEZONE
TZID:Europe/Amsterdam
BEGIN:DAYLIGHT
TZOFFSETFROM:+0100
TZOFFSETTO:+0200
TZNAME:CEST
DTSTART:20240331T010000
END:DAYLIGHT
BEGIN:STANDARD
TZOFFSETFROM:+0200
TZOFFSETTO:+0100
TZNAME:CET
DTSTART:20241027T010000
END:STANDARD
END:VTIMEZONE
BEGIN:VEVENT
DTSTART;TZID=Europe/Amsterdam:20240326T150000
DTEND;TZID=Europe/Amsterdam:20240326T173000
DTSTAMP:20260424T131219
CREATED:20240325T084314Z
LAST-MODIFIED:20240325T084927Z
UID:20200-1711465200-1711474200@www.spe-amsterdam.nl
SUMMARY:Wijkkunde Amsterdam
DESCRIPTION:Ga jij een subsidieaanvraag 2024 of 2025 -2030 doen bij de Sociale Basis in Oost? Ben je dat in de toekomst misschien van plan? Of ondersteun jij misschien bewonersinitiatieven? De Sociale Basis is helemaal vernieuwd en dat heeft heel veel consequenties. Toch moet je  een meerjarige aanvraag bijvoorbeeld al vóór 6 mei aanstaande ingestuurd hebben. Dat os krap. Kom daarom op dinsdag 26 maart aanstaande tussen 15.00 en 17.30 naar de inloopmiddag van Wijkkunde in de Meevaart! Het team\, aangevuld met experts uit het sociaal domein zit klaar voor al jouw vragen. \n  \nZoals: \nWat verandert er precies? Waar liggen mijn kansen? Waar hoor ik thuis in de nieuwe opzet? Moet ik gaan samenwerken? Met wie kan ik samenwerken? Hoeveel geld kan ik aanvragen? Moet ik jaarlijks of meteen voor zes jaar aanvragen?  Wie kan mij helpen met het schrijven van mijn aanvraag? \nOok kan je tijdens deze middag met andere initiatiefnemers netwerken en overleggen of je wilt gaan samenwerken. Want dat is een sterke plus bij je aanvraag. En er zijn fondsenwervers aanwezig waar je misschien afspraken mee kunt maken over hulp bij het schrijven en begroten.
URL:https://www.spe-amsterdam.nl/event/wijkkunde-amsterdam/
END:VEVENT
END:VCALENDAR