BEGIN:VCALENDAR
VERSION:2.0
PRODID:-//SPE-Amsterdam - ECPv6.1.3//NONSGML v1.0//EN
CALSCALE:GREGORIAN
METHOD:PUBLISH
X-WR-CALNAME:SPE-Amsterdam
X-ORIGINAL-URL:https://www.spe-amsterdam.nl
X-WR-CALDESC:Evenementen voor SPE-Amsterdam
REFRESH-INTERVAL;VALUE=DURATION:PT1H
X-Robots-Tag:noindex
X-PUBLISHED-TTL:PT1H
BEGIN:VTIMEZONE
TZID:Europe/Amsterdam
BEGIN:DAYLIGHT
TZOFFSETFROM:+0100
TZOFFSETTO:+0200
TZNAME:CEST
DTSTART:20240331T010000
END:DAYLIGHT
BEGIN:STANDARD
TZOFFSETFROM:+0200
TZOFFSETTO:+0100
TZNAME:CET
DTSTART:20241027T010000
END:STANDARD
END:VTIMEZONE
BEGIN:VEVENT
DTSTART;VALUE=DATE:20240308
DTEND;VALUE=DATE:20240318
DTSTAMP:20260424T131635
CREATED:20240226T154039Z
LAST-MODIFIED:20240226T154039Z
UID:20109-1709856000-1710719999@www.spe-amsterdam.nl
SUMMARY:(Online) Filmfestival HER
DESCRIPTION:HER Film Festival biedt een podium aan verhalen van over de hele wereld. Verhalen die  inspireren\, maar ook uitdagen om na te denken over thema’s waar vrouwen nog altijd voor moeten strijden: Health\, Empowerment en Rights. Al sinds 2020 verbinden Simavi en Cinetree samen tienduizenden kijkers met de verhalen van bijzondere en inspirerende vrouwen. Zo blijven ze zich inzetten voor de positie van vrouwen wereldwijd. \nLees hier meer over het festival en hoe jij je gratis film kan kijken.
URL:https://www.spe-amsterdam.nl/event/online-filmfestival-her/
END:VEVENT
END:VCALENDAR