BEGIN:VCALENDAR
VERSION:2.0
PRODID:-//SPE-Amsterdam - ECPv6.1.3//NONSGML v1.0//EN
CALSCALE:GREGORIAN
METHOD:PUBLISH
X-WR-CALNAME:SPE-Amsterdam
X-ORIGINAL-URL:https://www.spe-amsterdam.nl
X-WR-CALDESC:Evenementen voor SPE-Amsterdam
REFRESH-INTERVAL;VALUE=DURATION:PT1H
X-Robots-Tag:noindex
X-PUBLISHED-TTL:PT1H
BEGIN:VTIMEZONE
TZID:Europe/Amsterdam
BEGIN:DAYLIGHT
TZOFFSETFROM:+0100
TZOFFSETTO:+0200
TZNAME:CEST
DTSTART:20240331T010000
END:DAYLIGHT
BEGIN:STANDARD
TZOFFSETFROM:+0200
TZOFFSETTO:+0100
TZNAME:CET
DTSTART:20241027T010000
END:STANDARD
END:VTIMEZONE
BEGIN:VEVENT
DTSTART;VALUE=DATE:20240308
DTEND;VALUE=DATE:20240318
DTSTAMP:20260424T131213
CREATED:20240226T154039Z
LAST-MODIFIED:20240226T154039Z
UID:20109-1709856000-1710719999@www.spe-amsterdam.nl
SUMMARY:(Online) Filmfestival HER
DESCRIPTION:HER Film Festival biedt een podium aan verhalen van over de hele wereld. Verhalen die  inspireren\, maar ook uitdagen om na te denken over thema’s waar vrouwen nog altijd voor moeten strijden: Health\, Empowerment en Rights. Al sinds 2020 verbinden Simavi en Cinetree samen tienduizenden kijkers met de verhalen van bijzondere en inspirerende vrouwen. Zo blijven ze zich inzetten voor de positie van vrouwen wereldwijd. \nLees hier meer over het festival en hoe jij je gratis film kan kijken.
URL:https://www.spe-amsterdam.nl/event/online-filmfestival-her/
END:VEVENT
BEGIN:VEVENT
DTSTART;TZID=Europe/Amsterdam:20240315T130000
DTEND;TZID=Europe/Amsterdam:20240315T130000
DTSTAMP:20260424T131213
CREATED:20231206T144332Z
LAST-MODIFIED:20231206T144526Z
UID:19951-1710507600-1710507600@www.spe-amsterdam.nl
SUMMARY:Deadline Projectaanvraag voorkomen en tegengaan Seksuele intimidatie en Seksueel Geweld
DESCRIPTION:DEADLINE: vrijdag 15 maart om 13:00 \nHet speerpunt gericht op het tegengaan en voorkomen van Seksuele Intimidatie en Seksueel Geweld richt zich op de directe omgeving van meiden in Amsterdam. Meiden kunnen in kwetsbare situaties verkeren\, waarbij ze hulp nodig hebben om weerbaarder te worden. Deze hulp kan nabij zijn\, maar het is belangrijk te erkennen dat de directe omgeving niet altijd over de benodigde vaardigheden beschikt om effectieve ondersteuning te bieden. De nadruk van dit speerpunt ligt daarom op het ondersteunen van mensen en groepen uit de (directe) omgeving van meiden in een kwetsbare positie. Op deze manier zijn zij in beter staat om kwetsbare meiden te ondersteunen en eerder te signaleren. Dat draagt bij aan het voorkomen van seksuele intimidatie en seksueel geweld.  \nIn de ideale wereld voelt iedereen in Amsterdam zich veilig: op straat\, thuis\, op school\, werk\, tijdens het uitgaan en online. In de realiteit komen seksuele intimidatie en seksueel geweld in onze stad veelvuldig voor. Vooral meiden en vrouwen hebben te maken met verschillende vormen van seksuele intimidatie en seksueel geweld. De persoonlijke gevolgen hiervan zijn vaak heftig.  \nBinnen het speerpunt gericht op het tegengaan en voorkomen van seksuele intimidatie en seksueel geweld kunnen projecten worden ingediend die zich specifiek richten op de directe omgeving van potentiële slachtoffers. Zoals familieleden (ouders\, broers en zussen)\, gemeenschappen\, en andere betrokkenen zoals sleutelpersonen.   \nAanvragen moeten voldoen aan onze criteria\, lees deze goed door voor je aan de slag gaat. Voldoet het plan aan de criteria? Volg dan het stappenplan en dien een aanvraag in door een ingevuld aanvraagformulier te mailen naar info@spe-amsterdam.nl.  \n 
URL:https://www.spe-amsterdam.nl/event/deadline-projectaanvraag-voorkomen-en-tegengaan-seksuele-intimidatie-en-seksueel-geweld/
END:VEVENT
BEGIN:VEVENT
DTSTART;TZID=Europe/Amsterdam:20240315T170000
DTEND;TZID=Europe/Amsterdam:20240315T204500
DTSTAMP:20260424T131213
CREATED:20240229T111205Z
LAST-MODIFIED:20240229T111205Z
UID:20117-1710522000-1710535500@www.spe-amsterdam.nl
SUMMARY:Vrouwendag met Tori Oso & Stichting Blakarutu Vier Internationale Vrouwendag
DESCRIPTION:Vrouwendag met Tori Oso & Stichting Blakarutu\nVier Internationale Vrouwendag met Tori Oso & Stichting Blakarutu. Doe mee aan de interactieve workshops en de emancipatie quiz\, luister naar interessante sprekers en geniet van een hapje en een drankje. \n  \nLaat weten dat u komt! Mail naar: info@blakarutu.nl
URL:https://www.spe-amsterdam.nl/event/vrouwendag-met-tori-oso-stichting-blakarutu-vier-internationale-vrouwendag/
LOCATION:Tari Oso\, Geldershoofd 72\, amsterdam\, Nederland
END:VEVENT
END:VCALENDAR