BEGIN:VCALENDAR
VERSION:2.0
PRODID:-//SPE-Amsterdam - ECPv6.1.3//NONSGML v1.0//EN
CALSCALE:GREGORIAN
METHOD:PUBLISH
X-ORIGINAL-URL:https://www.spe-amsterdam.nl
X-WR-CALDESC:Evenementen voor SPE-Amsterdam
REFRESH-INTERVAL;VALUE=DURATION:PT1H
X-Robots-Tag:noindex
X-PUBLISHED-TTL:PT1H
BEGIN:VTIMEZONE
TZID:Europe/Amsterdam
BEGIN:DAYLIGHT
TZOFFSETFROM:+0100
TZOFFSETTO:+0200
TZNAME:CEST
DTSTART:20240331T010000
END:DAYLIGHT
BEGIN:STANDARD
TZOFFSETFROM:+0200
TZOFFSETTO:+0100
TZNAME:CET
DTSTART:20241027T010000
END:STANDARD
END:VTIMEZONE
BEGIN:VEVENT
DTSTART;TZID=Europe/Amsterdam:20240301T080000
DTEND;TZID=Europe/Amsterdam:20240310T170000
DTSTAMP:20260424T131635
CREATED:20240305T133900Z
LAST-MODIFIED:20240305T133900Z
UID:20142-1709280000-1710090000@www.spe-amsterdam.nl
SUMMARY:Fototentoonstelling: Eva\, Sara en Hanna. Vrouwen van de wereld
DESCRIPTION:In de fototentoonstelling Eva\, Sara en Hanna. Vrouwen van de wereld geeft kunstenaar Caroline Waltman Bijbelse vrouwen een gezicht. Zonder specifiek te worden over wie waar staat afgebeeld\, portretteert ze de vrouwen in hun eigen habitat. Jonge vrouwen die Eva of Hanna hadden kunnen zijn. Oudere vrouwen\, zoals Sara of Elisabeth. Zussen als Martha en Maria. De foto’s van deze hedendaagse ‘Bijbelse’ vrouwen worden afgewisseld met foto’s van landschappen\, stillevens en details die elkaar via beeldrijm versterken. \n 
URL:https://www.spe-amsterdam.nl/event/fototentoonstelling-eva-sara-en-hanna-vrouwen-van-de-wereld/
LOCATION:OBA Oosterdok\, Oosterdokskade 143\, Amsterdam\, 1011DL\, Nederland
END:VEVENT
BEGIN:VEVENT
DTSTART;VALUE=DATE:20240308
DTEND;VALUE=DATE:20240318
DTSTAMP:20260424T131635
CREATED:20240226T154039Z
LAST-MODIFIED:20240226T154039Z
UID:20109-1709856000-1710719999@www.spe-amsterdam.nl
SUMMARY:(Online) Filmfestival HER
DESCRIPTION:HER Film Festival biedt een podium aan verhalen van over de hele wereld. Verhalen die  inspireren\, maar ook uitdagen om na te denken over thema’s waar vrouwen nog altijd voor moeten strijden: Health\, Empowerment en Rights. Al sinds 2020 verbinden Simavi en Cinetree samen tienduizenden kijkers met de verhalen van bijzondere en inspirerende vrouwen. Zo blijven ze zich inzetten voor de positie van vrouwen wereldwijd. \nLees hier meer over het festival en hoe jij je gratis film kan kijken.
URL:https://www.spe-amsterdam.nl/event/online-filmfestival-her/
END:VEVENT
BEGIN:VEVENT
DTSTART;TZID=Europe/Amsterdam:20240310T115500
DTEND;TZID=Europe/Amsterdam:20240310T130000
DTSTAMP:20260424T131635
CREATED:20240305T135042Z
LAST-MODIFIED:20240305T135042Z
UID:20148-1710071700-1710075600@www.spe-amsterdam.nl
SUMMARY:H'ART Museum: Operaconcert
DESCRIPTION:Het H’ART Museum programmeert vanwege het weekend van Internationale vrouwendag een ‘lunchconcert’ met voorafgaand een live kort interview met een van de meest talentvolle operazangeressen van dit moment. Nederlandse sopraan Josephina Hoogstad trad bij haar theaterdebuut in Italië op onder de leiding van Claudio Desderi in het theater Bonci Cesena. In Nederland zong ze al in de Arena en afgelopen november samen met het Metropool orkest in de Ziggo Dome. Dit jaar zal ze naar het Buckingham palace afreizen om voor de Engelse koninklijke familie op te treden\, maar is ze op 10 maart eerst te zien en te horen bij ons in het restaurant van het H’ART Museum.
URL:https://www.spe-amsterdam.nl/event/hart-museum-operaconcert/
LOCATION:H’ART Museum\, Amstel 51\, Amsterdam
END:VEVENT
BEGIN:VEVENT
DTSTART;TZID=Europe/Amsterdam:20240310T120000
DTEND;TZID=Europe/Amsterdam:20240310T203000
DTSTAMP:20260424T131635
CREATED:20240220T121219Z
LAST-MODIFIED:20240220T121219Z
UID:20081-1710072000-1710102600@www.spe-amsterdam.nl
SUMMARY:Feminist Future festival
DESCRIPTION:Op 10 maart is Feminist March terug. Dit keer niet alleen met een nieuwe mars\, maar ook met een nieuw evenement: de eerste editie van het Feminist Future Festival. \nTijdens dit dagvullende programma in Vlaams Cultuurhuis de Brakke Grond in Amsterdam\, kun je workshops\, lezingen en andere activiteiten bijwonen met het bereiken van een intersectionele feministische toekomst als overkoepelend einddoel. Onderwerpen die aan bod komen zijn onder meer mentale gezondheid\, het steunen van vrouwen in andere landen en tips voor het opstarten van activistische initiatieven. \nHet thema van de eerste editie van Feminist Future Festival is ‘Reclaim Your Future’: een oproep om samen te strijden voor een gelijkwaardig Nederland. \nLet op: inschrijving voor het evenement en voor losse programmaonderdelen is verplicht. Aanmelden kan vanaf februari.
URL:https://www.spe-amsterdam.nl/event/feminist-future-festival/
LOCATION:Vlaams Cultuurhuis de Brakke Grond\, Nes 45\, Amsterdam\, 1012KD
END:VEVENT
BEGIN:VEVENT
DTSTART;TZID=Europe/Amsterdam:20240310T180000
DTEND;TZID=Europe/Amsterdam:20240310T200000
DTSTAMP:20260424T131635
CREATED:20240213T131452Z
LAST-MODIFIED:20240213T131452Z
UID:20065-1710093600-1710100800@www.spe-amsterdam.nl
SUMMARY:
DESCRIPTION:Op 10 maart is het weer tijd voor de Feminist March in Amsterdam. Feminist March zet in op bewustwording rondom problematiek in het leven van zowel vrouwen als non–binaire personen en alle anderen die nadeel ondervinden van het patriarchaat. \nAls de emancipatie van vrouwen op dit tempo doorgaat duurt het nog 72 jaar (!) tot gendergelijkheid in Nederland is bereikt. Daarom strijden wij voor gelijke kansen voor iedereen. We blijven het herhalen tot het niet meer nodig is.
URL:https://www.spe-amsterdam.nl/event/20065/
LOCATION:De Dam
END:VEVENT
END:VCALENDAR