BEGIN:VCALENDAR
VERSION:2.0
PRODID:-//SPE-Amsterdam - ECPv6.1.3//NONSGML v1.0//EN
CALSCALE:GREGORIAN
METHOD:PUBLISH
X-ORIGINAL-URL:https://www.spe-amsterdam.nl
X-WR-CALDESC:Evenementen voor SPE-Amsterdam
REFRESH-INTERVAL;VALUE=DURATION:PT1H
X-Robots-Tag:noindex
X-PUBLISHED-TTL:PT1H
BEGIN:VTIMEZONE
TZID:Europe/Amsterdam
BEGIN:DAYLIGHT
TZOFFSETFROM:+0100
TZOFFSETTO:+0200
TZNAME:CEST
DTSTART:20240331T010000
END:DAYLIGHT
BEGIN:STANDARD
TZOFFSETFROM:+0200
TZOFFSETTO:+0100
TZNAME:CET
DTSTART:20241027T010000
END:STANDARD
END:VTIMEZONE
BEGIN:VEVENT
DTSTART;TZID=Europe/Amsterdam:20240301T080000
DTEND;TZID=Europe/Amsterdam:20240310T170000
DTSTAMP:20260424T131212
CREATED:20240305T133900Z
LAST-MODIFIED:20240305T133900Z
UID:20142-1709280000-1710090000@www.spe-amsterdam.nl
SUMMARY:Fototentoonstelling: Eva\, Sara en Hanna. Vrouwen van de wereld
DESCRIPTION:In de fototentoonstelling Eva\, Sara en Hanna. Vrouwen van de wereld geeft kunstenaar Caroline Waltman Bijbelse vrouwen een gezicht. Zonder specifiek te worden over wie waar staat afgebeeld\, portretteert ze de vrouwen in hun eigen habitat. Jonge vrouwen die Eva of Hanna hadden kunnen zijn. Oudere vrouwen\, zoals Sara of Elisabeth. Zussen als Martha en Maria. De foto’s van deze hedendaagse ‘Bijbelse’ vrouwen worden afgewisseld met foto’s van landschappen\, stillevens en details die elkaar via beeldrijm versterken. \n 
URL:https://www.spe-amsterdam.nl/event/fototentoonstelling-eva-sara-en-hanna-vrouwen-van-de-wereld/
LOCATION:OBA Oosterdok\, Oosterdokskade 143\, Amsterdam\, 1011DL\, Nederland
END:VEVENT
BEGIN:VEVENT
DTSTART;TZID=Europe/Amsterdam:20240307T124500
DTEND;TZID=Europe/Amsterdam:20240307T190000
DTSTAMP:20260424T131212
CREATED:20240307T134015Z
LAST-MODIFIED:20240307T134015Z
UID:20173-1709815500-1709838000@www.spe-amsterdam.nl
SUMMARY:Marronvrouw tot wereldvrouw - Marron Platform
DESCRIPTION:Kom luisteren naar bijzondere lezingen over empowerment van vrouwen\, praat van vrouw tot vrouw over elkaar cultuur\, geniet van de Pangi fashiontalk en Pangi modeshow\, dans op heerlijke muziek en eet lekker Marrons/Surinaams eten. \nProgramma: \n12:45 – Inloop en Lunch\n13:15 – Spoken word van Zinaida Huur\n13:35 – Welkomstwoord van Hetty Vrede\n13:45 – 15:15 Diverse lezingen\n15:15 – Vragen aan de sprekers en discussie\n15:30 Inleiding Pangi\n16:00 Pangi Modeshow\n16:30 Dansworkshop\n16:30 Dans workshop\n16:30 Catering\n17:30 Muziekformatie Young Cosje en de Kleurrijke Sisa’s\n18:45 Afsluiting \nDe toegang is gratis\, maar alleen vooraf aan te melden. Dit ivm beperkte plaatsen. \nAanmelden kan bij Hetty Vrede\, voorzitter Marron Platform NL (06-18858416)
URL:https://www.spe-amsterdam.nl/event/marronvrouw-tot-wereldvrouw-marron-platform/
END:VEVENT
BEGIN:VEVENT
DTSTART;TZID=Europe/Amsterdam:20240307T183000
DTEND;TZID=Europe/Amsterdam:20240307T203000
DTSTAMP:20260424T131212
CREATED:20240305T135825Z
LAST-MODIFIED:20240305T140446Z
UID:20153-1709836200-1709843400@www.spe-amsterdam.nl
SUMMARY:Plein Tafel: Women's Wellbeing & Afrodisiaca
DESCRIPTION:Op de vooravond van Internationale Vrouwendag nodigt Plein Tafel je uit voor een zinderend programma! Na het voeden van het vrouwenlichaam en het prikkelen van de smaakpupillen en kan je een talkshow bijwonen van ‘Amsterdam Talks Sex’ met het onderwerp ‘Unlimited Orgasms’. In het middelpunt van de avond staat het vrouwelijk welzijn\, libido én het vrouwelijk orgasme. Voor vrouwen en iedereen die van vrouwen houdt. \nPlein Tafel: Women’s Wellbeing & Afrodisiaca\nChef Zoë van Broekhoeven neemt je mee op een culinair avontuur gericht op het welzijn van vrouwen\, met een speciale focus op afrodisiaca uit verschillende culturen. Ze stelt een tafel samen\, waarbij elk ingrediënt zorgvuldig is gekozen vanwege de voedzame eigenschappen voor het vrouwenlichaam én de potentie om het vrouwelijk libido te stimuleren. Ontdek de geheimen van voedzame recepten en sensuele ingrediënten die wereldwijd worden gekozen om het vrouwelijk welzijn en genot te verhogen. \nAmsterdam Talks Sex: Unlimited Orgasms\nNa de eettafel duiken we met een open blik en gevoede geest in een talkshow waar we spreken over een onderwerp dat voor velen in mysterie gehuld is: het vrouwelijk orgasme. We doen een poging deze mythe te ontrafelen en gaan op zoek naar inzichten en ervaringen. \nTe gast in de talkshow zijn Elise van Alderen en Anita Groeneveld en er is een poetische performance van Ludwika Jakubowska! \nTickets: € 15\,50 / Plein Tafel + Talkshow = €27\,50 \nLees hier meer!
URL:https://www.spe-amsterdam.nl/event/plein-tafel-womens-wellbeing-afrodisiaca/
END:VEVENT
END:VCALENDAR