BEGIN:VCALENDAR
VERSION:2.0
PRODID:-//SPE-Amsterdam - ECPv6.1.3//NONSGML v1.0//EN
CALSCALE:GREGORIAN
METHOD:PUBLISH
X-WR-CALNAME:SPE-Amsterdam
X-ORIGINAL-URL:https://www.spe-amsterdam.nl
X-WR-CALDESC:Evenementen voor SPE-Amsterdam
REFRESH-INTERVAL;VALUE=DURATION:PT1H
X-Robots-Tag:noindex
X-PUBLISHED-TTL:PT1H
BEGIN:VTIMEZONE
TZID:Europe/Amsterdam
BEGIN:DAYLIGHT
TZOFFSETFROM:+0100
TZOFFSETTO:+0200
TZNAME:CEST
DTSTART:20230326T010000
END:DAYLIGHT
BEGIN:STANDARD
TZOFFSETFROM:+0200
TZOFFSETTO:+0100
TZNAME:CET
DTSTART:20231029T010000
END:STANDARD
END:VTIMEZONE
BEGIN:VEVENT
DTSTART;TZID=Europe/Amsterdam:20231121T140000
DTEND;TZID=Europe/Amsterdam:20231121T153000
DTSTAMP:20260424T081500
CREATED:20231019T073419Z
LAST-MODIFIED:20231019T073419Z
UID:19790-1700575200-1700580600@www.spe-amsterdam.nl
SUMMARY:Webinar Inclusief Beleid Presentatie handreiking Inclusief Beleid
DESCRIPTION:Tijdens dit webinar presenteert Movisie de handreiking Inclusief Beleid. In deze handreiking staan alle geleerde lessen rondom het stappenplan Inclusief Beleid centraal tezamen met opgedane inzichten uit de leergemeenschap van drie gemeenten. De deelnemers van de leergemeenschap zullen tijdens dit webinar vertellen over de belangrijkste leerpunten die zij uit de leergemeenschap hebben gehaald voor de ontwikkeling van inclusief beleid in hun gemeenten. \nInteresse? Meld je aan vóór woensdag 8 november 2023 via de website!
URL:https://www.spe-amsterdam.nl/event/webinar-inclusief-beleid-presentatie-handreiking-inclusief-beleid/
LOCATION:Online
ORGANIZER;CN="Movisie":MAILTO:info@movisie.nl
END:VEVENT
END:VCALENDAR