BEGIN:VCALENDAR
VERSION:2.0
PRODID:-//SPE-Amsterdam - ECPv6.1.3//NONSGML v1.0//EN
CALSCALE:GREGORIAN
METHOD:PUBLISH
X-ORIGINAL-URL:https://www.spe-amsterdam.nl
X-WR-CALDESC:Evenementen voor SPE-Amsterdam
REFRESH-INTERVAL;VALUE=DURATION:PT1H
X-Robots-Tag:noindex
X-PUBLISHED-TTL:PT1H
BEGIN:VTIMEZONE
TZID:Europe/Amsterdam
BEGIN:DAYLIGHT
TZOFFSETFROM:+0100
TZOFFSETTO:+0200
TZNAME:CEST
DTSTART:20230326T010000
END:DAYLIGHT
BEGIN:STANDARD
TZOFFSETFROM:+0200
TZOFFSETTO:+0100
TZNAME:CET
DTSTART:20231029T010000
END:STANDARD
END:VTIMEZONE
BEGIN:VEVENT
DTSTART;TZID=Europe/Amsterdam:20231120T090000
DTEND;TZID=Europe/Amsterdam:20231120T160000
DTSTAMP:20260424T081505
CREATED:20231005T091857Z
LAST-MODIFIED:20231005T091857Z
UID:19700-1700470800-1700496000@www.spe-amsterdam.nl
SUMMARY:Conferentie: Femicide & Intieme Terreur  binnen huiselijk geweld
DESCRIPTION:De gemeente Amsterdam\, de Blijf Groep en de politie Amsterdam organiseren deze conferentie in samenwerking met de European Family Justice Center Alliance voor alle Amsterdamse professionals in de justitiële en hulpverleningssector die binnen hun werk te maken (kunnen) krijgen met deze zeer gevaarlijke vormen van huiselijk geweld. \nDe conferentie gaat dieper in op de basisprincipes\, dynamiek en impact van femicide\, intieme terreur & dwangmatige controle en niet-fatale wurging. Uiteindelijk beschikken deelnemers over de noodzakelijke tools hoe femicide vroegtijdig te herkennen\, bespreekbaar te maken\,\nde juiste hulp en ondersteuning te bieden en (strafrechtelijk) te onderzoeken. \nInteresse? meld je aan via de website! Lukt het niet via de website dan kunt u contact\nopnemen met b.groen@efjca.eu
URL:https://www.spe-amsterdam.nl/event/conferentie-femicide-intieme-terreur-binnen-huiselijk-geweld/
LOCATION:Pakhuis de Zwijger\, Piet Heinkade 179\, Amsterdam\, Noord Holland\, 1019 HC \, Nederland
ORGANIZER;CN="Gemeente%20Amsterdam":MAILTO:m.van.der.palen@amsterdam.nl
END:VEVENT
BEGIN:VEVENT
DTSTART;TZID=Europe/Amsterdam:20231120T200000
DTEND;TZID=Europe/Amsterdam:20231120T220000
DTSTAMP:20260424T081505
CREATED:20231005T075451Z
LAST-MODIFIED:20231005T080305Z
UID:19688-1700510400-1700517600@www.spe-amsterdam.nl
SUMMARY:Bucketlist filosofie: Sophie Oluwole
DESCRIPTION:De in 2018 overleden Oluwole was de eerste Nigeriaanse vrouwelijke hoogleraar in de filosofie. Als koloniaal denker en feministische filosoof\, hield ze zich bezig met de vertegenwoordiging van vrouwen in de filosofie en de onevenredige aandacht voor Afrikaanse denkers in het onderwijs. Wat kunnen we leren van verschillende Afrikaanse filosofieën? Welke plek nemen orale tradities in bij het overleveren van denkwijzen? En hoe komen feminisme\, antikolonialisme en complementair dualisme elkaar tegen in Oluwole’s denken? We hebben het erover in deze editie van Bucketlist Filosofie.
URL:https://www.spe-amsterdam.nl/event/bucketlist-filosofie-sophie-oluwole/
LOCATION:Rode Hoed\, Keizersgracht 102\, Amsterdam\, Noord-Holland\, 1015CV\, Nederland
ORGANIZER;CN="rode%20hoed":MAILTO:info@rodehoed.nl
END:VEVENT
END:VCALENDAR