BEGIN:VCALENDAR
VERSION:2.0
PRODID:-//SPE-Amsterdam - ECPv6.1.3//NONSGML v1.0//EN
CALSCALE:GREGORIAN
METHOD:PUBLISH
X-ORIGINAL-URL:https://www.spe-amsterdam.nl
X-WR-CALDESC:Evenementen voor SPE-Amsterdam
REFRESH-INTERVAL;VALUE=DURATION:PT1H
X-Robots-Tag:noindex
X-PUBLISHED-TTL:PT1H
BEGIN:VTIMEZONE
TZID:Europe/Amsterdam
BEGIN:DAYLIGHT
TZOFFSETFROM:+0100
TZOFFSETTO:+0200
TZNAME:CEST
DTSTART:20230326T010000
END:DAYLIGHT
BEGIN:STANDARD
TZOFFSETFROM:+0200
TZOFFSETTO:+0100
TZNAME:CET
DTSTART:20231029T010000
END:STANDARD
END:VTIMEZONE
BEGIN:VEVENT
DTSTART;TZID=Europe/Amsterdam:20231113T100000
DTEND;TZID=Europe/Amsterdam:20231113T180000
DTSTAMP:20260424T081506
CREATED:20231005T073321Z
LAST-MODIFIED:20231005T073321Z
UID:19670-1699869600-1699898400@www.spe-amsterdam.nl
SUMMARY:Conferentie: De wereld van jongeren
DESCRIPTION:In welke keuzes worden jonge vrouwen of lhbtiq+ personen met een migratieachtergrond belemmerd? En wat moet er volgens hen aan gebeuren?  \nDe vrijheid om te doen wat je wil\, dat vinden we allemaal belangrijk. Maar waar loop je tegenaan als je jong bent en een migratieachtergrond hebt? En hoe kunnen formele en informele professionals deze jongeren goed ondersteunen? Hierover gaat de conferentie van Platform Eer en Vrijheid op maandag 13 november 2023. \nInteresse? Meld je aan via de website
URL:https://www.spe-amsterdam.nl/event/conferentie-de-wereld-van-jongeren/
LOCATION:Domstad\, Koningsbergerstraat 9\, Utrecht\, 3531 AJ
ORGANIZER;CN="kennisplatform%20inclusief%20samenleven":MAILTO:info@kis.nl
END:VEVENT
END:VCALENDAR