BEGIN:VCALENDAR
VERSION:2.0
PRODID:-//SPE-Amsterdam - ECPv6.1.3//NONSGML v1.0//EN
CALSCALE:GREGORIAN
METHOD:PUBLISH
X-ORIGINAL-URL:https://www.spe-amsterdam.nl
X-WR-CALDESC:Evenementen voor SPE-Amsterdam
REFRESH-INTERVAL;VALUE=DURATION:PT1H
X-Robots-Tag:noindex
X-PUBLISHED-TTL:PT1H
BEGIN:VTIMEZONE
TZID:Europe/Amsterdam
BEGIN:DAYLIGHT
TZOFFSETFROM:+0100
TZOFFSETTO:+0200
TZNAME:CEST
DTSTART:20230326T010000
END:DAYLIGHT
BEGIN:STANDARD
TZOFFSETFROM:+0200
TZOFFSETTO:+0100
TZNAME:CET
DTSTART:20231029T010000
END:STANDARD
END:VTIMEZONE
BEGIN:VEVENT
DTSTART;VALUE=DATE:20231106
DTEND;VALUE=DATE:20231111
DTSTAMP:20260424T082020
CREATED:20231011T082344Z
LAST-MODIFIED:20231011T082344Z
UID:19729-1699228800-1699660799@www.spe-amsterdam.nl
SUMMARY:Week van de Gezonde en Kansrijke Start
DESCRIPTION:De eerste 1000 dagen van een kind zijn cruciaal. Elk Amsterdams kind verdient de best mogelijke start in het leven en daarmee een optimale kans op een veilige\, gezonde en kansrijke toekomst. \nVan 6 – 10 november 2023 organiseert het Programma Gezonde en Kansrijke Start de Week van de Gezonde Kansrijke Start. \nCheck het programma van de Week van de GKS en laat je inspireren.
URL:https://www.spe-amsterdam.nl/event/week-van-de-gezonde-en-kansrijke-start/
END:VEVENT
BEGIN:VEVENT
DTSTART;TZID=Europe/Amsterdam:20231109T091500
DTEND;TZID=Europe/Amsterdam:20231109T163000
DTSTAMP:20260424T082020
CREATED:20231011T082940Z
LAST-MODIFIED:20231011T082940Z
UID:19733-1699521300-1699547400@www.spe-amsterdam.nl
SUMMARY:Dé Gezonde en Kansrijke Start netwerkdag
DESCRIPTION:Heb je te maken met mensen met een kinderwens\, ouders in verwachting of met een baby of peuter? Bijvoorbeeld als hulpverlener\, zorgverlener\, vrijwilliger of beleidsmaker? Dan is de netwerkdag voor jou hét moment om nieuwe samenwerkingen te starten\, kennis te vergaren en vaardigheden te leren. \nDe dag begint met netwerkbijeenkomsten gericht op stadsdelen Noord\, Nieuw-West en Zuidoost. Na de lunch is er theater\, een gesprek met kinderombudsman Margrite Kalverboer én een panelgesprek over praktijksituaties die we allemaal (her)kennen. Na het gezamenlijke deel kun je kiezen uit verschillende deelsessies. \nInteresse? Meld je aan via de website!
URL:https://www.spe-amsterdam.nl/event/de-gezonde-en-kansrijke-start-netwerkdag/
LOCATION:Tolhuistuin\, Ijpromenade 2\, Amsterdam\, Noord-Holland\, 1031\, Nederland
END:VEVENT
END:VCALENDAR