BEGIN:VCALENDAR
VERSION:2.0
PRODID:-//SPE-Amsterdam - ECPv6.1.3//NONSGML v1.0//EN
CALSCALE:GREGORIAN
METHOD:PUBLISH
X-WR-CALNAME:SPE-Amsterdam
X-ORIGINAL-URL:https://www.spe-amsterdam.nl
X-WR-CALDESC:Evenementen voor SPE-Amsterdam
REFRESH-INTERVAL;VALUE=DURATION:PT1H
X-Robots-Tag:noindex
X-PUBLISHED-TTL:PT1H
BEGIN:VTIMEZONE
TZID:Europe/Amsterdam
BEGIN:DAYLIGHT
TZOFFSETFROM:+0100
TZOFFSETTO:+0200
TZNAME:CEST
DTSTART:20230326T010000
END:DAYLIGHT
BEGIN:STANDARD
TZOFFSETFROM:+0200
TZOFFSETTO:+0100
TZNAME:CET
DTSTART:20231029T010000
END:STANDARD
END:VTIMEZONE
BEGIN:VEVENT
DTSTART;VALUE=DATE:20231106
DTEND;VALUE=DATE:20231111
DTSTAMP:20260424T081432
CREATED:20231011T082344Z
LAST-MODIFIED:20231011T082344Z
UID:19729-1699228800-1699660799@www.spe-amsterdam.nl
SUMMARY:Week van de Gezonde en Kansrijke Start
DESCRIPTION:De eerste 1000 dagen van een kind zijn cruciaal. Elk Amsterdams kind verdient de best mogelijke start in het leven en daarmee een optimale kans op een veilige\, gezonde en kansrijke toekomst. \nVan 6 – 10 november 2023 organiseert het Programma Gezonde en Kansrijke Start de Week van de Gezonde Kansrijke Start. \nCheck het programma van de Week van de GKS en laat je inspireren.
URL:https://www.spe-amsterdam.nl/event/week-van-de-gezonde-en-kansrijke-start/
END:VEVENT
BEGIN:VEVENT
DTSTART;TZID=Europe/Amsterdam:20231107T080000
DTEND;TZID=Europe/Amsterdam:20231107T170000
DTSTAMP:20260424T081432
CREATED:20230510T145303Z
LAST-MODIFIED:20230510T145303Z
UID:19397-1699344000-1699376400@www.spe-amsterdam.nl
SUMMARY:Open Space-event
DESCRIPTION:Op 7 november 2023 organiseert Emancipator weer een dag Open Space\, over mannenemancipatie en het voorkomen van geweld. Dat wil je niet missen dus zet ‘m alvast in je agenda! \nMeer informatie volgt. \nBenieuwd hoe dat eruitziet? Je vindt hier het verslag van de Open Space-sessies in november 2022:\n💡 Verslag Welkom in de Toekomst: Samen Meer Mens
URL:https://www.spe-amsterdam.nl/event/open-space-event/
END:VEVENT
BEGIN:VEVENT
DTSTART;TZID=Europe/Amsterdam:20231107T090000
DTEND;TZID=Europe/Amsterdam:20231107T180000
DTSTAMP:20260424T081432
CREATED:20230918T064103Z
LAST-MODIFIED:20230918T064103Z
UID:19653-1699347600-1699380000@www.spe-amsterdam.nl
SUMMARY:Meer zorgen voor minder geweld. Mannen meer mens in 2024
DESCRIPTION:Mannen en mannelijkheid in beweging: hoe kunnen we samenwerken voor een betere wereld met meer zorg en minder geweld? \nOp 7 november organiseert Emancipator de hele dag een inspirerende bijeenkomst over mannen en emancipatie\, met een open agenda en veel ruimte voor jouw inbreng\, ontmoeting en uitwisseling. Kom je ook? Meld je aan!
URL:https://www.spe-amsterdam.nl/event/meer-zorgen-voor-minder-geweld-mannen-meer-mens-in-2024/
LOCATION:NoLIMIT\, Geldershoofd 80\, Amsterdam\, 1103BG\, Nederland
END:VEVENT
BEGIN:VEVENT
DTSTART;TZID=Europe/Amsterdam:20231107T093000
DTEND;TZID=Europe/Amsterdam:20231107T103000
DTSTAMP:20260424T081432
CREATED:20231005T074514Z
LAST-MODIFIED:20231005T074514Z
UID:19682-1699349400-1699353000@www.spe-amsterdam.nl
SUMMARY:Webinar: Online discriminatie aanpakken
DESCRIPTION:Het sociaal domein reikt verder dan alleen de fysieke wereld. In 2022 heeft 99 procent van alle mensen in Nederland ouder dan 15 jaar weleens het internet gebruikt. Discriminatie en haatspraak komen veel voor in de digitale wereld. Denk daarbij aan (spraak)berichten en reacties in online spellen\, appgroepen en op sociale media. In dit Webinar georganiseerd vanuit Movisie bespreken ze wat gemeenten kunnen doen tegen online discriminatie en haatspraak.
URL:https://www.spe-amsterdam.nl/event/webinar-online-discriminatie-aanpakken/
LOCATION:Online
ORGANIZER;CN="Movisie":MAILTO:info@movisie.nl
END:VEVENT
END:VCALENDAR