BEGIN:VCALENDAR
VERSION:2.0
PRODID:-//SPE-Amsterdam - ECPv6.1.3//NONSGML v1.0//EN
CALSCALE:GREGORIAN
METHOD:PUBLISH
X-WR-CALNAME:SPE-Amsterdam
X-ORIGINAL-URL:https://www.spe-amsterdam.nl
X-WR-CALDESC:Evenementen voor SPE-Amsterdam
REFRESH-INTERVAL;VALUE=DURATION:PT1H
X-Robots-Tag:noindex
X-PUBLISHED-TTL:PT1H
BEGIN:VTIMEZONE
TZID:Europe/Amsterdam
BEGIN:DAYLIGHT
TZOFFSETFROM:+0100
TZOFFSETTO:+0200
TZNAME:CEST
DTSTART:20230326T010000
END:DAYLIGHT
BEGIN:STANDARD
TZOFFSETFROM:+0200
TZOFFSETTO:+0100
TZNAME:CET
DTSTART:20231029T010000
END:STANDARD
END:VTIMEZONE
BEGIN:VEVENT
DTSTART;VALUE=DATE:20231106
DTEND;VALUE=DATE:20231111
DTSTAMP:20260424T080250
CREATED:20231011T082344Z
LAST-MODIFIED:20231011T082344Z
UID:19729-1699228800-1699660799@www.spe-amsterdam.nl
SUMMARY:Week van de Gezonde en Kansrijke Start
DESCRIPTION:De eerste 1000 dagen van een kind zijn cruciaal. Elk Amsterdams kind verdient de best mogelijke start in het leven en daarmee een optimale kans op een veilige\, gezonde en kansrijke toekomst. \nVan 6 – 10 november 2023 organiseert het Programma Gezonde en Kansrijke Start de Week van de Gezonde Kansrijke Start. \nCheck het programma van de Week van de GKS en laat je inspireren.
URL:https://www.spe-amsterdam.nl/event/week-van-de-gezonde-en-kansrijke-start/
END:VEVENT
BEGIN:VEVENT
DTSTART;TZID=Europe/Amsterdam:20231106T100000
DTEND;TZID=Europe/Amsterdam:20231106T150000
DTSTAMP:20260424T080250
CREATED:20231024T072929Z
LAST-MODIFIED:20231024T072929Z
UID:19801-1699264800-1699282800@www.spe-amsterdam.nl
SUMMARY:Spreekuur Sociaal Raadslieden
DESCRIPTION:Woon je in de Indische buurt of het Oostelijk Havengebied en heb je een sociaal juridische vraag of een vraag over regelingen en voorzieningen? Onze medewerkers van Civic Amsterdam helpen je graag! \nJe kunt bij de medewerkers van Civic Amsterdam terecht met je vragen over:\n– Belastingen\, belastingaangifte\n– Bijstand aanvragen en bijzondere bijstand voor onkosten\n– Kwijtscheldingen\n– Studiefinanciering\n– Uitkeringen \nInteresse? Maak een afspraak via de website!
URL:https://www.spe-amsterdam.nl/event/spreekuur-sociaal-raadslieden/
LOCATION:Wijkserivcpunt Flevopoort\, Kramatplantsoen 101\, Amsterdam\, Noord-Holland\, 1095LB\, Nederland
END:VEVENT
BEGIN:VEVENT
DTSTART;TZID=Europe/Amsterdam:20231106T200000
DTEND;TZID=Europe/Amsterdam:20231106T213000
DTSTAMP:20260424T080250
CREATED:20231027T094913Z
LAST-MODIFIED:20231027T094913Z
UID:19859-1699300800-1699306200@www.spe-amsterdam.nl
SUMMARY:Dat bepaal ik zelf wel
DESCRIPTION:Mensen zonder papieren worden beperkt in hun mogelijkheden en zeggenschap. Zij verkeren buiten het systeem en kunnen zelden aanspraak maken op basale voorzieningen\, zoals zorg\, onderdak en onderwijs. Deze avond  neemt een aantal (voormalig) ongedocumenteerde jongeren je mee in hun verhaal door middel van zelfgekozen vormen van storytelling. Centrale thema’s zijn leiderschap\, verbinding en veerkracht bij systemisch falen. \nInteresse? Dit programma is zowel fysiek als live online te volgen. Kies bij jouw reservering op de website tussen een fysieke plek in de zaal of een online livecast reservering.
URL:https://www.spe-amsterdam.nl/event/dat-bepaal-ik-zelf-wel/
LOCATION:Pakhuis de Zwijger\, Piet Heinkade 179\, Amsterdam\, Noord Holland\, 1019 HC \, Nederland
END:VEVENT
END:VCALENDAR