BEGIN:VCALENDAR
VERSION:2.0
PRODID:-//SPE-Amsterdam - ECPv6.1.3//NONSGML v1.0//EN
CALSCALE:GREGORIAN
METHOD:PUBLISH
X-WR-CALNAME:SPE-Amsterdam
X-ORIGINAL-URL:https://www.spe-amsterdam.nl
X-WR-CALDESC:Evenementen voor SPE-Amsterdam
REFRESH-INTERVAL;VALUE=DURATION:PT1H
X-Robots-Tag:noindex
X-PUBLISHED-TTL:PT1H
BEGIN:VTIMEZONE
TZID:Europe/Amsterdam
BEGIN:DAYLIGHT
TZOFFSETFROM:+0100
TZOFFSETTO:+0200
TZNAME:CEST
DTSTART:20230326T010000
END:DAYLIGHT
BEGIN:STANDARD
TZOFFSETFROM:+0200
TZOFFSETTO:+0100
TZNAME:CET
DTSTART:20231029T010000
END:STANDARD
END:VTIMEZONE
BEGIN:VEVENT
DTSTART;TZID=Europe/Amsterdam:20231103T100000
DTEND;TZID=Europe/Amsterdam:20231103T140000
DTSTAMP:20260424T070502
CREATED:20230203T183623Z
LAST-MODIFIED:20230203T183623Z
UID:19067-1699005600-1699020000@www.spe-amsterdam.nl
SUMMARY:Ontwikkelsessie 3
DESCRIPTION:Meer informatie komt later!
URL:https://www.spe-amsterdam.nl/event/ontwikkelsessie-3/
END:VEVENT
BEGIN:VEVENT
DTSTART;TZID=Europe/Amsterdam:20231103T200000
DTEND;TZID=Europe/Amsterdam:20231103T220000
DTSTAMP:20260424T070502
CREATED:20231005T075143Z
LAST-MODIFIED:20231005T080224Z
UID:19684-1699041600-1699048800@www.spe-amsterdam.nl
SUMMARY:Toekomst van de jeugdzorg: uithuisplaatsing
DESCRIPTION:EEN AVOND OVER DE STAAT VAN DE JEUGDBESCHERMING\nDe jeugdzorg verkeert in een voortdurende crisis\, en oplossingen lijken ver weg. Is het tij te keren? Hoe moeten we de toekomst van de jeugdzorg inrichten? Hebben uithuisplaatsingen in die toekomst bestaansrecht? \nIn de week van de pleegzorg gaat de Rode Hoed het gesprek aan over de historische context\, de huidige staat én de toekomst van de jeugdzorg\, met uithuisplaatsing als focus.
URL:https://www.spe-amsterdam.nl/event/toekomst-van-de-jeugdzorg-uithuisplaatsing/
LOCATION:Rode Hoed\, Keizersgracht 102\, Amsterdam\, Noord-Holland\, 1015CV\, Nederland
ORGANIZER;CN="rode%20hoed":MAILTO:info@rodehoed.nl
END:VEVENT
END:VCALENDAR