BEGIN:VCALENDAR
VERSION:2.0
PRODID:-//SPE-Amsterdam - ECPv6.1.3//NONSGML v1.0//EN
CALSCALE:GREGORIAN
METHOD:PUBLISH
X-ORIGINAL-URL:https://www.spe-amsterdam.nl
X-WR-CALDESC:Evenementen voor SPE-Amsterdam
REFRESH-INTERVAL;VALUE=DURATION:PT1H
X-Robots-Tag:noindex
X-PUBLISHED-TTL:PT1H
BEGIN:VTIMEZONE
TZID:Europe/Amsterdam
BEGIN:DAYLIGHT
TZOFFSETFROM:+0100
TZOFFSETTO:+0200
TZNAME:CEST
DTSTART:20230326T010000
END:DAYLIGHT
BEGIN:STANDARD
TZOFFSETFROM:+0200
TZOFFSETTO:+0100
TZNAME:CET
DTSTART:20231029T010000
END:STANDARD
END:VTIMEZONE
BEGIN:VEVENT
DTSTART;TZID=Europe/Amsterdam:20231102T180000
DTEND;TZID=Europe/Amsterdam:20231102T200000
DTSTAMP:20260424T071157
CREATED:20231019T072704Z
LAST-MODIFIED:20231019T072704Z
UID:19787-1698948000-1698955200@www.spe-amsterdam.nl
SUMMARY:Focusgroep met jonge nieuwkomers - In gesprek over sociale ondersteuning
DESCRIPTION:Voor een bijeenkomst op donderdag 2 november is Movisie op zoek naar jonge nieuwkomers! Ben jij een jonge nieuwkomer in de leeftijd tussen 18-35 jaar of ken je jonge nieuwkomers? Dan nodigt Movisie je uit om op ons kantoor of online met ons in gesprek te gaan. \nHet afgelopen jaar heeft Movisie een verkennend onderzoek gedaan onder jonge Syrische nieuwkomers. Hierin is onderzocht welke sociale ondersteuning zij wensen\, zodat zij hun draai kunnen vinden in Nederland\, aansluiting vinden en niet vereenzamen. De resultaten van deze interviews willen zij in focusgroepen voorleggen aan jonge nieuwkomers met een andere culturele afkomst. \nInteresse? Meld je aan via de website!
URL:https://www.spe-amsterdam.nl/event/focusgroep-met-jonge-nieuwkomers-in-gesprek-over-sociale-ondersteuning/
LOCATION:Online
ORGANIZER;CN="Movisie":MAILTO:info@movisie.nl
END:VEVENT
END:VCALENDAR