BEGIN:VCALENDAR
VERSION:2.0
PRODID:-//SPE-Amsterdam - ECPv6.1.3//NONSGML v1.0//EN
CALSCALE:GREGORIAN
METHOD:PUBLISH
X-ORIGINAL-URL:https://www.spe-amsterdam.nl
X-WR-CALDESC:Evenementen voor SPE-Amsterdam
REFRESH-INTERVAL;VALUE=DURATION:PT1H
X-Robots-Tag:noindex
X-PUBLISHED-TTL:PT1H
BEGIN:VTIMEZONE
TZID:Europe/Amsterdam
BEGIN:DAYLIGHT
TZOFFSETFROM:+0100
TZOFFSETTO:+0200
TZNAME:CEST
DTSTART:20230326T010000
END:DAYLIGHT
BEGIN:STANDARD
TZOFFSETFROM:+0200
TZOFFSETTO:+0100
TZNAME:CET
DTSTART:20231029T010000
END:STANDARD
END:VTIMEZONE
BEGIN:VEVENT
DTSTART;TZID=Europe/Amsterdam:20231031T120000
DTEND;TZID=Europe/Amsterdam:20231031T130000
DTSTAMP:20260424T070540
CREATED:20231019T071810Z
LAST-MODIFIED:20231019T072151Z
UID:19783-1698753600-1698757200@www.spe-amsterdam.nl
SUMMARY:Onbegrepen gedrag in de wijk: hoe help je omwonenden?
DESCRIPTION:Platform multiproblematiek en movisie organiseren een webinar over onbegrepen gedrag. De afgelopen jaren is veel geleerd over onbegrepen gedrag en de aanwezigheid van psychisch kwetsbare mensen in de wijk. Zo weten we nu steeds meer over wat er met deze mensen aan de hand is\, wat zij nodig hebben\, welke invloed hun aanwezigheid in de wijk heeft en hoe professionals hen laagdrempelig kunnen helpen. Maar hoe kunnen we de omwonenden ook horen en helpen? Wat is de positie van het meldpunt niet-accuut\, wat doe een wijk-GGD’er en hoe kunnen spanningen in de wijk worden verminderd? \nInteresse? Meld je aan via de website!
URL:https://www.spe-amsterdam.nl/event/onbegrepen-gedrag-in-de-wijk-hoe-help-je-omwonenden/
LOCATION:Online
ORGANIZER;CN="Movisie":MAILTO:info@movisie.nl
END:VEVENT
END:VCALENDAR