BEGIN:VCALENDAR
VERSION:2.0
PRODID:-//SPE-Amsterdam - ECPv6.1.3//NONSGML v1.0//EN
CALSCALE:GREGORIAN
METHOD:PUBLISH
X-WR-CALNAME:SPE-Amsterdam
X-ORIGINAL-URL:https://www.spe-amsterdam.nl
X-WR-CALDESC:Evenementen voor SPE-Amsterdam
REFRESH-INTERVAL;VALUE=DURATION:PT1H
X-Robots-Tag:noindex
X-PUBLISHED-TTL:PT1H
BEGIN:VTIMEZONE
TZID:Europe/Amsterdam
BEGIN:DAYLIGHT
TZOFFSETFROM:+0100
TZOFFSETTO:+0200
TZNAME:CEST
DTSTART:20230326T010000
END:DAYLIGHT
BEGIN:STANDARD
TZOFFSETFROM:+0200
TZOFFSETTO:+0100
TZNAME:CET
DTSTART:20231029T010000
END:STANDARD
END:VTIMEZONE
BEGIN:VEVENT
DTSTART;TZID=Europe/Amsterdam:20231030T200000
DTEND;TZID=Europe/Amsterdam:20231030T223000
DTSTAMP:20260424T070503
CREATED:20231011T072704Z
LAST-MODIFIED:20231011T072704Z
UID:19724-1698696000-1698705000@www.spe-amsterdam.nl
SUMMARY:Feministische Pubquiz: word een feminist die wéét!
DESCRIPTION:Geen vragen over crypto currency\, Tesla’s of Michiel de Ruyter. Een pubquiz waarbij je wel scoort als je ‘We should all be feminists’ hebt gelezen. Of mee kunt zingen met Taylor Swift tijdens de muziekronde. Dus gaat er bij jou een belletje rinkelen bij het horen van namen als Els Borst\, Audre Lorde en Corry Tendeloo?  En weet jij waar de naam Dolle Mina vandaan komt? Kom op 30 oktober dan je trivia-kennis testen tijdens de Feministische Pubquiz georganiseerd door Atria.  
URL:https://www.spe-amsterdam.nl/event/feministische-pubquiz-word-een-feminist-die-weet/
LOCATION:Café Saarein\, Elandsstraat 119\, Amsterdam\, Noord-Holland\, 1016RX\, Nederland
END:VEVENT
END:VCALENDAR