BEGIN:VCALENDAR
VERSION:2.0
PRODID:-//SPE-Amsterdam - ECPv6.1.3//NONSGML v1.0//EN
CALSCALE:GREGORIAN
METHOD:PUBLISH
X-WR-CALNAME:SPE-Amsterdam
X-ORIGINAL-URL:https://www.spe-amsterdam.nl
X-WR-CALDESC:Evenementen voor SPE-Amsterdam
REFRESH-INTERVAL;VALUE=DURATION:PT1H
X-Robots-Tag:noindex
X-PUBLISHED-TTL:PT1H
BEGIN:VTIMEZONE
TZID:Europe/Amsterdam
BEGIN:DAYLIGHT
TZOFFSETFROM:+0100
TZOFFSETTO:+0200
TZNAME:CEST
DTSTART:20230326T010000
END:DAYLIGHT
BEGIN:STANDARD
TZOFFSETFROM:+0200
TZOFFSETTO:+0100
TZNAME:CET
DTSTART:20231029T010000
END:STANDARD
END:VTIMEZONE
BEGIN:VEVENT
DTSTART;TZID=Europe/Amsterdam:20231028T140000
DTEND;TZID=Europe/Amsterdam:20231028T160000
DTSTAMP:20260424T070504
CREATED:20231017T100614Z
LAST-MODIFIED:20231025T074942Z
UID:19751-1698501600-1698508800@www.spe-amsterdam.nl
SUMMARY:Geweld tegen LHBTI+’ers: Hoe beschermen we deze Amsterdammers?
DESCRIPTION:Amsterdam heeft de reputatie vrij\, open en tolerant te zijn\, maar tegelijkertijd vinden er nog steeds veel gewelddadige incidenten tegen LHBTIQ+ personen plaats\, en is er weerstand tegen seksuele voorlichting op scholen. Een groep Amsterdammers die daar extra veel last van heeft\, zijn: LHBTIQ+ statushouders. Hoe ziet het leven van een Amsterdamse LHBTIQ+ statushouder er in de praktijk uit? Tijdens deze avond bespreken ze bij de Balie het met twee statushouders\, Kris van der Veen\, Wilco Tuinebreijer en Dinah Bons. \nInteresse? Meer informatie op de website!
URL:https://www.spe-amsterdam.nl/event/geweld-tegen-lhbtiers-hoe-beschermen-we-deze-amsterdammers/
LOCATION:De Balie\, Kleine-Gartmanplantsoen 10\, Amsterdam\, Noord Holland\, 1017 RR\, Nederland
END:VEVENT
END:VCALENDAR