BEGIN:VCALENDAR
VERSION:2.0
PRODID:-//SPE-Amsterdam - ECPv6.1.3//NONSGML v1.0//EN
CALSCALE:GREGORIAN
METHOD:PUBLISH
X-WR-CALNAME:SPE-Amsterdam
X-ORIGINAL-URL:https://www.spe-amsterdam.nl
X-WR-CALDESC:Evenementen voor SPE-Amsterdam
REFRESH-INTERVAL;VALUE=DURATION:PT1H
X-Robots-Tag:noindex
X-PUBLISHED-TTL:PT1H
BEGIN:VTIMEZONE
TZID:Europe/Amsterdam
BEGIN:DAYLIGHT
TZOFFSETFROM:+0100
TZOFFSETTO:+0200
TZNAME:CEST
DTSTART:20230326T010000
END:DAYLIGHT
BEGIN:STANDARD
TZOFFSETFROM:+0200
TZOFFSETTO:+0100
TZNAME:CET
DTSTART:20231029T010000
END:STANDARD
END:VTIMEZONE
BEGIN:VEVENT
DTSTART;VALUE=DATE:20231027
DTEND;VALUE=DATE:20231028
DTSTAMP:20260424T070503
CREATED:20231017T110541Z
LAST-MODIFIED:20231017T110541Z
UID:19754-1698364800-1698451199@www.spe-amsterdam.nl
SUMMARY:AMSTERDAM BIJNA 750 JAAR!
DESCRIPTION:Op 27 oktober 2025 bestaat Amsterdam 750 jaar. En dat viert de stad groots\, een jaar lang\, van 27 oktober 2024 tot en met de daadwerkelijke verjaardag een jaar later. Het doel: een stad die bruist als nooit tevoren! \nOp de site lees je meer over de plannen en hoe je mee kunt doen.
URL:https://www.spe-amsterdam.nl/event/amsterdam-bijna-750-jaar/
ORGANIZER;CN="Gemeente%20Amsterdam":MAILTO:m.van.der.palen@amsterdam.nl
END:VEVENT
BEGIN:VEVENT
DTSTART;TZID=Europe/Amsterdam:20231027T130000
DTEND;TZID=Europe/Amsterdam:20231027T160000
DTSTAMP:20260424T070503
CREATED:20231011T071907Z
LAST-MODIFIED:20231011T071907Z
UID:19720-1698411600-1698422400@www.spe-amsterdam.nl
SUMMARY:Wikipedia schrijfmiddag
DESCRIPTION:Duik in de wereld van vrouwencafés!\nVrouwencafés waren en zíjn het kloppend hart van empowerment\, discussie en sociale verandering.  Kom vrijdag 27 oktober meeschrijven aan artikelen over vrouwencafés toen en nu op Wikipedia. Op deze manier red je verhalen die anders misschien verloren gaan. Bovendien leer je interessante feitjes en informatie over jouw favoriete café of bar. Dit ga je tot op de bodem uitzoeken.😉 \nInteresse? Meld je dan aan via de website!
URL:https://www.spe-amsterdam.nl/event/wikipedia-schrijfmiddag/
LOCATION:Bibliotheek Atria\, Vijzelstraat 20\, Amsterdam\, 1017HK
END:VEVENT
BEGIN:VEVENT
DTSTART;TZID=Europe/Amsterdam:20231027T173000
DTEND;TZID=Europe/Amsterdam:20231027T200000
DTSTAMP:20260424T070503
CREATED:20231006T072633Z
LAST-MODIFIED:20231006T072633Z
UID:19708-1698427800-1698436800@www.spe-amsterdam.nl
SUMMARY:Cultuurpodium Ithakaza
DESCRIPTION:Op vrijdag 27 oktober wordt er een cultuurpodium georganiseerd door het ZID Theater voor de bewoners van West: Ithakaza. Voorafgaand aan het cultuurpodium zijn er drie workshops: één aan kinderen\, één aan een groep vluchtelingen en één aan volwassenen uit West. \nTijdens deze workshops zijn er  verhalen over hoe ze de mensen uit de buurt zouden kunnen verbinden gemaakt. Van deze verhalen wordt een theatershow gemaakt die door henzelf opgevoerd wordt op het Ithakaza cultuurpodium (of vertolkt wordt door performers van het ZID Theater). \nInteresse? Meld je dan aan door te bellen of te mailen naar Kasper Stern organisatie@zidtheater.nl Tel. 020-4888449
URL:https://www.spe-amsterdam.nl/event/cultuurpodium-ithakaza/
LOCATION:ZID Theater\, De Roos van Dekamaweg 1\, Amsterdam\, 1061HR\, Nederland
ORGANIZER;CN="ZID%20Theater":MAILTO:info@zidtheater.nl
END:VEVENT
END:VCALENDAR