BEGIN:VCALENDAR
VERSION:2.0
PRODID:-//SPE-Amsterdam - ECPv6.1.3//NONSGML v1.0//EN
CALSCALE:GREGORIAN
METHOD:PUBLISH
X-ORIGINAL-URL:https://www.spe-amsterdam.nl
X-WR-CALDESC:Evenementen voor SPE-Amsterdam
REFRESH-INTERVAL;VALUE=DURATION:PT1H
X-Robots-Tag:noindex
X-PUBLISHED-TTL:PT1H
BEGIN:VTIMEZONE
TZID:Europe/Amsterdam
BEGIN:DAYLIGHT
TZOFFSETFROM:+0100
TZOFFSETTO:+0200
TZNAME:CEST
DTSTART:20230326T010000
END:DAYLIGHT
BEGIN:STANDARD
TZOFFSETFROM:+0200
TZOFFSETTO:+0100
TZNAME:CET
DTSTART:20231029T010000
END:STANDARD
END:VTIMEZONE
BEGIN:VEVENT
DTSTART;TZID=Europe/Amsterdam:20231013T200000
DTEND;TZID=Europe/Amsterdam:20231013T200000
DTSTAMP:20260424T070540
CREATED:20230915T083905Z
LAST-MODIFIED:20230915T083905Z
UID:19630-1697227200-1697227200@www.spe-amsterdam.nl
SUMMARY:De 6e geschiedenisles die je nooit hebt gehad! Een avond over feminisme en klimaat
DESCRIPTION:Educatieplatform F-site geeft je geschiedenislessen die afrekenen met de eenzijdige beeldvorming rondom historische vrouwen. \nVrouwen hebben altijd de helft van de wereldbevolking uitgemaakt en zijn ook nog eens veel vaker de dupe van klimaatverandering. Waarom leren we  dan zo weinig over hen? Onder leiding van docent Aldith Hunkar leren we vrouwen van vroeger (opnieuw) kennen aan de hand van ludieke colleges van gastdocenten. \n  \nDe 6e geschiedenisles die je nooit hebt gehad is een samenwerking tussen Bureau Van Gisteren en Atria\, het kennisinstituut voor emancipatie en vrouwengeschiedenis.
URL:https://www.spe-amsterdam.nl/event/de-6e-geschiedenisles-die-je-nooit-hebt-gehad-een-avond-over-feminisme-en-klimaat/
LOCATION:Rode Hoed\, Keizersgracht 102\, Amsterdam\, Noord-Holland\, 1015CV\, Nederland
ORGANIZER;CN="rode%20hoed":MAILTO:info@rodehoed.nl
END:VEVENT
END:VCALENDAR