BEGIN:VCALENDAR
VERSION:2.0
PRODID:-//SPE-Amsterdam - ECPv6.1.3//NONSGML v1.0//EN
CALSCALE:GREGORIAN
METHOD:PUBLISH
X-WR-CALNAME:SPE-Amsterdam
X-ORIGINAL-URL:https://www.spe-amsterdam.nl
X-WR-CALDESC:Evenementen voor SPE-Amsterdam
REFRESH-INTERVAL;VALUE=DURATION:PT1H
X-Robots-Tag:noindex
X-PUBLISHED-TTL:PT1H
BEGIN:VTIMEZONE
TZID:Europe/Amsterdam
BEGIN:DAYLIGHT
TZOFFSETFROM:+0100
TZOFFSETTO:+0200
TZNAME:CEST
DTSTART:20230326T010000
END:DAYLIGHT
BEGIN:STANDARD
TZOFFSETFROM:+0200
TZOFFSETTO:+0100
TZNAME:CET
DTSTART:20231029T010000
END:STANDARD
END:VTIMEZONE
BEGIN:VEVENT
DTSTART;VALUE=DATE:20231011
DTEND;VALUE=DATE:20231012
DTSTAMP:20260424T070502
CREATED:20230203T183710Z
LAST-MODIFIED:20230203T183710Z
UID:19070-1696982400-1697068799@www.spe-amsterdam.nl
SUMMARY:Wereld meisjesdag
DESCRIPTION:
URL:https://www.spe-amsterdam.nl/event/wereld-meisjesdag/
END:VEVENT
BEGIN:VEVENT
DTSTART;VALUE=DATE:20231011
DTEND;VALUE=DATE:20231012
DTSTAMP:20260424T070502
CREATED:20231011T140429Z
LAST-MODIFIED:20231011T140521Z
UID:19739-1696982400-1697068799@www.spe-amsterdam.nl
SUMMARY:Coming out day
DESCRIPTION:  \n \nComing Out Day (Coming-Outdag) is een jaarlijks evenement dat plaatsvindt op 11 oktober in Nederland en heeft tot doel aandacht te besteden aan de acceptatie van lesbiennes\, homoseksuelen\, biseksuelen\, transgenders\, en andere seksuele en genderminderheden (LHBT+ gemeenschap). Het is een dag waarop mensen worden aangemoedigd om openlijk uit te komen voor hun seksuele oriëntatie\, genderidentiteit of -expressie\, en solidariteit te tonen met de LHBT+ gemeenschap.
URL:https://www.spe-amsterdam.nl/event/coming-out-day/
END:VEVENT
BEGIN:VEVENT
DTSTART;TZID=Europe/Amsterdam:20231011T103000
DTEND;TZID=Europe/Amsterdam:20231011T120000
DTSTAMP:20260424T070502
CREATED:20231005T074122Z
LAST-MODIFIED:20231005T074122Z
UID:19680-1697020200-1697025600@www.spe-amsterdam.nl
SUMMARY:Online Q&A 'Armoede: wat werkt wel?' met ervaringsdeskundigen
DESCRIPTION:Tijdens de Q&A met ervaringsdeskundigen op het gebied van armoede\, georganiseerd door Movisie op woensdagochtend 11 oktober 2023 van 10.30 – 12.00 uur\, gaat Marc Mulder\, senior ervaringsdeskundige armoede en schulden bij Movisie\, in gesprek met Marjorie Malbons en Marcella van Vloten. Ook zij zijn ervaringsdeskundigen en zetten zich op verschillende manieren in voor de aanpak van armoede. \nDe Q&A vindt live plaats vanuit de studio van de HAN. Kijk vanuit huis online mee en grijp je kans om vragen te stellen aan ervaringsdeskundigen over waar jij in de praktijk mee worstelt.
URL:https://www.spe-amsterdam.nl/event/online-qa-armoede-wat-werkt-wel-met-ervaringsdeskundigen/
LOCATION:Online
ORGANIZER;CN="Movisie":MAILTO:info@movisie.nl
END:VEVENT
END:VCALENDAR