BEGIN:VCALENDAR
VERSION:2.0
PRODID:-//SPE-Amsterdam - ECPv6.1.3//NONSGML v1.0//EN
CALSCALE:GREGORIAN
METHOD:PUBLISH
X-ORIGINAL-URL:https://www.spe-amsterdam.nl
X-WR-CALDESC:Evenementen voor SPE-Amsterdam
REFRESH-INTERVAL;VALUE=DURATION:PT1H
X-Robots-Tag:noindex
X-PUBLISHED-TTL:PT1H
BEGIN:VTIMEZONE
TZID:Europe/Amsterdam
BEGIN:DAYLIGHT
TZOFFSETFROM:+0100
TZOFFSETTO:+0200
TZNAME:CEST
DTSTART:20230326T010000
END:DAYLIGHT
BEGIN:STANDARD
TZOFFSETFROM:+0200
TZOFFSETTO:+0100
TZNAME:CET
DTSTART:20231029T010000
END:STANDARD
END:VTIMEZONE
BEGIN:VEVENT
DTSTART;TZID=Europe/Amsterdam:20230902T120000
DTEND;TZID=Europe/Amsterdam:20230902T190000
DTSTAMP:20260424T050553
CREATED:20230717T083718Z
LAST-MODIFIED:20230717T083718Z
UID:19566-1693656000-1693681200@www.spe-amsterdam.nl
SUMMARY:Indische Buurtfestival
DESCRIPTION:Ook dit jaar is het er weer: het Indische Buurt Festival! Een dag vol informatie\, cultuur en eten & drinken uit jouw eigen wijk op zaterdag 2 september van 12.00 – 19.00 in de Javastraat in Amsterdam Oost. Live bands\, bewonersinitiatieven\, beeldende kunst\, sport en spel en theater. Het thema is dit jaar: De Buurt Laat Je Niet Los! \nTijdens dit festival staan de lokale bewonersinitiatieven weer centraal. De Indische Buurt is trots op deze bewonersinitiatieven. Zij zorgen voor het extra vangnet voor hen die het moeilijk hebben. Want solidariteit\, daar draait het meer dan ooit om in 2023. Meedoen moet voor iedereen mogelijk zijn. In crisistijden komt deze sociale waarde het eerst onder druk te staan. Bewonersinitiatieven bewaken deze waarde. Dat vieren wij elk jaar met een bruisend cultureel festival! \nWat is er te doen op het festival? \nDe initiatievenmarkt in de Javastraat trekt altijd veel bezoekers. Naast dat je je daar kunt laten vertellen wat de wijk allemaal aan moois te bieden heeft in het seizoen 2023-2024 kan je onder andere genieten van geweldige muziekacts als Imagine\, Cut2TheBone en DJ Gatinha (JavaPodium\, kruising Javastraat – Sumatrastraat) en een drankje doen bij de IJ-bar. \nOf ga je voor The Human Jukebox van Bob Color\, een salsademonstratie\, theater of een sambaband? Ga dan naar het Cultopiapodium (t.h.v. Javastraat 110)! \nBeeldende kunst bekijken? Dat kan in de KunstStraat (Sumatrastraat). \nDe ondernemers van de Javastraat zorgen voor heerlijk eten en drinken voor hun deur. \nEn het Kidsplein biedt de kleinsten het huttendorp van Jeugdland\, sport & spel met Stichting BIGS en theater met Meneer Boom. Voor elk wat wils dus! \nKijk voor meer informatie op Home – Indische Buurt Festival \n 
URL:https://www.spe-amsterdam.nl/event/indische-buurtfestival/
END:VEVENT
END:VCALENDAR