BEGIN:VCALENDAR
VERSION:2.0
PRODID:-//SPE-Amsterdam - ECPv6.1.3//NONSGML v1.0//EN
CALSCALE:GREGORIAN
METHOD:PUBLISH
X-WR-CALNAME:SPE-Amsterdam
X-ORIGINAL-URL:https://www.spe-amsterdam.nl
X-WR-CALDESC:Evenementen voor SPE-Amsterdam
REFRESH-INTERVAL;VALUE=DURATION:PT1H
X-Robots-Tag:noindex
X-PUBLISHED-TTL:PT1H
BEGIN:VTIMEZONE
TZID:Europe/Amsterdam
BEGIN:DAYLIGHT
TZOFFSETFROM:+0100
TZOFFSETTO:+0200
TZNAME:CEST
DTSTART:20230326T010000
END:DAYLIGHT
BEGIN:STANDARD
TZOFFSETFROM:+0200
TZOFFSETTO:+0100
TZNAME:CET
DTSTART:20231029T010000
END:STANDARD
END:VTIMEZONE
BEGIN:VEVENT
DTSTART;TZID=Europe/Amsterdam:20230711T130000
DTEND;TZID=Europe/Amsterdam:20230711T140000
DTSTAMP:20260424T040819
CREATED:20230630T122702Z
LAST-MODIFIED:20230630T122702Z
UID:19543-1689080400-1689084000@www.spe-amsterdam.nl
SUMMARY:CSW68 KENNISSESSIE 4: Financiële onafhankelijkheid en gender-gerelateerd geweld
DESCRIPTION:WO=MEN en Atria in samenwerking met Soroptimist International organiseren een serie kennissessies ter voorbereiding voor de 68ste Commission on the Status of Women (CSW) van de Verenigde Naties (VN). \nDe komende CSW zal pas in maart 2024 plaatsvinden. Waarom dan nu al deze voorbereidende sessies? \nEU-lidstaten beginnen in oktober 2023 al met onderhandelingen over de EU-positie voor de komende CSW. De afgelopen jaren bleek deze EU-positie steeds meer van belang en leidend voor de inzet van de EU-delegatie tijdens de CSW-onderhandelingen. Het is dan ook belangrijk dat we vanuit maatschappelijk middenveld in Nederland tijdig beginnen met het voorbereiden van onze prioriteiten en aanbevelingen richting de Nederlandse (en EU) delegatie.\n\n\nProgramma:\n\nPresentatie van Suzanne Bouma\, werkzaam bij Avans Hogeschool Expertise Centrum Veiligheid en Veerkracht en het lectoraat Geweld in Afhankelijkheidsrelaties\nQ&A en gesprek over mogelijke CSW prioriteiten en aanbevelingen\n\nDeze serie kennissessies tot de zomervakantie vinden allemaal online plaatsvinden. De sessies zijn informeel en interactief van aard.\n\n\nJe kan meedoen met de online sessie zonder aanmelding:  hier
URL:https://www.spe-amsterdam.nl/event/csw68-kennissessie-4-financiele-onafhankelijkheid-en-gender-gerelateerd-geweld/
ORGANIZER;CN="WO%3DMEN":MAILTO:info@wo-men.nl
END:VEVENT
END:VCALENDAR