BEGIN:VCALENDAR
VERSION:2.0
PRODID:-//SPE-Amsterdam - ECPv6.1.3//NONSGML v1.0//EN
CALSCALE:GREGORIAN
METHOD:PUBLISH
X-WR-CALNAME:SPE-Amsterdam
X-ORIGINAL-URL:https://www.spe-amsterdam.nl
X-WR-CALDESC:Evenementen voor SPE-Amsterdam
REFRESH-INTERVAL;VALUE=DURATION:PT1H
X-Robots-Tag:noindex
X-PUBLISHED-TTL:PT1H
BEGIN:VTIMEZONE
TZID:Europe/Amsterdam
BEGIN:DAYLIGHT
TZOFFSETFROM:+0100
TZOFFSETTO:+0200
TZNAME:CEST
DTSTART:20230326T010000
END:DAYLIGHT
BEGIN:STANDARD
TZOFFSETFROM:+0200
TZOFFSETTO:+0100
TZNAME:CET
DTSTART:20231029T010000
END:STANDARD
END:VTIMEZONE
BEGIN:VEVENT
DTSTART;TZID=Europe/Amsterdam:20230629T140000
DTEND;TZID=Europe/Amsterdam:20230629T220000
DTSTAMP:20260424T030138
CREATED:20230626T095209Z
LAST-MODIFIED:20230626T095526Z
UID:19493-1688047200-1688076000@www.spe-amsterdam.nl
SUMMARY:Keti Koti in de Tagerijn
DESCRIPTION:Vier Keti koti bij de Tagerijn met verschillende workshops\, gevolgd door een feestelijke afsluiting met hapjes\, drankjes en muziek. \ngratis entree!
URL:https://www.spe-amsterdam.nl/event/keti-koti-in-de-tagerijn/
LOCATION:Buurtcentrum de Tagerijn\, Balboastraat 18\, Amsterdam\, Noord-Holland\, 1057 VW\, Nederland
ATTACH;FMTTYPE=image/jpeg:https://www.spe-amsterdam.nl/wp-content/uploads/2023/06/Afbeelding-van-WhatsApp-op-2023-06-16-om-18.35.40.jpg
END:VEVENT
END:VCALENDAR