BEGIN:VCALENDAR
VERSION:2.0
PRODID:-//SPE-Amsterdam - ECPv6.1.3//NONSGML v1.0//EN
CALSCALE:GREGORIAN
METHOD:PUBLISH
X-WR-CALNAME:SPE-Amsterdam
X-ORIGINAL-URL:https://www.spe-amsterdam.nl
X-WR-CALDESC:Evenementen voor SPE-Amsterdam
REFRESH-INTERVAL;VALUE=DURATION:PT1H
X-Robots-Tag:noindex
X-PUBLISHED-TTL:PT1H
BEGIN:VTIMEZONE
TZID:Europe/Amsterdam
BEGIN:DAYLIGHT
TZOFFSETFROM:+0100
TZOFFSETTO:+0200
TZNAME:CEST
DTSTART:20230326T010000
END:DAYLIGHT
BEGIN:STANDARD
TZOFFSETFROM:+0200
TZOFFSETTO:+0100
TZNAME:CET
DTSTART:20231029T010000
END:STANDARD
END:VTIMEZONE
BEGIN:VEVENT
DTSTART;TZID=Europe/Amsterdam:20230628T193000
DTEND;TZID=Europe/Amsterdam:20230628T213000
DTSTAMP:20260424T030138
CREATED:20230628T101653Z
LAST-MODIFIED:20230628T101653Z
UID:19520-1687980600-1687987800@www.spe-amsterdam.nl
SUMMARY:Keti Koti lezing
DESCRIPTION:Het Nationaal Instituut Nederlands Slavernijverleden en Erfenis (Ninsee) organiseert samen met het Tropenmuseum de jaarlijkse Keti Koti lezing. Op 28 juni neemt Britse historicus David Olusoga de lezing voor zijn rekening. De hoogleraar Publieksgeschiedenis zet zich als schrijver\, filmmaker en televisiepresentator in voor de erkenning van mensen van kleur en hun rol in de wereldgeschiedenis. \nDe lezing begint om 19.30 uur. Het is ook mogelijk om voorafgaand de nieuwe tentoonstelling van het Tropenmuseum\, Onze koloniale erfenis\, te bezoeken. Tickets voor de lezing en tentoonstelling zijn gratis verkrijgbaar op de website van het Tropenmuseum.
URL:https://www.spe-amsterdam.nl/event/keti-koti-lezing/
LOCATION:Tropenmuseum\, Linnaeusstraat 2\, Amsterdam
END:VEVENT
END:VCALENDAR