BEGIN:VCALENDAR
VERSION:2.0
PRODID:-//SPE-Amsterdam - ECPv6.1.3//NONSGML v1.0//EN
CALSCALE:GREGORIAN
METHOD:PUBLISH
X-WR-CALNAME:SPE-Amsterdam
X-ORIGINAL-URL:https://www.spe-amsterdam.nl
X-WR-CALDESC:Evenementen voor SPE-Amsterdam
REFRESH-INTERVAL;VALUE=DURATION:PT1H
X-Robots-Tag:noindex
X-PUBLISHED-TTL:PT1H
BEGIN:VTIMEZONE
TZID:Europe/Amsterdam
BEGIN:DAYLIGHT
TZOFFSETFROM:+0100
TZOFFSETTO:+0200
TZNAME:CEST
DTSTART:20230326T010000
END:DAYLIGHT
BEGIN:STANDARD
TZOFFSETFROM:+0200
TZOFFSETTO:+0100
TZNAME:CET
DTSTART:20231029T010000
END:STANDARD
END:VTIMEZONE
BEGIN:VEVENT
DTSTART;TZID=Europe/Amsterdam:20230625T123000
DTEND;TZID=Europe/Amsterdam:20230625T200000
DTSTAMP:20260424T030137
CREATED:20230626T095439Z
LAST-MODIFIED:20230626T095439Z
UID:19496-1687696200-1687723200@www.spe-amsterdam.nl
SUMMARY:SanOost Keti Koti
DESCRIPTION:Vier Keti Koti bij SanOost\, er zijn verschillende artiesten en het wordt één groot feest!
URL:https://www.spe-amsterdam.nl/event/sanoost-keti-koti/
LOCATION:Sanoost\, kastanjeplein\, Amsterdam
END:VEVENT
END:VCALENDAR