BEGIN:VCALENDAR
VERSION:2.0
PRODID:-//SPE-Amsterdam - ECPv6.1.3//NONSGML v1.0//EN
CALSCALE:GREGORIAN
METHOD:PUBLISH
X-ORIGINAL-URL:https://www.spe-amsterdam.nl
X-WR-CALDESC:Evenementen voor SPE-Amsterdam
REFRESH-INTERVAL;VALUE=DURATION:PT1H
X-Robots-Tag:noindex
X-PUBLISHED-TTL:PT1H
BEGIN:VTIMEZONE
TZID:Europe/Amsterdam
BEGIN:DAYLIGHT
TZOFFSETFROM:+0100
TZOFFSETTO:+0200
TZNAME:CEST
DTSTART:20230326T010000
END:DAYLIGHT
BEGIN:STANDARD
TZOFFSETFROM:+0200
TZOFFSETTO:+0100
TZNAME:CET
DTSTART:20231029T010000
END:STANDARD
END:VTIMEZONE
BEGIN:VEVENT
DTSTART;VALUE=DATE:20230623
DTEND;VALUE=DATE:20230624
DTSTAMP:20260424T030134
CREATED:20230517T130356Z
LAST-MODIFIED:20230531T095856Z
UID:19437-1687478400-1687564799@www.spe-amsterdam.nl
SUMMARY:Conferentie “Van Afhankelijk naar Zelfstandig Verblijfsrecht!”
DESCRIPTION:De problematiek van het afhankelijk verblijfsrecht voor de emancipatie\, integratie en veiligheid van vrouwen hebben migranten- en vluchtelingenvrouwen al jaren geleden op de agenda gezet\, maar bestaat nog steeds\, terwijl het gaat om fundamentele vrouwenrechten. Met de aanscherpingen van het gezinsmigratiebeleid in de afgelopen tien jaar zijn de problemen zelfs nog urgenter geworden. De conferentie is de afsluiting van het huidige project (Fase I) en het begin van de Fase II: de landelijke campagne voor structurele verbetering van de rechtspositie van huwelijksmigranten. \nOm de problematiek van het afhankelijk verblijfsrecht opnieuw op de publieke en politieke agenda te plaatsen\, heeft het Platform Zelfbeschikking en Verblijfsrecht de afgelopen twee jaar: \n\nDe Vrije Universiteit Amsterdam gevraagd een onderzoek uit te voeren over de betekenis van de juridische verblijfsafhankelijkheid in het dagelijks leven van huwelijksmigranten en hun partners (zie Onderzoeksrapport Heb Geduld door Betty de Hart\, Eef Verweij en Younous Arbaoui);\nLokale en landelijke bijeenkomsten georganiseerd om vrouwen en direct betrokkenen te informeren\, deskundigheid op het onderwerp van professionals te bevorderen en om beide met elkaar in gesprek te laten gaan;\nJuridische en maatschappelijke expertmeetings georganiseerd om met betrokkenen een strategie van verandering te bespreken;\nInformatiebrochure over het afhankelijk verblijfsrecht en factsheet over het onderzoek “Heb Geduld” vervaardigd en de onderzoeksresultaten onder meer bij IND en Werkgroep Rechtsbijstand Vreemdelingenzaken (WVR) verspreid;\nEn de lobby voor verandering gestart met eerste gesprekken met beleidsambtenaren van relevante ministeries (J&V\, OCW\, SZW)\, VNG en lokale en landelijke politici.\n\nDe uitkomsten van al deze activiteiten\, met een blik naar de toekomst\, wordt op vrijdag 23 juni gepresenteerd en verder besproken. \nPlatform Zelfbeschikking en Verblijfsrecht
URL:https://www.spe-amsterdam.nl/event/conferentie-van-afhankelijk-naar-zelfstandig-verblijfsrecht/
END:VEVENT
END:VCALENDAR