BEGIN:VCALENDAR
VERSION:2.0
PRODID:-//SPE-Amsterdam - ECPv6.1.3//NONSGML v1.0//EN
CALSCALE:GREGORIAN
METHOD:PUBLISH
X-ORIGINAL-URL:https://www.spe-amsterdam.nl
X-WR-CALDESC:Evenementen voor SPE-Amsterdam
REFRESH-INTERVAL;VALUE=DURATION:PT1H
X-Robots-Tag:noindex
X-PUBLISHED-TTL:PT1H
BEGIN:VTIMEZONE
TZID:Europe/Amsterdam
BEGIN:DAYLIGHT
TZOFFSETFROM:+0100
TZOFFSETTO:+0200
TZNAME:CEST
DTSTART:20230326T010000
END:DAYLIGHT
BEGIN:STANDARD
TZOFFSETFROM:+0200
TZOFFSETTO:+0100
TZNAME:CET
DTSTART:20231029T010000
END:STANDARD
END:VTIMEZONE
BEGIN:VEVENT
DTSTART;TZID=Europe/Amsterdam:20230622T093000
DTEND;TZID=Europe/Amsterdam:20230622T113000
DTSTAMP:20260424T030134
CREATED:20230609T085637Z
LAST-MODIFIED:20230609T090355Z
UID:19463-1687426200-1687433400@www.spe-amsterdam.nl
SUMMARY:Training Vrouwenambassadeur
DESCRIPTION:Stichting Prachtvrouw biedt empowerment trainingen aan waarin ze vrouwen opleiden tot vrouwenambassadeur. De trainingen focussen zich op storytelling en communicatievaardigheden. \nTijdens deze training: \n\nkan je aan de slag als ambassadeur om vrouwen enthousiast te maken om mee te doen aan cursussen en trainingen bij vrouwenorganisaties in Amsterdam\nweet je hoeveel je ervan leert en hoe leuk het is!\nvertel je je verhaal\, of leer je workshop geven om andere vrouwen te inspireren\nDoe dit allen met een groep inspirerende vrouwen!\n\nDeze training vind ook plaats op 29 juni\, 6 en 13 juli. \nMeld je aan bij Stella Meulenbelt: 06-23794574 of Habiba Bouanan: 06-15419399
URL:https://www.spe-amsterdam.nl/event/training-vrouwenambassadeur/
LOCATION:prachtvrouw\, Dapperplein 84\, Amsterdam\, 1093GS
ATTACH;FMTTYPE=image/jpeg:https://www.spe-amsterdam.nl/wp-content/uploads/2023/06/8D707CB5-0EF0-44C1-896A-A87B3ACF95DE.jpeg
END:VEVENT
END:VCALENDAR