BEGIN:VCALENDAR
VERSION:2.0
PRODID:-//SPE-Amsterdam - ECPv6.1.3//NONSGML v1.0//EN
CALSCALE:GREGORIAN
METHOD:PUBLISH
X-WR-CALNAME:SPE-Amsterdam
X-ORIGINAL-URL:https://www.spe-amsterdam.nl
X-WR-CALDESC:Evenementen voor SPE-Amsterdam
REFRESH-INTERVAL;VALUE=DURATION:PT1H
X-Robots-Tag:noindex
X-PUBLISHED-TTL:PT1H
BEGIN:VTIMEZONE
TZID:Europe/Amsterdam
BEGIN:DAYLIGHT
TZOFFSETFROM:+0100
TZOFFSETTO:+0200
TZNAME:CEST
DTSTART:20230326T010000
END:DAYLIGHT
BEGIN:STANDARD
TZOFFSETFROM:+0200
TZOFFSETTO:+0100
TZNAME:CET
DTSTART:20231029T010000
END:STANDARD
END:VTIMEZONE
BEGIN:VEVENT
DTSTART;TZID=Europe/Amsterdam:20230618T080000
DTEND;TZID=Europe/Amsterdam:20230618T170000
DTSTAMP:20260424T030138
CREATED:20230510T144556Z
LAST-MODIFIED:20230510T144556Z
UID:19390-1687075200-1687107600@www.spe-amsterdam.nl
SUMMARY:Kennis- en debatavond wat voor man wil jij zijn?
DESCRIPTION:In het kader van Vaderdag 2023 – op zondag 18 juni – en naar aanleiding van de publicatie van het boek ‘Wat voor man wil jij zijn?’ organiseren Tivoli\, Emancipator en Uitgeverij Atlas Contact op vrijdagavond 16 juni een kennis- en debatavond over precies die vraag: Wat voor man wil jij zijn? En ook: wat voor mannen willen we graag zien in de wereld? \nMet natuurlijk een lezing van auteur Jens van Tricht\, een kleinkunstenaar en een woordkunstenaar\, en een interessant panelgesprek. Snel meer informatie\, zet ‘m alvast in je agenda! \n 
URL:https://www.spe-amsterdam.nl/event/kennis-en-debatavond-wat-voor-man-wil-jij-zijn/
LOCATION:tivoli vredenburg\, Vlaamse Toren 7\, Utrecht\, 3511 WB
END:VEVENT
END:VCALENDAR