BEGIN:VCALENDAR
VERSION:2.0
PRODID:-//SPE-Amsterdam - ECPv6.1.3//NONSGML v1.0//EN
CALSCALE:GREGORIAN
METHOD:PUBLISH
X-WR-CALNAME:SPE-Amsterdam
X-ORIGINAL-URL:https://www.spe-amsterdam.nl
X-WR-CALDESC:Evenementen voor SPE-Amsterdam
REFRESH-INTERVAL;VALUE=DURATION:PT1H
X-Robots-Tag:noindex
X-PUBLISHED-TTL:PT1H
BEGIN:VTIMEZONE
TZID:Europe/Amsterdam
BEGIN:DAYLIGHT
TZOFFSETFROM:+0100
TZOFFSETTO:+0200
TZNAME:CEST
DTSTART:20230326T010000
END:DAYLIGHT
BEGIN:STANDARD
TZOFFSETFROM:+0200
TZOFFSETTO:+0100
TZNAME:CET
DTSTART:20231029T010000
END:STANDARD
END:VTIMEZONE
BEGIN:VEVENT
DTSTART;TZID=Europe/Amsterdam:20230615T093000
DTEND;TZID=Europe/Amsterdam:20230615T113000
DTSTAMP:20260424T030137
CREATED:20230512T135509Z
LAST-MODIFIED:20230512T135509Z
UID:19407-1686821400-1686828600@www.spe-amsterdam.nl
SUMMARY:Sollicitatietraining Amsterdam Noord
DESCRIPTION:Ben je opzoek naar werk? Of raak je binnenkort je baan kwijt? Wil jij weten hoe het sollicitatieproces van A tot Z gaat? Meld je dan aan voor de cursus Solliciteren met 6 bijeenkomsten in Noord! \nIn deze cursus leer je: \n\nWat je wilt\, kunt en zoekt\nHoe en waar je passende vacatures vindt\nCv maken en/of te verbeteren\nSollicitatie-/motivatiebrief schrijven\nHoe je jezelf goed presenteert in een sollicitatiegesprek\n\nKosten\nDeelname is gratis \nWanneer\nDonderdag 11 en 25 mei\, 1\, 8\, 15 en 22 juni.\nVan 09.30-11.30 uur. \nWaar?\nParticipatiecentrum Eva & Adam\, Havikslaan 22\, Amsterdam Noord \nAanmelden / meer informatie\nYumila de Freitas\, email: info@yuenmi.nl \nDe cursus wordt georganiseerd door Yu & Mi en Digi-en Taal Participatiecentrum Eva & Adam.
URL:https://www.spe-amsterdam.nl/event/sollicitatietraining-amsterdam-noord/
LOCATION:eVa & adaM participatiecentrum Amsterdam Noord\, Havikslaan 22\, Amsterdam\, Noord-Holland\, Nederland
END:VEVENT
BEGIN:VEVENT
DTSTART;TZID=Europe/Amsterdam:20230615T153000
DTEND;TZID=Europe/Amsterdam:20230615T230000
DTSTAMP:20260424T030137
CREATED:20230531T131231Z
LAST-MODIFIED:20230531T131231Z
UID:19447-1686843000-1686870000@www.spe-amsterdam.nl
SUMMARY:ELANCE academy Eindfestival
DESCRIPTION:ELANCE academy nodigt je graag uit voor het ELANCE Academy Eindfestival in Amsterdam\, een moment om samen terug te blikken op het afgelopen jaar\, te netwerken\, te genieten van een hapje en een gezellige borrel! \nDatum: 15 juni 2023 \nTijd: Inloop vanaf 15:30 uur \nLocatie: Buurtwerkplaats Noorderhof\, President Allendelaan 23
URL:https://www.spe-amsterdam.nl/event/elance-academy-eindfestival/
LOCATION:buurtwerkplaats Noorderhof\, President Allendelaan 23\, Amsterdam
ATTACH;FMTTYPE=image/jpeg:https://www.spe-amsterdam.nl/wp-content/uploads/2023/05/elance.jpg
ORGANIZER;CN="Elance%20Academy":MAILTO:info@elanceacademy.nl
END:VEVENT
END:VCALENDAR